BEGIN:VCALENDAR
VERSION:2.0
PRODID:-//Hyperlien - fablab à Nantes - ECPv6.15.20//NONSGML v1.0//EN
CALSCALE:GREGORIAN
METHOD:PUBLISH
X-WR-CALNAME:Hyperlien - fablab à Nantes
X-ORIGINAL-URL:https://hyperlien.net
X-WR-CALDESC:Évènements pour Hyperlien - fablab à Nantes
REFRESH-INTERVAL;VALUE=DURATION:PT1H
X-Robots-Tag:noindex
X-PUBLISHED-TTL:PT1H
BEGIN:VTIMEZONE
TZID:Europe/Paris
BEGIN:DAYLIGHT
TZOFFSETFROM:+0100
TZOFFSETTO:+0200
TZNAME:CEST
DTSTART:20250330T010000
END:DAYLIGHT
BEGIN:STANDARD
TZOFFSETFROM:+0200
TZOFFSETTO:+0100
TZNAME:CET
DTSTART:20251026T010000
END:STANDARD
BEGIN:DAYLIGHT
TZOFFSETFROM:+0100
TZOFFSETTO:+0200
TZNAME:CEST
DTSTART:20260329T010000
END:DAYLIGHT
BEGIN:STANDARD
TZOFFSETFROM:+0200
TZOFFSETTO:+0100
TZNAME:CET
DTSTART:20261025T010000
END:STANDARD
BEGIN:DAYLIGHT
TZOFFSETFROM:+0100
TZOFFSETTO:+0200
TZNAME:CEST
DTSTART:20270328T010000
END:DAYLIGHT
BEGIN:STANDARD
TZOFFSETFROM:+0200
TZOFFSETTO:+0100
TZNAME:CET
DTSTART:20271031T010000
END:STANDARD
END:VTIMEZONE
BEGIN:VEVENT
DTSTART;TZID=Europe/Paris:20260420T140000
DTEND;TZID=Europe/Paris:20260420T160000
DTSTAMP:20260420T015939
CREATED:20251202T140435Z
LAST-MODIFIED:20251202T140435Z
UID:4049-1776693600-1776700800@hyperlien.net
SUMMARY:Atelier conception 3D & programmation - niveau intermédiaire-avancé
DESCRIPTION:En groupe\, venez partager et créer des projets mettant en oeuvre des cartes programmables (Arduino\, ESP32…) et/ou de la conception 3D. Vous pouvez rejoindre un groupe autour d’un projet commun ou faire votre propre projet tout en échangeant avec les autres participant⋅es afin d’acquérir de nouvelles compétences mais aussi partager les vôtres. \nCe temps est géré collectivement par les participant⋅es et l’animation est bénévole. \nLundi 20 avril\, de 14h à 16h\nHyperlien\, Halles 1&2\, 5 allée Frida Kahlo\, 44 200 Nantes\nInscription gratuite via ce formulaire\nAccessible sur adhésion à PiNG \n 
URL:https://hyperlien.net/event/atelier-conception-3d-programmation-niveau-intermediaire-avance-avril26-2/
LOCATION:Hyperlien\, 5 allée Frida Kahlo\, Nantes\, 44 200
CATEGORIES:Atelier
ATTACH;FMTTYPE=image/jpeg:https://hyperlien.net/wp-content/uploads/2025/09/IMG_2624R-scaled.jpg
END:VEVENT
END:VCALENDAR