BEGIN:VCALENDAR
VERSION:2.0
PRODID:-//Hyperlien - fablab à Nantes - ECPv6.15.20//NONSGML v1.0//EN
CALSCALE:GREGORIAN
METHOD:PUBLISH
X-WR-CALNAME:Hyperlien - fablab à Nantes
X-ORIGINAL-URL:https://hyperlien.net
X-WR-CALDESC:Évènements pour Hyperlien - fablab à Nantes
REFRESH-INTERVAL;VALUE=DURATION:PT1H
X-Robots-Tag:noindex
X-PUBLISHED-TTL:PT1H
BEGIN:VTIMEZONE
TZID:Europe/Paris
BEGIN:DAYLIGHT
TZOFFSETFROM:+0100
TZOFFSETTO:+0200
TZNAME:CEST
DTSTART:20250330T010000
END:DAYLIGHT
BEGIN:STANDARD
TZOFFSETFROM:+0200
TZOFFSETTO:+0100
TZNAME:CET
DTSTART:20251026T010000
END:STANDARD
BEGIN:DAYLIGHT
TZOFFSETFROM:+0100
TZOFFSETTO:+0200
TZNAME:CEST
DTSTART:20260329T010000
END:DAYLIGHT
BEGIN:STANDARD
TZOFFSETFROM:+0200
TZOFFSETTO:+0100
TZNAME:CET
DTSTART:20261025T010000
END:STANDARD
BEGIN:DAYLIGHT
TZOFFSETFROM:+0100
TZOFFSETTO:+0200
TZNAME:CEST
DTSTART:20270328T010000
END:DAYLIGHT
BEGIN:STANDARD
TZOFFSETFROM:+0200
TZOFFSETTO:+0100
TZNAME:CET
DTSTART:20271031T010000
END:STANDARD
END:VTIMEZONE
BEGIN:VEVENT
DTSTART;TZID=Europe/Paris:20260209T140000
DTEND;TZID=Europe/Paris:20260209T160000
DTSTAMP:20260421T052620
CREATED:20251202T135955Z
LAST-MODIFIED:20251202T135955Z
UID:4058-1770645600-1770652800@hyperlien.net
SUMMARY:Atelier conception 3D & programmation - niveau intermédiaire-avancé
DESCRIPTION:En groupe\, venez partager et créer des projets mettant en oeuvre des cartes programmables (Arduino\, ESP32…) et/ou de la conception 3D. Vous pouvez rejoindre un groupe autour d’un projet commun ou faire votre propre projet tout en échangeant avec les autres participant⋅es afin d’acquérir de nouvelles compétences mais aussi partager les vôtres. \nCe temps est géré collectivement par les participant⋅es et l’animation est bénévole. \nLundi 9 février\, de 14h à 16h\nHyperlien\, Halles 1&2\, 5 allée Frida Kahlo\, 44 200 Nantes\nInscription gratuite via ce formulaire\nAccessible sur adhésion à PiNG \n 
URL:https://hyperlien.net/event/atelier-conception-3d-programmation-niveau-intermediaire-avance-fev26-2/
LOCATION:Hyperlien\, 5 allée Frida Kahlo\, Nantes\, 44 200
CATEGORIES:Atelier
ATTACH;FMTTYPE=image/jpeg:https://hyperlien.net/wp-content/uploads/2025/09/IMG_2624R-scaled.jpg
END:VEVENT
BEGIN:VEVENT
DTSTART;TZID=Europe/Paris:20260211T183000
DTEND;TZID=Europe/Paris:20260211T203000
DTSTAMP:20260421T052620
CREATED:20251203T125949Z
LAST-MODIFIED:20251203T125949Z
UID:4302-1770834600-1770841800@hyperlien.net
SUMMARY:Contribatelier
DESCRIPTION:Les Contribateliers sont des événements conviviaux ouverts à toutes et à tous\, quelles que soient vos envies et vos compétences\, pour pouvoir contribuer ensemble à la culture libre*. \n*Culture libre : La culture libre est un mouvement social qui promeut la libre distribution et modification des œuvres de l’esprit par l’utilisation d’internet et d’autres formes de médias. Le mouvement de la culture libre puise sa philosophie dans celle du logiciel libre en l’appliquant à la culture\, dans des domaines aussi variés que l’art\, l’éducation\, la science\, etc. \nGratuit\, pas d’inscription requise\nMercredi 11 février 2026\, de 18h30 à 20h30 à Hyperlien
URL:https://hyperlien.net/event/contribatelier-fev26/
LOCATION:Hyperlien\, 5 allée Frida Kahlo\, Nantes\, 44 200
CATEGORIES:Atelier
ATTACH;FMTTYPE=image/jpeg:https://hyperlien.net/wp-content/uploads/2025/12/EXTRhackT_79R.jpg
END:VEVENT
BEGIN:VEVENT
DTSTART;TZID=Europe/Paris:20260212T100000
DTEND;TZID=Europe/Paris:20260212T130000
DTSTAMP:20260421T052620
CREATED:20251202T152359Z
LAST-MODIFIED:20251202T152359Z
UID:4146-1770890400-1770901200@hyperlien.net
SUMMARY:L'Atelier des Hypernautes
DESCRIPTION:L’Atelier des Hypernautes\, qu’est-ce que c’est ? \nUn temps d’ouverture en autonomie du fablab ! L’atelier est encadré par un duo d’Hypernautes\, adhérent⋅es bénévoles de PiNG\, responsables du créneau\, formé⋅es à l’accueil et à la sécurité par PiNG. Le créneau est ouvert aux adhérent⋅es confirmé⋅es\, fréquentant déjà le fablab durant les OPENAteliers. On y vient pour travailler sur des machines dont on connaît a minima l’utilisation. \nLe créneau est ouvert uniquement si deux Hypernautes sont présent⋅es. Si vous ne voyez aucune date disponible dans le formulaire\, c’est que les responsables de créneau ne se sont pas encore inscrit⋅es ou que le créneau est complet. Revenez consulter prochainement ! \nInscription obligatoire via le formulaire\, jusqu’à midi la veille du créneau.\nJauge maximum de 10 personnes\nJeudi 12 février\, de 10h à 13h\, à Hyperlien
URL:https://hyperlien.net/event/latelier-des-hypernautes-fev26-4/
LOCATION:Hyperlien\, 5 allée Frida Kahlo\, Nantes\, 44 200
CATEGORIES:Atelier
ATTACH;FMTTYPE=image/png:https://hyperlien.net/wp-content/uploads/2025/07/image1-6.png
END:VEVENT
BEGIN:VEVENT
DTSTART;TZID=Europe/Paris:20260212T140000
DTEND;TZID=Europe/Paris:20260212T180000
DTSTAMP:20260421T052620
CREATED:20251203T123328Z
LAST-MODIFIED:20251203T123328Z
UID:4239-1770904800-1770919200@hyperlien.net
SUMMARY:Atelier du Humanlab
DESCRIPTION:Le Humanlab accueille chaque jeudi bénévoles et bénéficiaires à Hyperlien pour réfléchir et concevoir ensemble des aides techniques avec et pour les personnes en situation de handicap. Venez participer à ce temps dédié : de la conception à la fabrication de dispositifs pour améliorer le quotidien de personnes en situation de handicap. Toutes les compétences sont les bienvenues : textile\, modélisation et impression 3D\, conception mécanique\, etc. \n\nDécouvrez les créations réalisées au sein du Humanlab.\nVous êtes en situation de handicap et souhaitez proposer un projet\, remplissez le formulaire !\nVous souhaitez devenir bénévole ? Vous pouvez venir chaque jeudi à partir de 14h et/ou remplir le formulaire de bénévolat.\n\nJeudi 12 février 2026\, de 14h à 18h\nHyperlien\, Halles 1&2\, 5 allée Frida Kahlo\, 44 200 Nantes
URL:https://hyperlien.net/event/atelier-du-humanlab-fev26-2/
LOCATION:Hyperlien\, 5 allée Frida Kahlo\, Nantes\, 44 200
CATEGORIES:Atelier
ATTACH;FMTTYPE=image/jpeg:https://hyperlien.net/wp-content/uploads/2025/09/Humanlab-reunionR.jpeg
END:VEVENT
BEGIN:VEVENT
DTSTART;TZID=Europe/Paris:20260212T140000
DTEND;TZID=Europe/Paris:20260212T190000
DTSTAMP:20260421T052620
CREATED:20251202T142041Z
LAST-MODIFIED:20260106T100617Z
UID:4094-1770904800-1770922800@hyperlien.net
SUMMARY:OPENAtelier de PiNG
DESCRIPTION:Cœur de l’activité de PiNG\, les OPENateliers sont des temps d’échange et de pratique où les adhérent·es\, encadré·es et conseillé·es par les animateurs·rices\, sont les bienvenu·es pour travailler\, créer\, réparer\, créer ou bricoler avec les équipements mis à disposition. \nAvec ou sans inspiration\, libre à vous de vous installer dans le fablab d’Hyperlien\, de vous familiariser avec les machines à commande numérique et de rencontrer les adhérent⋅es ! \nPour découvrir les machines et équipements disponibles\, cliquez ici. \nJeudi 12 février 2026\, de 14h à 19h à Hyperlien\nAccessible sur adhésion à PiNG
URL:https://hyperlien.net/event/openatelier-de-ping-fev26-2/
LOCATION:Hyperlien\, 5 allée Frida Kahlo\, Nantes\, 44 200
CATEGORIES:Atelier
ATTACH;FMTTYPE=image/jpeg:https://hyperlien.net/wp-content/uploads/2025/09/IMG_3738low.jpg
END:VEVENT
BEGIN:VEVENT
DTSTART;TZID=Europe/Paris:20260216T140000
DTEND;TZID=Europe/Paris:20260216T160000
DTSTAMP:20260421T052620
CREATED:20251202T140053Z
LAST-MODIFIED:20251202T140053Z
UID:4057-1771250400-1771257600@hyperlien.net
SUMMARY:Atelier conception 3D & programmation - niveau intermédiaire-avancé
DESCRIPTION:En groupe\, venez partager et créer des projets mettant en oeuvre des cartes programmables (Arduino\, ESP32…) et/ou de la conception 3D. Vous pouvez rejoindre un groupe autour d’un projet commun ou faire votre propre projet tout en échangeant avec les autres participant⋅es afin d’acquérir de nouvelles compétences mais aussi partager les vôtres. \nCe temps est géré collectivement par les participant⋅es et l’animation est bénévole. \nLundi 16 février\, de 14h à 16h\nHyperlien\, Halles 1&2\, 5 allée Frida Kahlo\, 44 200 Nantes\nInscription gratuite via ce formulaire\nAccessible sur adhésion à PiNG \n 
URL:https://hyperlien.net/event/atelier-conception-3d-programmation-niveau-intermediaire-avance-fev26-3/
LOCATION:Hyperlien\, 5 allée Frida Kahlo\, Nantes\, 44 200
CATEGORIES:Atelier
ATTACH;FMTTYPE=image/jpeg:https://hyperlien.net/wp-content/uploads/2025/09/IMG_2624R-scaled.jpg
END:VEVENT
BEGIN:VEVENT
DTSTART;TZID=Europe/Paris:20260217T140000
DTEND;TZID=Europe/Paris:20260217T180000
DTSTAMP:20260421T052620
CREATED:20251202T161616Z
LAST-MODIFIED:20251202T161616Z
UID:4219-1771336800-1771351200@hyperlien.net
SUMMARY:L'Atelier des Hypernautes
DESCRIPTION:L’Atelier des Hypernautes\, qu’est-ce que c’est ? \nUn temps d’ouverture en autonomie du fablab ! L’atelier est encadré par un duo d’Hypernautes\, adhérent⋅es bénévoles de PiNG\, responsables du créneau\, formé⋅es à l’accueil et à la sécurité par PiNG. Le créneau est ouvert aux adhérent⋅es confirmé⋅es\, fréquentant déjà le fablab durant les OPENAteliers. On y vient pour travailler sur des machines dont on connaît a minima l’utilisation. \nLe créneau est ouvert uniquement si deux Hypernautes sont présent⋅es. Si vous ne voyez aucune date disponible dans le formulaire\, c’est que les responsables de créneau ne se sont pas encore inscrit⋅es ou que le créneau est complet. Revenez consulter prochainement ! \nInscription obligatoire via le formulaire\, jusqu’à midi la veille du créneau.\nMardi 17 février 2026\, de 14h à 18h\, à Hyperlien
URL:https://hyperlien.net/event/latelier-des-hypernautes-fev26-4-2/
LOCATION:Hyperlien\, 5 allée Frida Kahlo\, Nantes\, 44 200
CATEGORIES:Atelier
ATTACH;FMTTYPE=image/png:https://hyperlien.net/wp-content/uploads/2025/07/image1-6.png
END:VEVENT
BEGIN:VEVENT
DTSTART;TZID=Europe/Paris:20260217T143000
DTEND;TZID=Europe/Paris:20260217T180000
DTSTAMP:20260421T052620
CREATED:20251203T140316Z
LAST-MODIFIED:20251203T140316Z
UID:4328-1771338600-1771351200@hyperlien.net
SUMMARY:ARKHE - Atelier de recherche-création sonore
DESCRIPTION:Un ARC est un atelier de recherche-création proposé habituellement dans les écoles d’art sur un temps long\, un semestre\, avec des rendez-vous hebdomadaires autour d’une thématique\, d’une pratique ou d’un axe de recherche commun. \nPiNG poursuit les ARKHE\, Atelier de Recherche et Création à HyperliEn\, sur la thématique du son\, lancés à l’automne 2025. Après avoir exploré la matérialité du son et la fabrication du son sans machine\, les ateliers proposeront des temps de prises de sons\, montage et écoute des productions individuelles et collectives pour ce deuxième semestre. \nMardi 17 février\, de 14h30 à 18h\, à Hyperlien\nAccessible sur adhésion à l’association\nGratuit sur inscription via ce formulaire \n 
URL:https://hyperlien.net/event/arkhe-atelier-de-recherche-creation-sonore-fev26-2/
LOCATION:Hyperlien\, 5 allée Frida Kahlo\, Nantes\, 44 200
CATEGORIES:Atelier
ATTACH;FMTTYPE=image/webp:https://hyperlien.net/wp-content/uploads/2025/03/Arts_Hybrides_son.webp
END:VEVENT
BEGIN:VEVENT
DTSTART;TZID=Europe/Paris:20260219T100000
DTEND;TZID=Europe/Paris:20260219T130000
DTSTAMP:20260421T052620
CREATED:20251202T152420Z
LAST-MODIFIED:20251202T152420Z
UID:4145-1771495200-1771506000@hyperlien.net
SUMMARY:L'Atelier des Hypernautes
DESCRIPTION:L’Atelier des Hypernautes\, qu’est-ce que c’est ? \nUn temps d’ouverture en autonomie du fablab ! L’atelier est encadré par un duo d’Hypernautes\, adhérent⋅es bénévoles de PiNG\, responsables du créneau\, formé⋅es à l’accueil et à la sécurité par PiNG. Le créneau est ouvert aux adhérent⋅es confirmé⋅es\, fréquentant déjà le fablab durant les OPENAteliers. On y vient pour travailler sur des machines dont on connaît a minima l’utilisation. \nLe créneau est ouvert uniquement si deux Hypernautes sont présent⋅es. Si vous ne voyez aucune date disponible dans le formulaire\, c’est que les responsables de créneau ne se sont pas encore inscrit⋅es ou que le créneau est complet. Revenez consulter prochainement ! \nInscription obligatoire via le formulaire\, jusqu’à midi la veille du créneau.\nJauge maximum de 10 personnes\nJeudi 19 février\, de 10h à 13h\, à Hyperlien
URL:https://hyperlien.net/event/latelier-des-hypernautes-fev26-6/
LOCATION:Hyperlien\, 5 allée Frida Kahlo\, Nantes\, 44 200
CATEGORIES:Atelier
ATTACH;FMTTYPE=image/png:https://hyperlien.net/wp-content/uploads/2025/07/image1-6.png
END:VEVENT
BEGIN:VEVENT
DTSTART;TZID=Europe/Paris:20260219T140000
DTEND;TZID=Europe/Paris:20260219T180000
DTSTAMP:20260421T052620
CREATED:20251203T123352Z
LAST-MODIFIED:20251203T123352Z
UID:4238-1771509600-1771524000@hyperlien.net
SUMMARY:Atelier du Humanlab
DESCRIPTION:Le Humanlab accueille chaque jeudi bénévoles et bénéficiaires à Hyperlien pour réfléchir et concevoir ensemble des aides techniques avec et pour les personnes en situation de handicap. Venez participer à ce temps dédié : de la conception à la fabrication de dispositifs pour améliorer le quotidien de personnes en situation de handicap. Toutes les compétences sont les bienvenues : textile\, modélisation et impression 3D\, conception mécanique\, etc. \n\nDécouvrez les créations réalisées au sein du Humanlab.\nVous êtes en situation de handicap et souhaitez proposer un projet\, remplissez le formulaire !\nVous souhaitez devenir bénévole ? Vous pouvez venir chaque jeudi à partir de 14h et/ou remplir le formulaire de bénévolat.\n\nJeudi 19 février 2026\, de 14h à 18h\nHyperlien\, Halles 1&2\, 5 allée Frida Kahlo\, 44 200 Nantes
URL:https://hyperlien.net/event/atelier-du-humanlab-fev26-3/
LOCATION:Hyperlien\, 5 allée Frida Kahlo\, Nantes\, 44 200
CATEGORIES:Atelier
ATTACH;FMTTYPE=image/jpeg:https://hyperlien.net/wp-content/uploads/2025/09/Humanlab-reunionR.jpeg
END:VEVENT
BEGIN:VEVENT
DTSTART;TZID=Europe/Paris:20260219T140000
DTEND;TZID=Europe/Paris:20260219T190000
DTSTAMP:20260421T052620
CREATED:20251202T142106Z
LAST-MODIFIED:20260106T100611Z
UID:4093-1771509600-1771527600@hyperlien.net
SUMMARY:OPENAtelier de PiNG
DESCRIPTION:Cœur de l’activité de PiNG\, les OPENateliers sont des temps d’échange et de pratique où les adhérent·es\, encadré·es et conseillé·es par les animateurs·rices\, sont les bienvenu·es pour travailler\, créer\, réparer\, créer ou bricoler avec les équipements mis à disposition. \nAvec ou sans inspiration\, libre à vous de vous installer dans le fablab d’Hyperlien\, de vous familiariser avec les machines à commande numérique et de rencontrer les adhérent⋅es ! \nPour découvrir les machines et équipements disponibles\, cliquez ici. \nJeudi 19 février 2026\, de 14h à 19h à Hyperlien\nAccessible sur adhésion à PiNG
URL:https://hyperlien.net/event/openatelier-de-ping-fev26-3/
LOCATION:Hyperlien\, 5 allée Frida Kahlo\, Nantes\, 44 200
CATEGORIES:Atelier
ATTACH;FMTTYPE=image/jpeg:https://hyperlien.net/wp-content/uploads/2025/09/IMG_3738low.jpg
END:VEVENT
BEGIN:VEVENT
DTSTART;TZID=Europe/Paris:20260223T140000
DTEND;TZID=Europe/Paris:20260223T160000
DTSTAMP:20260421T052620
CREATED:20251202T140117Z
LAST-MODIFIED:20251202T140117Z
UID:4056-1771855200-1771862400@hyperlien.net
SUMMARY:Atelier conception 3D & programmation - niveau intermédiaire-avancé
DESCRIPTION:En groupe\, venez partager et créer des projets mettant en oeuvre des cartes programmables (Arduino\, ESP32…) et/ou de la conception 3D. Vous pouvez rejoindre un groupe autour d’un projet commun ou faire votre propre projet tout en échangeant avec les autres participant⋅es afin d’acquérir de nouvelles compétences mais aussi partager les vôtres. \nCe temps est géré collectivement par les participant⋅es et l’animation est bénévole. \nLundi 23 février\, de 14h à 16h\nHyperlien\, Halles 1&2\, 5 allée Frida Kahlo\, 44 200 Nantes\nInscription gratuite via ce formulaire\nAccessible sur adhésion à PiNG \n 
URL:https://hyperlien.net/event/atelier-conception-3d-programmation-niveau-intermediaire-avance-fev26-4/
LOCATION:Hyperlien\, 5 allée Frida Kahlo\, Nantes\, 44 200
CATEGORIES:Atelier
ATTACH;FMTTYPE=image/jpeg:https://hyperlien.net/wp-content/uploads/2025/09/IMG_2624R-scaled.jpg
END:VEVENT
BEGIN:VEVENT
DTSTART;TZID=Europe/Paris:20260224T140000
DTEND;TZID=Europe/Paris:20260224T180000
DTSTAMP:20260421T052620
CREATED:20251202T154202Z
LAST-MODIFIED:20251202T154202Z
UID:4200-1771941600-1771956000@hyperlien.net
SUMMARY:L'Atelier des Hypernautes
DESCRIPTION:L’Atelier des Hypernautes\, qu’est-ce que c’est ? \nUn temps d’ouverture en autonomie du fablab ! L’atelier est encadré par un duo d’Hypernautes\, adhérent⋅es bénévoles de PiNG\, responsables du créneau\, formé⋅es à l’accueil et à la sécurité par PiNG. Le créneau est ouvert aux adhérent⋅es confirmé⋅es\, fréquentant déjà le fablab durant les OPENAteliers. On y vient pour travailler sur des machines dont on connaît a minima l’utilisation. \nLe créneau est ouvert uniquement si deux Hypernautes sont présent⋅es. Si vous ne voyez aucune date disponible dans le formulaire\, c’est que les responsables de créneau ne se sont pas encore inscrit⋅es ou que le créneau est complet. Revenez consulter prochainement ! \nInscription obligatoire via le formulaire\, jusqu’à midi la veille du créneau.\nMardi 24 février 2026\, de 14h à 18h\, à Hyperlien
URL:https://hyperlien.net/event/latelier-des-hypernautes-fev26-6-2/
LOCATION:Hyperlien\, 5 allée Frida Kahlo\, Nantes\, 44 200
CATEGORIES:Atelier
ATTACH;FMTTYPE=image/png:https://hyperlien.net/wp-content/uploads/2025/07/image1-6.png
END:VEVENT
BEGIN:VEVENT
DTSTART;TZID=Europe/Paris:20260224T183000
DTEND;TZID=Europe/Paris:20260224T203000
DTSTAMP:20260421T052620
CREATED:20251210T131421Z
LAST-MODIFIED:20251211T104156Z
UID:4400-1771957800-1771965000@hyperlien.net
SUMMARY:Hyper Code !
DESCRIPTION:Plongez dans l’univers du live coding avec Irvin Zouré\, de Low Riders ! \nCet événement propose une expérience immersive où la programmation devient un outil créatif au service de la musique et de l’expression artistique.  Le temps d’un atelier d’initiation\, découvrez les bases du live coding et créez votre propre performance musicale en utilisant des outils accessibles comme Strudel ou Hydra.\nQue vous soyez curieux⋅se\, passionné⋅e de musique ou intéressé⋅e par la programmation créative\, cet événement est une invitation à explorer de nouvelles formes d’expression numérique et ainsi contribuer à l’émergence d’un laboratoire d’expérimentation collectif vidéo et sonore. \nEntrée libre\nMardi 24 février 2026\, de 18h30 à 20h30\nHyperlien\, Halles 1&2\, 5 allée Frida Kahlo\, 44 200 Nantes
URL:https://hyperlien.net/event/hyper-code-fev26/
LOCATION:Hyperlien\, 5 allée Frida Kahlo\, Nantes\, 44 200
CATEGORIES:Atelier,Soirée
ATTACH;FMTTYPE=image/jpeg:https://hyperlien.net/wp-content/uploads/2025/07/Live-coding-Nananouiller.jpg
END:VEVENT
BEGIN:VEVENT
DTSTART;TZID=Europe/Paris:20260225T150000
DTEND;TZID=Europe/Paris:20260225T170000
DTSTAMP:20260421T052620
CREATED:20250801T090029Z
LAST-MODIFIED:20250801T090113Z
UID:3656-1772031600-1772038800@hyperlien.net
SUMMARY:Game Changers
DESCRIPTION:Un mercredi par mois\, l’équipe du Humanlab de l’APAJH 44 anime un atelier de jeux vidéo avec à la fois des manettes conçues et adaptées pour les personnes en situation de handicap et des manettes classiques. Cet atelier ouvert à tous⋅tes permet de créer du lien et jouer ensemble sur un large choix de jeux vidéos. 🎮 \nEntrée libre\nMercredi 25 février\, de 15h à 17h\nHyperlien\, Halles 1&2\, 5 allée Frida Kahlo\, 44 200 Nantes
URL:https://hyperlien.net/event/game-changers-fevrier26/
LOCATION:Hyperlien\, 5 allée Frida Kahlo\, Nantes\, 44 200
CATEGORIES:Atelier
ATTACH;FMTTYPE=image/jpeg:https://hyperlien.net/wp-content/uploads/2025/01/IMG_2656R-scaled.jpg
END:VEVENT
BEGIN:VEVENT
DTSTART;TZID=Europe/Paris:20260226T100000
DTEND;TZID=Europe/Paris:20260226T130000
DTSTAMP:20260421T052620
CREATED:20251202T152613Z
LAST-MODIFIED:20251202T152613Z
UID:4144-1772100000-1772110800@hyperlien.net
SUMMARY:L'Atelier des Hypernautes
DESCRIPTION:L’Atelier des Hypernautes\, qu’est-ce que c’est ? \nUn temps d’ouverture en autonomie du fablab ! L’atelier est encadré par un duo d’Hypernautes\, adhérent⋅es bénévoles de PiNG\, responsables du créneau\, formé⋅es à l’accueil et à la sécurité par PiNG. Le créneau est ouvert aux adhérent⋅es confirmé⋅es\, fréquentant déjà le fablab durant les OPENAteliers. On y vient pour travailler sur des machines dont on connaît a minima l’utilisation. \nLe créneau est ouvert uniquement si deux Hypernautes sont présent⋅es. Si vous ne voyez aucune date disponible dans le formulaire\, c’est que les responsables de créneau ne se sont pas encore inscrit⋅es ou que le créneau est complet. Revenez consulter prochainement ! \nInscription obligatoire via le formulaire\, jusqu’à midi la veille du créneau.\nJauge maximum de 10 personnes\nJeudi 26 février 2026\, de 10h à 13h\, à Hyperlien
URL:https://hyperlien.net/event/latelier-des-hypernautes-fev26-8/
LOCATION:Hyperlien\, 5 allée Frida Kahlo\, Nantes\, 44 200
CATEGORIES:Atelier
ATTACH;FMTTYPE=image/png:https://hyperlien.net/wp-content/uploads/2025/07/image1-6.png
END:VEVENT
BEGIN:VEVENT
DTSTART;TZID=Europe/Paris:20260226T140000
DTEND;TZID=Europe/Paris:20260226T180000
DTSTAMP:20260421T052620
CREATED:20251203T123416Z
LAST-MODIFIED:20251203T123416Z
UID:4237-1772114400-1772128800@hyperlien.net
SUMMARY:Atelier du Humanlab
DESCRIPTION:Le Humanlab accueille chaque jeudi bénévoles et bénéficiaires à Hyperlien pour réfléchir et concevoir ensemble des aides techniques avec et pour les personnes en situation de handicap. Venez participer à ce temps dédié : de la conception à la fabrication de dispositifs pour améliorer le quotidien de personnes en situation de handicap. Toutes les compétences sont les bienvenues : textile\, modélisation et impression 3D\, conception mécanique\, etc. \n\nDécouvrez les créations réalisées au sein du Humanlab.\nVous êtes en situation de handicap et souhaitez proposer un projet\, remplissez le formulaire !\nVous souhaitez devenir bénévole ? Vous pouvez venir chaque jeudi à partir de 14h et/ou remplir le formulaire de bénévolat.\n\nJeudi 26 février 2026\, de 14h à 18h\nHyperlien\, Halles 1&2\, 5 allée Frida Kahlo\, 44 200 Nantes
URL:https://hyperlien.net/event/atelier-du-humanlab-fev26-4/
LOCATION:Hyperlien\, 5 allée Frida Kahlo\, Nantes\, 44 200
CATEGORIES:Atelier
ATTACH;FMTTYPE=image/jpeg:https://hyperlien.net/wp-content/uploads/2025/09/Humanlab-reunionR.jpeg
END:VEVENT
BEGIN:VEVENT
DTSTART;TZID=Europe/Paris:20260226T140000
DTEND;TZID=Europe/Paris:20260226T190000
DTSTAMP:20260421T052620
CREATED:20251202T142127Z
LAST-MODIFIED:20260106T100607Z
UID:4092-1772114400-1772132400@hyperlien.net
SUMMARY:OPENAtelier de PiNG
DESCRIPTION:Cœur de l’activité de PiNG\, les OPENateliers sont des temps d’échange et de pratique où les adhérent·es\, encadré·es et conseillé·es par les animateurs·rices\, sont les bienvenu·es pour travailler\, créer\, réparer\, créer ou bricoler avec les équipements mis à disposition. \nAvec ou sans inspiration\, libre à vous de vous installer dans le fablab d’Hyperlien\, de vous familiariser avec les machines à commande numérique et de rencontrer les adhérent⋅es ! \nPour découvrir les machines et équipements disponibles\, cliquez ici. \nJeudi 26 février\, de 14h à 19h à Hyperlien\nAccessible sur adhésion à PiNG
URL:https://hyperlien.net/event/openatelier-de-ping-fev26-4/
LOCATION:Hyperlien\, 5 allée Frida Kahlo\, Nantes\, 44 200
CATEGORIES:Atelier
ATTACH;FMTTYPE=image/jpeg:https://hyperlien.net/wp-content/uploads/2025/09/IMG_3738low.jpg
END:VEVENT
END:VCALENDAR