BEGIN:VCALENDAR
VERSION:2.0
PRODID:-//Hyperlien - fablab à Nantes - ECPv6.15.20//NONSGML v1.0//EN
CALSCALE:GREGORIAN
METHOD:PUBLISH
X-WR-CALNAME:Hyperlien - fablab à Nantes
X-ORIGINAL-URL:https://hyperlien.net
X-WR-CALDESC:Évènements pour Hyperlien - fablab à Nantes
REFRESH-INTERVAL;VALUE=DURATION:PT1H
X-Robots-Tag:noindex
X-PUBLISHED-TTL:PT1H
BEGIN:VTIMEZONE
TZID:Europe/Paris
BEGIN:DAYLIGHT
TZOFFSETFROM:+0100
TZOFFSETTO:+0200
TZNAME:CEST
DTSTART:20250330T010000
END:DAYLIGHT
BEGIN:STANDARD
TZOFFSETFROM:+0200
TZOFFSETTO:+0100
TZNAME:CET
DTSTART:20251026T010000
END:STANDARD
BEGIN:DAYLIGHT
TZOFFSETFROM:+0100
TZOFFSETTO:+0200
TZNAME:CEST
DTSTART:20260329T010000
END:DAYLIGHT
BEGIN:STANDARD
TZOFFSETFROM:+0200
TZOFFSETTO:+0100
TZNAME:CET
DTSTART:20261025T010000
END:STANDARD
BEGIN:DAYLIGHT
TZOFFSETFROM:+0100
TZOFFSETTO:+0200
TZNAME:CEST
DTSTART:20270328T010000
END:DAYLIGHT
BEGIN:STANDARD
TZOFFSETFROM:+0200
TZOFFSETTO:+0100
TZNAME:CET
DTSTART:20271031T010000
END:STANDARD
END:VTIMEZONE
BEGIN:VEVENT
DTSTART;TZID=Europe/Paris:20260601T140000
DTEND;TZID=Europe/Paris:20260601T160000
DTSTAMP:20260421T052449
CREATED:20251202T141129Z
LAST-MODIFIED:20251202T141129Z
UID:4044-1780322400-1780329600@hyperlien.net
SUMMARY:Atelier conception 3D & programmation - niveau intermédiaire-avancé
DESCRIPTION:En groupe\, venez partager et créer des projets mettant en oeuvre des cartes programmables (Arduino\, ESP32…) et/ou de la conception 3D. Vous pouvez rejoindre un groupe autour d’un projet commun ou faire votre propre projet tout en échangeant avec les autres participant⋅es afin d’acquérir de nouvelles compétences mais aussi partager les vôtres. \nCe temps est géré collectivement par les participant⋅es et l’animation est bénévole. \nLundi 1 juin\, de 14h à 16h\nHyperlien\, Halles 1&2\, 5 allée Frida Kahlo\, 44 200 Nantes\nInscription gratuite via ce formulaire\nAccessible sur adhésion à PiNG \n 
URL:https://hyperlien.net/event/atelier-conception-3d-programmation-niveau-intermediaire-avance-juin26-1/
LOCATION:Hyperlien\, 5 allée Frida Kahlo\, Nantes\, 44 200
CATEGORIES:Atelier
ATTACH;FMTTYPE=image/jpeg:https://hyperlien.net/wp-content/uploads/2025/09/IMG_2624R-scaled.jpg
END:VEVENT
BEGIN:VEVENT
DTSTART;TZID=Europe/Paris:20260604T100000
DTEND;TZID=Europe/Paris:20260604T130000
DTSTAMP:20260421T052449
CREATED:20251202T153329Z
LAST-MODIFIED:20251202T153329Z
UID:4132-1780567200-1780578000@hyperlien.net
SUMMARY:L'Atelier des Hypernautes
DESCRIPTION:L’Atelier des Hypernautes\, qu’est-ce que c’est ? \nUn temps d’ouverture en autonomie du fablab ! L’atelier est encadré par un duo d’Hypernautes\, adhérent⋅es bénévoles de PiNG\, responsables du créneau\, formé⋅es à l’accueil et à la sécurité par PiNG. Le créneau est ouvert aux adhérent⋅es confirmé⋅es\, fréquentant déjà le fablab durant les OPENAteliers. On y vient pour travailler sur des machines dont on connaît a minima l’utilisation. \nLe créneau est ouvert uniquement si deux Hypernautes sont présent⋅es. Si vous ne voyez aucune date disponible dans le formulaire\, c’est que les responsables de créneau ne se sont pas encore inscrit⋅es ou que le créneau est complet. Revenez consulter prochainement ! \nInscription obligatoire via le formulaire\, jusqu’à midi la veille du créneau.\nJauge maximum de 10 personnes\nJeudi 4 juin 2026\, de 10h à 13h\, à Hyperlien
URL:https://hyperlien.net/event/latelier-des-hypernautes-juin26-1/
LOCATION:Hyperlien\, 5 allée Frida Kahlo\, Nantes\, 44 200
CATEGORIES:Atelier
ATTACH;FMTTYPE=image/png:https://hyperlien.net/wp-content/uploads/2025/07/image1-6.png
END:VEVENT
BEGIN:VEVENT
DTSTART;TZID=Europe/Paris:20260604T140000
DTEND;TZID=Europe/Paris:20260604T180000
DTSTAMP:20260421T052449
CREATED:20251203T124220Z
LAST-MODIFIED:20251203T124220Z
UID:4262-1780581600-1780596000@hyperlien.net
SUMMARY:Atelier du Humanlab
DESCRIPTION:Le Humanlab accueille chaque jeudi bénévoles et bénéficiaires à Hyperlien pour réfléchir et concevoir ensemble des aides techniques avec et pour les personnes en situation de handicap. Venez participer à ce temps dédié : de la conception à la fabrication de dispositifs pour améliorer le quotidien de personnes en situation de handicap. Toutes les compétences sont les bienvenues : textile\, modélisation et impression 3D\, conception mécanique\, etc. \n\nDécouvrez les créations réalisées au sein du Humanlab.\nVous êtes en situation de handicap et souhaitez proposer un projet\, remplissez le formulaire !\nVous souhaitez devenir bénévole ? Vous pouvez venir chaque jeudi à partir de 14h et/ou remplir le formulaire de bénévolat.\n\nJeudi 4 juin 2026\, de 14h à 18h\nHyperlien\, Halles 1&2\, 5 allée Frida Kahlo\, 44 200 Nantes
URL:https://hyperlien.net/event/atelier-du-humanlab-juin26-1/
LOCATION:Hyperlien\, 5 allée Frida Kahlo\, Nantes\, 44 200
CATEGORIES:Atelier
ATTACH;FMTTYPE=image/jpeg:https://hyperlien.net/wp-content/uploads/2025/09/Humanlab-reunionR.jpeg
END:VEVENT
BEGIN:VEVENT
DTSTART;TZID=Europe/Paris:20260605T140000
DTEND;TZID=Europe/Paris:20260607T190000
DTSTAMP:20260421T052449
CREATED:20260407T153426Z
LAST-MODIFIED:20260420T075957Z
UID:4556-1780668000-1780858800@hyperlien.net
SUMMARY:OPENatelier spécial Nantes Maker Campus
DESCRIPTION:Cœur de l’activité de PiNG\, les OPENateliers sont des temps d’échange et de pratique libre où les adhérent·es\, conseillé·es par les animateurs·rices\, sont les bienvenu·es pour créer\, réparer\, bricoler avec les équipements mis à disposition. \nExceptionnellement à l’occasion de la 10e édition de Nantes Maker Campus\, venez créer\, bricoler\, réparer pendant 3 jours d’affilée à Hyperlien\,  \nLibre à vous de vous installer dans le fablab d’Hyperlien\, de vous familiariser avec les machines à commande numérique et de rencontrer les adhérent⋅es ! Pour découvrir les machines et équipements disponibles\, cliquez ici. \nEn parallèle\, retrouvez le stand d’Hyperlien sous les nefs au festival ! Nous vous attendons nombreux⋅euses dans ces deux lieux ! \nEntrée libre\nAccès aux machines sur adhésion à l’association\nVendredi 5\, Samedi 6 et Dimanche 7 juin\, de 14h à 19h\nHyperlien\, Halles 1&2\, 5 allée Frida Kahlo\, 44 200 Nantes
URL:https://hyperlien.net/event/openateliers-special-nantes-maker-campus/
LOCATION:Hyperlien\, 5 allée Frida Kahlo\, Nantes\, 44 200
CATEGORIES:Atelier
ATTACH;FMTTYPE=image/png:https://hyperlien.net/wp-content/uploads/2026/03/OA-special-NMC-photoweb.png
END:VEVENT
BEGIN:VEVENT
DTSTART;TZID=Europe/Paris:20260608T140000
DTEND;TZID=Europe/Paris:20260608T160000
DTSTAMP:20260421T052449
CREATED:20251202T141225Z
LAST-MODIFIED:20251202T141225Z
UID:4042-1780927200-1780934400@hyperlien.net
SUMMARY:Atelier conception 3D & programmation - niveau intermédiaire-avancé
DESCRIPTION:En groupe\, venez partager et créer des projets mettant en oeuvre des cartes programmables (Arduino\, ESP32…) et/ou de la conception 3D. Vous pouvez rejoindre un groupe autour d’un projet commun ou faire votre propre projet tout en échangeant avec les autres participant⋅es afin d’acquérir de nouvelles compétences mais aussi partager les vôtres. \nCe temps est géré collectivement par les participant⋅es et l’animation est bénévole. \nLundi 8 juin\, de 14h à 16h\nHyperlien\, Halles 1&2\, 5 allée Frida Kahlo\, 44 200 Nantes\nInscription gratuite via ce formulaire\nAccessible sur adhésion à PiNG \n 
URL:https://hyperlien.net/event/atelier-conception-3d-programmation-niveau-intermediaire-avance-juin26-2/
LOCATION:Hyperlien\, 5 allée Frida Kahlo\, Nantes\, 44 200
CATEGORIES:Atelier
ATTACH;FMTTYPE=image/jpeg:https://hyperlien.net/wp-content/uploads/2025/09/IMG_2624R-scaled.jpg
END:VEVENT
BEGIN:VEVENT
DTSTART;TZID=Europe/Paris:20260609T140000
DTEND;TZID=Europe/Paris:20260609T180000
DTSTAMP:20260421T052449
CREATED:20251202T155521Z
LAST-MODIFIED:20251202T155521Z
UID:4194-1781013600-1781028000@hyperlien.net
SUMMARY:L'Atelier des Hypernautes
DESCRIPTION:L’Atelier des Hypernautes\, qu’est-ce que c’est ? \nUn temps d’ouverture en autonomie du fablab ! L’atelier est encadré par un duo d’Hypernautes\, adhérent⋅es bénévoles de PiNG\, responsables du créneau\, formé⋅es à l’accueil et à la sécurité par PiNG. Le créneau est ouvert aux adhérent⋅es confirmé⋅es\, fréquentant déjà le fablab durant les OPENAteliers. On y vient pour travailler sur des machines dont on connaît a minima l’utilisation. \nLe créneau est ouvert uniquement si deux Hypernautes sont présent⋅es. Si vous ne voyez aucune date disponible dans le formulaire\, c’est que les responsables de créneau ne se sont pas encore inscrit⋅es ou que le créneau est complet. Revenez consulter prochainement ! \nInscription obligatoire via le formulaire\, jusqu’à midi la veille du créneau.\nMardi 9 juin 2026\, de 14h à 18h\, à Hyperlien
URL:https://hyperlien.net/event/latelier-des-hypernautes-juin26-2/
LOCATION:Hyperlien\, 5 allée Frida Kahlo\, Nantes\, 44 200
CATEGORIES:Atelier
ATTACH;FMTTYPE=image/png:https://hyperlien.net/wp-content/uploads/2025/07/image1-6.png
END:VEVENT
BEGIN:VEVENT
DTSTART;TZID=Europe/Paris:20260610T183000
DTEND;TZID=Europe/Paris:20260610T203000
DTSTAMP:20260421T052449
CREATED:20251203T130123Z
LAST-MODIFIED:20251203T130123Z
UID:4297-1781116200-1781123400@hyperlien.net
SUMMARY:Contribatelier
DESCRIPTION:Les Contribateliers sont des événements conviviaux ouverts à toutes et à tous\, quelles que soient vos envies et vos compétences\, pour pouvoir contribuer ensemble à la culture libre*. \n*Culture libre : La culture libre est un mouvement social qui promeut la libre distribution et modification des œuvres de l’esprit par l’utilisation d’internet et d’autres formes de médias. Le mouvement de la culture libre puise sa philosophie dans celle du logiciel libre en l’appliquant à la culture\, dans des domaines aussi variés que l’art\, l’éducation\, la science\, etc. \nGratuit\, pas d’inscription requise\nMercredi 10 juin 2026\, de 18h30 à 20h30 à Hyperlien
URL:https://hyperlien.net/event/contribatelier-juin26/
LOCATION:Hyperlien\, 5 allée Frida Kahlo\, Nantes\, 44 200
CATEGORIES:Atelier
ATTACH;FMTTYPE=image/jpeg:https://hyperlien.net/wp-content/uploads/2025/12/EXTRhackT_79R.jpg
END:VEVENT
BEGIN:VEVENT
DTSTART;TZID=Europe/Paris:20260610T183000
DTEND;TZID=Europe/Paris:20260610T203000
DTSTAMP:20260421T052449
CREATED:20251210T131735Z
LAST-MODIFIED:20251211T104132Z
UID:4396-1781116200-1781123400@hyperlien.net
SUMMARY:Hyper Code !
DESCRIPTION:Plongez dans l’univers du live coding avec Irvin Zouré\, de Low Riders ! \nCet événement propose une expérience immersive où la programmation devient un outil créatif au service de la musique et de l’expression artistique.  Le temps d’un atelier d’initiation\, découvrez les bases du live coding et créez votre propre performance musicale en utilisant des outils accessibles comme Strudel ou Hydra.\nQue vous soyez curieux⋅se\, passionné⋅e de musique ou intéressé⋅e par la programmation créative\, cet événement est une invitation à explorer de nouvelles formes d’expression numérique et ainsi contribuer à l’émergence d’un laboratoire d’expérimentation collectif vidéo et sonore. \nEntrée libre\nMercredi 10 juin 2026\, de 18h30 à 20h30\nHyperlien\, Halles 1&2\, 5 allée Frida Kahlo\, 44 200 Nantes
URL:https://hyperlien.net/event/hyper-code-juin26/
LOCATION:Hyperlien\, 5 allée Frida Kahlo\, Nantes\, 44 200
CATEGORIES:Atelier,Soirée
ATTACH;FMTTYPE=image/jpeg:https://hyperlien.net/wp-content/uploads/2025/07/Live-coding-Nananouiller.jpg
END:VEVENT
BEGIN:VEVENT
DTSTART;TZID=Europe/Paris:20260611T100000
DTEND;TZID=Europe/Paris:20260611T130000
DTSTAMP:20260421T052449
CREATED:20251202T153459Z
LAST-MODIFIED:20251202T153459Z
UID:4131-1781172000-1781182800@hyperlien.net
SUMMARY:L'Atelier des Hypernautes
DESCRIPTION:L’Atelier des Hypernautes\, qu’est-ce que c’est ? \nUn temps d’ouverture en autonomie du fablab ! L’atelier est encadré par un duo d’Hypernautes\, adhérent⋅es bénévoles de PiNG\, responsables du créneau\, formé⋅es à l’accueil et à la sécurité par PiNG. Le créneau est ouvert aux adhérent⋅es confirmé⋅es\, fréquentant déjà le fablab durant les OPENAteliers. On y vient pour travailler sur des machines dont on connaît a minima l’utilisation. \nLe créneau est ouvert uniquement si deux Hypernautes sont présent⋅es. Si vous ne voyez aucune date disponible dans le formulaire\, c’est que les responsables de créneau ne se sont pas encore inscrit⋅es ou que le créneau est complet. Revenez consulter prochainement ! \nInscription obligatoire via le formulaire\, jusqu’à midi la veille du créneau.\nJauge maximum de 10 personnes\nJeudi 11 juin 2026\, de 10h à 13h\, à Hyperlien
URL:https://hyperlien.net/event/latelier-des-hypernautes-juin26-3/
LOCATION:Hyperlien\, 5 allée Frida Kahlo\, Nantes\, 44 200
CATEGORIES:Atelier
ATTACH;FMTTYPE=image/png:https://hyperlien.net/wp-content/uploads/2025/07/image1-6.png
END:VEVENT
BEGIN:VEVENT
DTSTART;TZID=Europe/Paris:20260611T140000
DTEND;TZID=Europe/Paris:20260611T180000
DTSTAMP:20260421T052449
CREATED:20251203T124240Z
LAST-MODIFIED:20251203T124240Z
UID:4261-1781186400-1781200800@hyperlien.net
SUMMARY:Atelier du Humanlab
DESCRIPTION:Le Humanlab accueille chaque jeudi bénévoles et bénéficiaires à Hyperlien pour réfléchir et concevoir ensemble des aides techniques avec et pour les personnes en situation de handicap. Venez participer à ce temps dédié : de la conception à la fabrication de dispositifs pour améliorer le quotidien de personnes en situation de handicap. Toutes les compétences sont les bienvenues : textile\, modélisation et impression 3D\, conception mécanique\, etc. \n\nDécouvrez les créations réalisées au sein du Humanlab.\nVous êtes en situation de handicap et souhaitez proposer un projet\, remplissez le formulaire !\nVous souhaitez devenir bénévole ? Vous pouvez venir chaque jeudi à partir de 14h et/ou remplir le formulaire de bénévolat.\n\nJeudi 11 juin 2026\, de 14h à 18h\nHyperlien\, Halles 1&2\, 5 allée Frida Kahlo\, 44 200 Nantes
URL:https://hyperlien.net/event/atelier-du-humanlab-juin26-2/
LOCATION:Hyperlien\, 5 allée Frida Kahlo\, Nantes\, 44 200
CATEGORIES:Atelier
ATTACH;FMTTYPE=image/jpeg:https://hyperlien.net/wp-content/uploads/2025/09/Humanlab-reunionR.jpeg
END:VEVENT
BEGIN:VEVENT
DTSTART;TZID=Europe/Paris:20260611T140000
DTEND;TZID=Europe/Paris:20260611T200000
DTSTAMP:20260421T052449
CREATED:20260306T142532Z
LAST-MODIFIED:20260309T095220Z
UID:4498-1781186400-1781208000@hyperlien.net
SUMMARY:OPENAtelier de PiNG
DESCRIPTION:Cœur de l’activité de PiNG\, les OPENateliers sont des temps d’échange et de pratique où les adhérent·es\, encadré·es et conseillé·es par les animateurs·rices\, sont les bienvenu·es pour travailler\, créer\, réparer\, créer ou bricoler avec les équipements mis à disposition. \nAvec ou sans inspiration\, libre à vous de vous installer dans le fablab d’Hyperlien\, de vous familiariser avec les machines à commande numérique et de rencontrer les adhérent⋅es ! \nPour découvrir les machines et équipements disponibles\, cliquez ici. \nJeudi 11 juin 2026\, de 14h à 20h à Hyperlien\nAccessible sur adhésion à PiNG
URL:https://hyperlien.net/event/openatelier-de-ping-juin26-2/
LOCATION:Hyperlien\, 5 allée Frida Kahlo\, Nantes\, 44 200
CATEGORIES:Atelier
ATTACH;FMTTYPE=image/jpeg:https://hyperlien.net/wp-content/uploads/2025/09/IMG_3738low.jpg
END:VEVENT
BEGIN:VEVENT
DTSTART;TZID=Europe/Paris:20260615T140000
DTEND;TZID=Europe/Paris:20260615T160000
DTSTAMP:20260421T052449
CREATED:20251202T141301Z
LAST-MODIFIED:20251202T141301Z
UID:4041-1781532000-1781539200@hyperlien.net
SUMMARY:Atelier conception 3D & programmation - niveau intermédiaire-avancé
DESCRIPTION:En groupe\, venez partager et créer des projets mettant en oeuvre des cartes programmables (Arduino\, ESP32…) et/ou de la conception 3D. Vous pouvez rejoindre un groupe autour d’un projet commun ou faire votre propre projet tout en échangeant avec les autres participant⋅es afin d’acquérir de nouvelles compétences mais aussi partager les vôtres. \nCe temps est géré collectivement par les participant⋅es et l’animation est bénévole. \nLundi 15 juin\, de 14h à 16h\nHyperlien\, Halles 1&2\, 5 allée Frida Kahlo\, 44 200 Nantes\nInscription gratuite via ce formulaire\nAccessible sur adhésion à PiNG \n 
URL:https://hyperlien.net/event/atelier-conception-3d-programmation-niveau-intermediaire-avance-juin26-3/
LOCATION:Hyperlien\, 5 allée Frida Kahlo\, Nantes\, 44 200
CATEGORIES:Atelier
ATTACH;FMTTYPE=image/jpeg:https://hyperlien.net/wp-content/uploads/2025/09/IMG_2624R-scaled.jpg
END:VEVENT
BEGIN:VEVENT
DTSTART;TZID=Europe/Paris:20260618T100000
DTEND;TZID=Europe/Paris:20260618T130000
DTSTAMP:20260421T052449
CREATED:20251202T153532Z
LAST-MODIFIED:20251202T153553Z
UID:4130-1781776800-1781787600@hyperlien.net
SUMMARY:L'Atelier des Hypernautes
DESCRIPTION:L’Atelier des Hypernautes\, qu’est-ce que c’est ? \nUn temps d’ouverture en autonomie du fablab ! L’atelier est encadré par un duo d’Hypernautes\, adhérent⋅es bénévoles de PiNG\, responsables du créneau\, formé⋅es à l’accueil et à la sécurité par PiNG. Le créneau est ouvert aux adhérent⋅es confirmé⋅es\, fréquentant déjà le fablab durant les OPENAteliers. On y vient pour travailler sur des machines dont on connaît a minima l’utilisation. \nLe créneau est ouvert uniquement si deux Hypernautes sont présent⋅es. Si vous ne voyez aucune date disponible dans le formulaire\, c’est que les responsables de créneau ne se sont pas encore inscrit⋅es ou que le créneau est complet. Revenez consulter prochainement ! \nInscription obligatoire via le formulaire\, jusqu’à midi la veille du créneau.\nJauge maximum de 10 personnes\nJeudi 18 juin 2026\, de 10h à 13h\, à Hyperlien
URL:https://hyperlien.net/event/latelier-des-hypernautes-juin26-5/
LOCATION:Hyperlien\, 5 allée Frida Kahlo\, Nantes\, 44 200
CATEGORIES:Atelier
ATTACH;FMTTYPE=image/png:https://hyperlien.net/wp-content/uploads/2025/07/image1-6.png
END:VEVENT
BEGIN:VEVENT
DTSTART;TZID=Europe/Paris:20260618T140000
DTEND;TZID=Europe/Paris:20260618T180000
DTSTAMP:20260421T052449
CREATED:20251203T124300Z
LAST-MODIFIED:20251203T124300Z
UID:4260-1781791200-1781805600@hyperlien.net
SUMMARY:Atelier du Humanlab
DESCRIPTION:Le Humanlab accueille chaque jeudi bénévoles et bénéficiaires à Hyperlien pour réfléchir et concevoir ensemble des aides techniques avec et pour les personnes en situation de handicap. Venez participer à ce temps dédié : de la conception à la fabrication de dispositifs pour améliorer le quotidien de personnes en situation de handicap. Toutes les compétences sont les bienvenues : textile\, modélisation et impression 3D\, conception mécanique\, etc. \n\nDécouvrez les créations réalisées au sein du Humanlab.\nVous êtes en situation de handicap et souhaitez proposer un projet\, remplissez le formulaire !\nVous souhaitez devenir bénévole ? Vous pouvez venir chaque jeudi à partir de 14h et/ou remplir le formulaire de bénévolat.\n\nJeudi 18 juin 2026\, de 14h à 18h\nHyperlien\, Halles 1&2\, 5 allée Frida Kahlo\, 44 200 Nantes
URL:https://hyperlien.net/event/atelier-du-humanlab-juin26-3/
LOCATION:Hyperlien\, 5 allée Frida Kahlo\, Nantes\, 44 200
CATEGORIES:Atelier
ATTACH;FMTTYPE=image/jpeg:https://hyperlien.net/wp-content/uploads/2025/09/Humanlab-reunionR.jpeg
END:VEVENT
BEGIN:VEVENT
DTSTART;TZID=Europe/Paris:20260618T140000
DTEND;TZID=Europe/Paris:20260618T200000
DTSTAMP:20260421T052449
CREATED:20260306T142630Z
LAST-MODIFIED:20260306T142630Z
UID:4497-1781791200-1781812800@hyperlien.net
SUMMARY:OPENAtelier de PiNG
DESCRIPTION:Cœur de l’activité de PiNG\, les OPENateliers sont des temps d’échange et de pratique où les adhérent·es\, encadré·es et conseillé·es par les animateurs·rices\, sont les bienvenu·es pour travailler\, créer\, réparer\, créer ou bricoler avec les équipements mis à disposition. \nAvec ou sans inspiration\, libre à vous de vous installer dans le fablab d’Hyperlien\, de vous familiariser avec les machines à commande numérique et de rencontrer les adhérent⋅es ! \nPour découvrir les machines et équipements disponibles\, cliquez ici. \nJeudi 18 juin 2026\, de 14h à 20h à Hyperlien\nAccessible sur adhésion à PiNG
URL:https://hyperlien.net/event/openatelier-de-ping-juin26-3/
LOCATION:Hyperlien\, 5 allée Frida Kahlo\, Nantes\, 44 200
CATEGORIES:Atelier
ATTACH;FMTTYPE=image/jpeg:https://hyperlien.net/wp-content/uploads/2025/09/IMG_3738low.jpg
END:VEVENT
BEGIN:VEVENT
DTSTART;TZID=Europe/Paris:20260622T140000
DTEND;TZID=Europe/Paris:20260622T160000
DTSTAMP:20260421T052449
CREATED:20251202T141324Z
LAST-MODIFIED:20251202T141324Z
UID:4040-1782136800-1782144000@hyperlien.net
SUMMARY:Atelier conception 3D & programmation - niveau intermédiaire-avancé
DESCRIPTION:En groupe\, venez partager et créer des projets mettant en oeuvre des cartes programmables (Arduino\, ESP32…) et/ou de la conception 3D. Vous pouvez rejoindre un groupe autour d’un projet commun ou faire votre propre projet tout en échangeant avec les autres participant⋅es afin d’acquérir de nouvelles compétences mais aussi partager les vôtres. \nCe temps est géré collectivement par les participant⋅es et l’animation est bénévole. \nLundi 22 juin\, de 14h à 16h\nHyperlien\, Halles 1&2\, 5 allée Frida Kahlo\, 44 200 Nantes\nInscription gratuite via ce formulaire\nAccessible sur adhésion à PiNG \n 
URL:https://hyperlien.net/event/atelier-conception-3d-programmation-niveau-intermediaire-avance-juin26-4/
LOCATION:Hyperlien\, 5 allée Frida Kahlo\, Nantes\, 44 200
CATEGORIES:Atelier
ATTACH;FMTTYPE=image/jpeg:https://hyperlien.net/wp-content/uploads/2025/09/IMG_2624R-scaled.jpg
END:VEVENT
BEGIN:VEVENT
DTSTART;TZID=Europe/Paris:20260623T140000
DTEND;TZID=Europe/Paris:20260623T180000
DTSTAMP:20260421T052449
CREATED:20251202T155720Z
LAST-MODIFIED:20251202T155720Z
UID:4192-1782223200-1782237600@hyperlien.net
SUMMARY:L'Atelier des Hypernautes
DESCRIPTION:L’Atelier des Hypernautes\, qu’est-ce que c’est ? \nUn temps d’ouverture en autonomie du fablab ! L’atelier est encadré par un duo d’Hypernautes\, adhérent⋅es bénévoles de PiNG\, responsables du créneau\, formé⋅es à l’accueil et à la sécurité par PiNG. Le créneau est ouvert aux adhérent⋅es confirmé⋅es\, fréquentant déjà le fablab durant les OPENAteliers. On y vient pour travailler sur des machines dont on connaît a minima l’utilisation. \nLe créneau est ouvert uniquement si deux Hypernautes sont présent⋅es. Si vous ne voyez aucune date disponible dans le formulaire\, c’est que les responsables de créneau ne se sont pas encore inscrit⋅es ou que le créneau est complet. Revenez consulter prochainement ! \nInscription obligatoire via le formulaire\, jusqu’à midi la veille du créneau.\nMardi 23 juin 2026\, de 14h à 18h\, à Hyperlien
URL:https://hyperlien.net/event/latelier-des-hypernautes-juin26-6/
LOCATION:Hyperlien\, 5 allée Frida Kahlo\, Nantes\, 44 200
CATEGORIES:Atelier
ATTACH;FMTTYPE=image/png:https://hyperlien.net/wp-content/uploads/2025/07/image1-6.png
END:VEVENT
BEGIN:VEVENT
DTSTART;TZID=Europe/Paris:20260624T150000
DTEND;TZID=Europe/Paris:20260624T170000
DTSTAMP:20260421T052449
CREATED:20250801T090401Z
LAST-MODIFIED:20250801T090401Z
UID:3665-1782313200-1782320400@hyperlien.net
SUMMARY:Game Changers
DESCRIPTION:Un mercredi par mois\, l’équipe du Humanlab de l’APAJH 44 anime un atelier de jeux vidéo avec à la fois des manettes conçues et adaptées pour les personnes en situation de handicap et des manettes classiques. Cet atelier ouvert à tous⋅tes permet de créer du lien et jouer ensemble sur un large choix de jeux vidéos. 🎮 \nEntrée libre\nMercredi 24 juin\, de 15h à 17h\nHyperlien\, Halles 1&2\, 5 allée Frida Kahlo\, 44 200 Nantes
URL:https://hyperlien.net/event/game-changers-juin26/
LOCATION:Hyperlien\, 5 allée Frida Kahlo\, Nantes\, 44 200
CATEGORIES:Atelier
ATTACH;FMTTYPE=image/jpeg:https://hyperlien.net/wp-content/uploads/2025/01/IMG_2656R-scaled.jpg
END:VEVENT
BEGIN:VEVENT
DTSTART;TZID=Europe/Paris:20260625T100000
DTEND;TZID=Europe/Paris:20260625T130000
DTSTAMP:20260421T052449
CREATED:20251202T162831Z
LAST-MODIFIED:20260306T144356Z
UID:4228-1782381600-1782392400@hyperlien.net
SUMMARY:L'Atelier des Hypernautes
DESCRIPTION:L’Atelier des Hypernautes\, qu’est-ce que c’est ? \nUn temps d’ouverture en autonomie du fablab ! L’atelier est encadré par un duo d’Hypernautes\, adhérent⋅es bénévoles de PiNG\, responsables du créneau\, formé⋅es à l’accueil et à la sécurité par PiNG. Le créneau est ouvert aux adhérent⋅es confirmé⋅es\, fréquentant déjà le fablab durant les OPENAteliers. On y vient pour travailler sur des machines dont on connaît a minima l’utilisation. \nLe créneau est ouvert uniquement si deux Hypernautes sont présent⋅es. Si vous ne voyez aucune date disponible dans le formulaire\, c’est que les responsables de créneau ne se sont pas encore inscrit⋅es ou que le créneau est complet. Revenez consulter prochainement ! \nInscription obligatoire via le formulaire\, jusqu’à midi la veille du créneau.\nJeudi 25 juin 2026\, de 10h à 13h\, à Hyperlien
URL:https://hyperlien.net/event/latelier-des-hypernautes-juin26-7-2/
LOCATION:Hyperlien\, 5 allée Frida Kahlo\, Nantes\, 44 200
CATEGORIES:Atelier
ATTACH;FMTTYPE=image/png:https://hyperlien.net/wp-content/uploads/2025/07/image1-6.png
END:VEVENT
BEGIN:VEVENT
DTSTART;TZID=Europe/Paris:20260625T140000
DTEND;TZID=Europe/Paris:20260625T180000
DTSTAMP:20260421T052449
CREATED:20251203T124323Z
LAST-MODIFIED:20251203T124323Z
UID:4259-1782396000-1782410400@hyperlien.net
SUMMARY:Atelier du Humanlab
DESCRIPTION:Le Humanlab accueille chaque jeudi bénévoles et bénéficiaires à Hyperlien pour réfléchir et concevoir ensemble des aides techniques avec et pour les personnes en situation de handicap. Venez participer à ce temps dédié : de la conception à la fabrication de dispositifs pour améliorer le quotidien de personnes en situation de handicap. Toutes les compétences sont les bienvenues : textile\, modélisation et impression 3D\, conception mécanique\, etc. \n\nDécouvrez les créations réalisées au sein du Humanlab.\nVous êtes en situation de handicap et souhaitez proposer un projet\, remplissez le formulaire !\nVous souhaitez devenir bénévole ? Vous pouvez venir chaque jeudi à partir de 14h et/ou remplir le formulaire de bénévolat.\n\nJeudi 25 juin 2026\, de 14h à 18h\nHyperlien\, Halles 1&2\, 5 allée Frida Kahlo\, 44 200 Nantes
URL:https://hyperlien.net/event/atelier-du-humanlab-juin26-4/
LOCATION:Hyperlien\, 5 allée Frida Kahlo\, Nantes\, 44 200
CATEGORIES:Atelier
ATTACH;FMTTYPE=image/jpeg:https://hyperlien.net/wp-content/uploads/2025/09/Humanlab-reunionR.jpeg
END:VEVENT
BEGIN:VEVENT
DTSTART;TZID=Europe/Paris:20260625T140000
DTEND;TZID=Europe/Paris:20260625T200000
DTSTAMP:20260421T052449
CREATED:20260306T143150Z
LAST-MODIFIED:20260306T143150Z
UID:4496-1782396000-1782417600@hyperlien.net
SUMMARY:OPENAtelier de PiNG
DESCRIPTION:Cœur de l’activité de PiNG\, les OPENateliers sont des temps d’échange et de pratique où les adhérent·es\, encadré·es et conseillé·es par les animateurs·rices\, sont les bienvenu·es pour travailler\, créer\, réparer\, créer ou bricoler avec les équipements mis à disposition. \nAvec ou sans inspiration\, libre à vous de vous installer dans le fablab d’Hyperlien\, de vous familiariser avec les machines à commande numérique et de rencontrer les adhérent⋅es ! \nPour découvrir les machines et équipements disponibles\, cliquez ici. \nJeudi 25 juin 2026\, de 14h à 20h à Hyperlien\nAccessible sur adhésion à PiNG
URL:https://hyperlien.net/event/openatelier-de-ping-juin26-4/
LOCATION:Hyperlien\, 5 allée Frida Kahlo\, Nantes\, 44 200
CATEGORIES:Atelier
ATTACH;FMTTYPE=image/jpeg:https://hyperlien.net/wp-content/uploads/2025/09/IMG_3738low.jpg
END:VEVENT
END:VCALENDAR