BEGIN:VCALENDAR
VERSION:2.0
PRODID:-//Hyperlien - fablab à Nantes - ECPv6.15.20//NONSGML v1.0//EN
CALSCALE:GREGORIAN
METHOD:PUBLISH
X-WR-CALNAME:Hyperlien - fablab à Nantes
X-ORIGINAL-URL:https://hyperlien.net
X-WR-CALDESC:Évènements pour Hyperlien - fablab à Nantes
REFRESH-INTERVAL;VALUE=DURATION:PT1H
X-Robots-Tag:noindex
X-PUBLISHED-TTL:PT1H
BEGIN:VTIMEZONE
TZID:Europe/Paris
BEGIN:DAYLIGHT
TZOFFSETFROM:+0100
TZOFFSETTO:+0200
TZNAME:CEST
DTSTART:20250330T010000
END:DAYLIGHT
BEGIN:STANDARD
TZOFFSETFROM:+0200
TZOFFSETTO:+0100
TZNAME:CET
DTSTART:20251026T010000
END:STANDARD
BEGIN:DAYLIGHT
TZOFFSETFROM:+0100
TZOFFSETTO:+0200
TZNAME:CEST
DTSTART:20260329T010000
END:DAYLIGHT
BEGIN:STANDARD
TZOFFSETFROM:+0200
TZOFFSETTO:+0100
TZNAME:CET
DTSTART:20261025T010000
END:STANDARD
BEGIN:DAYLIGHT
TZOFFSETFROM:+0100
TZOFFSETTO:+0200
TZNAME:CEST
DTSTART:20270328T010000
END:DAYLIGHT
BEGIN:STANDARD
TZOFFSETFROM:+0200
TZOFFSETTO:+0100
TZNAME:CET
DTSTART:20271031T010000
END:STANDARD
END:VTIMEZONE
BEGIN:VEVENT
DTSTART;TZID=Europe/Paris:20260407T140000
DTEND;TZID=Europe/Paris:20260407T180000
DTSTAMP:20260421T035233
CREATED:20251202T162617Z
LAST-MODIFIED:20260306T143740Z
UID:4225-1775570400-1775584800@hyperlien.net
SUMMARY:L'Atelier des Hypernautes
DESCRIPTION:L’Atelier des Hypernautes\, qu’est-ce que c’est ? \nUn temps d’ouverture en autonomie du fablab ! L’atelier est encadré par un duo d’Hypernautes\, adhérent⋅es bénévoles de PiNG\, responsables du créneau\, formé⋅es à l’accueil et à la sécurité par PiNG. Le créneau est ouvert aux adhérent⋅es confirmé⋅es\, fréquentant déjà le fablab durant les OPENAteliers. On y vient pour travailler sur des machines dont on connaît a minima l’utilisation. \nLe créneau est ouvert uniquement si deux Hypernautes sont présent⋅es. Si vous ne voyez aucune date disponible dans le formulaire\, c’est que les responsables de créneau ne se sont pas encore inscrit⋅es ou que le créneau est complet. Revenez consulter prochainement ! \nInscription obligatoire via le formulaire\, jusqu’à midi la veille du créneau.\nMardi 7 avril 2026\, de 14h à 18h\, à Hyperlien
URL:https://hyperlien.net/event/latelier-des-hypernautes-avril26-2/
LOCATION:Hyperlien\, 5 allée Frida Kahlo\, Nantes\, 44 200
CATEGORIES:Atelier
ATTACH;FMTTYPE=image/png:https://hyperlien.net/wp-content/uploads/2025/07/image1-6.png
END:VEVENT
BEGIN:VEVENT
DTSTART;TZID=Europe/Paris:20260407T143000
DTEND;TZID=Europe/Paris:20260407T180000
DTSTAMP:20260421T035233
CREATED:20251203T140415Z
LAST-MODIFIED:20251203T140415Z
UID:4331-1775572200-1775584800@hyperlien.net
SUMMARY:ARKHE - Atelier de recherche-création sonore
DESCRIPTION:Un ARC est un atelier de recherche-création proposé habituellement dans les écoles d’art sur un temps long\, un semestre\, avec des rendez-vous hebdomadaires autour d’une thématique\, d’une pratique ou d’un axe de recherche commun. \nPiNG poursuit les ARKHE\, Atelier de Recherche et Création à HyperliEn\, sur la thématique du son\, lancés à l’automne 2025. Après avoir exploré la matérialité du son et la fabrication du son sans machine\, les ateliers proposeront des temps de prises de sons\, montage et écoute des productions individuelles et collectives pour ce deuxième semestre. \nMardi 7 avril 2026\, de 14h30 à 18h\, à Hyperlien\nAccessible sur adhésion à l’association\nGratuit sur inscription via ce formulaire \n 
URL:https://hyperlien.net/event/arkhe-atelier-de-recherche-creation-sonore-avril26/
LOCATION:Hyperlien\, 5 allée Frida Kahlo\, Nantes\, 44 200
CATEGORIES:Atelier
ATTACH;FMTTYPE=image/webp:https://hyperlien.net/wp-content/uploads/2025/03/Arts_Hybrides_son.webp
END:VEVENT
END:VCALENDAR