BEGIN:VCALENDAR
VERSION:2.0
PRODID:-//Hyperlien - fablab à Nantes - ECPv6.15.20//NONSGML v1.0//EN
CALSCALE:GREGORIAN
METHOD:PUBLISH
X-ORIGINAL-URL:https://hyperlien.net
X-WR-CALDESC:Évènements pour Hyperlien - fablab à Nantes
REFRESH-INTERVAL;VALUE=DURATION:PT1H
X-Robots-Tag:noindex
X-PUBLISHED-TTL:PT1H
BEGIN:VTIMEZONE
TZID:Europe/Paris
BEGIN:DAYLIGHT
TZOFFSETFROM:+0100
TZOFFSETTO:+0200
TZNAME:CEST
DTSTART:20250330T010000
END:DAYLIGHT
BEGIN:STANDARD
TZOFFSETFROM:+0200
TZOFFSETTO:+0100
TZNAME:CET
DTSTART:20251026T010000
END:STANDARD
BEGIN:DAYLIGHT
TZOFFSETFROM:+0100
TZOFFSETTO:+0200
TZNAME:CEST
DTSTART:20260329T010000
END:DAYLIGHT
BEGIN:STANDARD
TZOFFSETFROM:+0200
TZOFFSETTO:+0100
TZNAME:CET
DTSTART:20261025T010000
END:STANDARD
BEGIN:DAYLIGHT
TZOFFSETFROM:+0100
TZOFFSETTO:+0200
TZNAME:CEST
DTSTART:20270328T010000
END:DAYLIGHT
BEGIN:STANDARD
TZOFFSETFROM:+0200
TZOFFSETTO:+0100
TZNAME:CET
DTSTART:20271031T010000
END:STANDARD
END:VTIMEZONE
BEGIN:VEVENT
DTSTART;TZID=Europe/Paris:20260526T140000
DTEND;TZID=Europe/Paris:20260526T180000
DTSTAMP:20260421T064023
CREATED:20251202T155435Z
LAST-MODIFIED:20251202T155435Z
UID:4195-1779804000-1779818400@hyperlien.net
SUMMARY:L'Atelier des Hypernautes
DESCRIPTION:L’Atelier des Hypernautes\, qu’est-ce que c’est ? \nUn temps d’ouverture en autonomie du fablab ! L’atelier est encadré par un duo d’Hypernautes\, adhérent⋅es bénévoles de PiNG\, responsables du créneau\, formé⋅es à l’accueil et à la sécurité par PiNG. Le créneau est ouvert aux adhérent⋅es confirmé⋅es\, fréquentant déjà le fablab durant les OPENAteliers. On y vient pour travailler sur des machines dont on connaît a minima l’utilisation. \nLe créneau est ouvert uniquement si deux Hypernautes sont présent⋅es. Si vous ne voyez aucune date disponible dans le formulaire\, c’est que les responsables de créneau ne se sont pas encore inscrit⋅es ou que le créneau est complet. Revenez consulter prochainement ! \nInscription obligatoire via le formulaire\, jusqu’à midi la veille du créneau.\nMardi 26 mai 2026\, de 14h à 18h\, à Hyperlien
URL:https://hyperlien.net/event/latelier-des-hypernautes-mai26-6/
LOCATION:Hyperlien\, 5 allée Frida Kahlo\, Nantes\, 44 200
CATEGORIES:Atelier
ATTACH;FMTTYPE=image/png:https://hyperlien.net/wp-content/uploads/2025/07/image1-6.png
END:VEVENT
BEGIN:VEVENT
DTSTART;TZID=Europe/Paris:20260526T183000
DTEND;TZID=Europe/Paris:20260526T210000
DTSTAMP:20260421T064023
CREATED:20260309T110426Z
LAST-MODIFIED:20260309T110426Z
UID:4550-1779820200-1779829200@hyperlien.net
SUMMARY:École 404 : La propagande à l'époque de sa reproductibilité technique (séance 1)
DESCRIPTION:Capture d’écran extraite d’un article du New York Times « How Trump Is Using Fake Imagery to Attack Enemies and Rouse Supporters » \nDans le cadre de cette saison d’École 404 sur le thème Résistances Électroniques\, nous vous proposons un rendez-vous pour échanger sur le thème de la propagande\, à l’époque des « fake news » et des intelligences artificielles génératives. \nEn 2022\, une dizaine de membres de l’équipe de campagne d’Eric Zemmour imposaient leurs thématiques sur Twitter en utilisant des bots et des automatisations pour gonfler artificiellement la présence de leur candidat.\nDepuis\, l’accessibilité des outils d’intelligence artificielle générative a permis de démultiplier les moyens d’ « inonder la zone de merde« \, selon les mots du stratège d’extrême droite Steve Bannon.\nPour ce premier rendez-vous sur le thème de la propagande\, nous étudierons les pratiques et les outils numériques mobilisés à des fins de propagande politique en nous basant sur quelques exemples.\nCette séance sera complétée le mois suivant par un second atelier consacré aux moyens de résister à cette propagande complètement automatisée. \nEntrée libre\nMardi 26 mai\, de 18h30 à 21h\nHyperlien\, Halles 1&2\, 5 allée Frida Kahlo\, 44 200 Nantes
URL:https://hyperlien.net/event/ecole-404-la-propagande-a-lepoque-de-sa-reproductibilite-technique-seance-1/
LOCATION:Hyperlien\, 5 allée Frida Kahlo\, Nantes\, 44 200
CATEGORIES:Atelier
ATTACH;FMTTYPE=image/jpeg:https://hyperlien.net/wp-content/uploads/2026/03/photo_2026-03-09_11-47-09.jpg
END:VEVENT
END:VCALENDAR