BEGIN:VCALENDAR
VERSION:2.0
PRODID:-//Hyperlien - fablab à Nantes - ECPv6.15.20//NONSGML v1.0//EN
CALSCALE:GREGORIAN
METHOD:PUBLISH
X-ORIGINAL-URL:https://hyperlien.net
X-WR-CALDESC:Évènements pour Hyperlien - fablab à Nantes
REFRESH-INTERVAL;VALUE=DURATION:PT1H
X-Robots-Tag:noindex
X-PUBLISHED-TTL:PT1H
BEGIN:VTIMEZONE
TZID:Europe/Paris
BEGIN:DAYLIGHT
TZOFFSETFROM:+0100
TZOFFSETTO:+0200
TZNAME:CEST
DTSTART:20250330T010000
END:DAYLIGHT
BEGIN:STANDARD
TZOFFSETFROM:+0200
TZOFFSETTO:+0100
TZNAME:CET
DTSTART:20251026T010000
END:STANDARD
BEGIN:DAYLIGHT
TZOFFSETFROM:+0100
TZOFFSETTO:+0200
TZNAME:CEST
DTSTART:20260329T010000
END:DAYLIGHT
BEGIN:STANDARD
TZOFFSETFROM:+0200
TZOFFSETTO:+0100
TZNAME:CET
DTSTART:20261025T010000
END:STANDARD
BEGIN:DAYLIGHT
TZOFFSETFROM:+0100
TZOFFSETTO:+0200
TZNAME:CEST
DTSTART:20270328T010000
END:DAYLIGHT
BEGIN:STANDARD
TZOFFSETFROM:+0200
TZOFFSETTO:+0100
TZNAME:CET
DTSTART:20271031T010000
END:STANDARD
END:VTIMEZONE
BEGIN:VEVENT
DTSTART;TZID=Europe/Paris:20260403T093000
DTEND;TZID=Europe/Paris:20260403T173000
DTSTAMP:20260421T101628
CREATED:20251205T092301Z
LAST-MODIFIED:20251205T092301Z
UID:4363-1775208600-1775237400@hyperlien.net
SUMMARY:Formation pro : Communiquer sur les réseaux après X et Meta
DESCRIPTION:L’actualité récente nous montre que les principaux réseaux sociaux ne sont pas seulement des machines à valoriser les données personnelles de leurs usagers·ères. Alors que les patrons de Meta (Facebook\, Instagram) et X (ex-Twitter) usent toujours plus ouvertement de leurs plateformes comme des outils de désinformation de masse et de déstabilisation politique des démocraties\, les institutions\, les organisations et les personnalités qui communiquent via ces réseaux ont une responsabilité particulière. \nFaut-il toujours communiquer là où les gens se trouvent ? Peut-on déserter ces espaces pour emporter les publics avec soi ? Quelles sont les alternatives existantes ? Quelles sont leurs garanties en termes de responsabilités ?\nCette formation vous permettra de construire vos propres réponses à ces enjeux\, tout en vous apportant des bases solides pour voir plus loin que X et Meta. \nSur inscription par mail\, aux tarifs suivants :\nProfessionnel⋅les (prise en charge OPCO/employeur) : 420 €/jour\nAuto-financement personnel : 190€/jour\nTarif solidaire possible\, nous contacter formation@pingbase.net \nVendredi 3 avril 2026\, de 9h30 à 17h30\nHyperlien\, Halles 1&2\, 5 allée Frida Kahlo\, 44 200 Nantes
URL:https://hyperlien.net/event/formation-pro-communiquer-sur-les-reseaux-apres-x-et-meta/
LOCATION:Hyperlien\, 5 allée Frida Kahlo\, Nantes\, 44 200
CATEGORIES:Formation
ATTACH;FMTTYPE=image/png:https://hyperlien.net/wp-content/uploads/2025/12/formation-RS.png
END:VEVENT
END:VCALENDAR