BEGIN:VCALENDAR
VERSION:2.0
PRODID:-//Hyperlien - fablab à Nantes - ECPv6.15.20//NONSGML v1.0//EN
CALSCALE:GREGORIAN
METHOD:PUBLISH
X-ORIGINAL-URL:https://hyperlien.net
X-WR-CALDESC:Évènements pour Hyperlien - fablab à Nantes
REFRESH-INTERVAL;VALUE=DURATION:PT1H
X-Robots-Tag:noindex
X-PUBLISHED-TTL:PT1H
BEGIN:VTIMEZONE
TZID:Europe/Paris
BEGIN:DAYLIGHT
TZOFFSETFROM:+0100
TZOFFSETTO:+0200
TZNAME:CEST
DTSTART:20250330T010000
END:DAYLIGHT
BEGIN:STANDARD
TZOFFSETFROM:+0200
TZOFFSETTO:+0100
TZNAME:CET
DTSTART:20251026T010000
END:STANDARD
BEGIN:DAYLIGHT
TZOFFSETFROM:+0100
TZOFFSETTO:+0200
TZNAME:CEST
DTSTART:20260329T010000
END:DAYLIGHT
BEGIN:STANDARD
TZOFFSETFROM:+0200
TZOFFSETTO:+0100
TZNAME:CET
DTSTART:20261025T010000
END:STANDARD
BEGIN:DAYLIGHT
TZOFFSETFROM:+0100
TZOFFSETTO:+0200
TZNAME:CEST
DTSTART:20270328T010000
END:DAYLIGHT
BEGIN:STANDARD
TZOFFSETFROM:+0200
TZOFFSETTO:+0100
TZNAME:CET
DTSTART:20271031T010000
END:STANDARD
END:VTIMEZONE
BEGIN:VEVENT
DTSTART;TZID=Europe/Paris:20260528T093000
DTEND;TZID=Europe/Paris:20260529T173000
DTSTAMP:20260421T144745
CREATED:20250328T140652Z
LAST-MODIFIED:20250718T075829Z
UID:3305-1779960600-1780075800@hyperlien.net
SUMMARY:Formation pro : Documenter des projets pour contribuer aux communs
DESCRIPTION:Vous ou votre organisation souhaitez construire une base commune de connaissances\, dans une démarche collaborative ou de transfert de compétences ? Vous souhaitez réaliser un tutoriel sur la réalisation d’un projet technique pour favoriser sa reproductibilité ? Vous souhaitez mettre en forme un récit pour partager vos expériences ? Autant de situations qui font appel à des pratiques et des outils liés à ce qu’on appelle « la documentation ». Au delà des aspects techniques ou pratiques\, documenter c’est aussi un processus créatif qui permet de prendre du recul sur son expérience pour mieux la partager. \nForte de l’expérience de PiNG en la matière\, cette formation vise ainsi à vous accompagner pour initier ou ancrer davantage vos pratiques de documentation individuelles et collectives dans votre activité professionnelle. \n>> Accéder à la fiche détaillée de formation \nSur inscription par mail\, aux tarifs suivants :\nProfessionnel⋅les (prise en charge OPCO/employeur) : 420 €/jour\nAuto-financement personnel : 190€/jour\nTarif solidaire possible\, nous contacter formation@pingbase.net \nJeudi 28 mai au Vendredi 29 mai 2026\, de 9h30 à 17h30\nHyperlien\, Halles 1&2\, 5 allée Frida Kahlo\, 44 200 Nantes
URL:https://hyperlien.net/event/formation-pro-documenter-des-projets-pour-contribuer-aux-communs-2/
LOCATION:Hyperlien\, 5 allée Frida Kahlo\, Nantes\, 44 200
CATEGORIES:Formation
ATTACH;FMTTYPE=image/jpeg:https://hyperlien.net/wp-content/uploads/2023/07/IMG_3430.jpg
END:VEVENT
END:VCALENDAR