BEGIN:VCALENDAR
VERSION:2.0
PRODID:-//Hyperlien - fablab à Nantes - ECPv6.15.20//NONSGML v1.0//EN
CALSCALE:GREGORIAN
METHOD:PUBLISH
X-WR-CALNAME:Hyperlien - fablab à Nantes
X-ORIGINAL-URL:https://hyperlien.net
X-WR-CALDESC:Évènements pour Hyperlien - fablab à Nantes
REFRESH-INTERVAL;VALUE=DURATION:PT1H
X-Robots-Tag:noindex
X-PUBLISHED-TTL:PT1H
BEGIN:VTIMEZONE
TZID:Europe/Paris
BEGIN:DAYLIGHT
TZOFFSETFROM:+0100
TZOFFSETTO:+0200
TZNAME:CEST
DTSTART:20250330T010000
END:DAYLIGHT
BEGIN:STANDARD
TZOFFSETFROM:+0200
TZOFFSETTO:+0100
TZNAME:CET
DTSTART:20251026T010000
END:STANDARD
BEGIN:DAYLIGHT
TZOFFSETFROM:+0100
TZOFFSETTO:+0200
TZNAME:CEST
DTSTART:20260329T010000
END:DAYLIGHT
BEGIN:STANDARD
TZOFFSETFROM:+0200
TZOFFSETTO:+0100
TZNAME:CET
DTSTART:20261025T010000
END:STANDARD
BEGIN:DAYLIGHT
TZOFFSETFROM:+0100
TZOFFSETTO:+0200
TZNAME:CEST
DTSTART:20270328T010000
END:DAYLIGHT
BEGIN:STANDARD
TZOFFSETFROM:+0200
TZOFFSETTO:+0100
TZNAME:CET
DTSTART:20271031T010000
END:STANDARD
END:VTIMEZONE
BEGIN:VEVENT
DTSTART;TZID=Europe/Paris:20260630T183000
DTEND;TZID=Europe/Paris:20260630T210000
DTSTAMP:20260421T194255
CREATED:20260309T110146Z
LAST-MODIFIED:20260309T110146Z
UID:4562-1782844200-1782853200@hyperlien.net
SUMMARY:École 404 : La propagande à l'époque de sa reproductibilité technique (séance 2)
DESCRIPTION:Capture d’écran extraite d’un article du New York Times « How Trump Is Using Fake Imagery to Attack Enemies and Rouse Supporters » \nAprès un premier rendez-vous sur le thème de la propagande\, à l’époque des « fake news » et des intelligences artificielles génératives\, nous vous proposons dans cette seconde séance d’explorer les moyens de résister à la propagande complètement automatisée. \nDans le cadre de cet atelier\, nous explorerons deux axes :\n(1) se rendre « impermIAble » à la propagande par le développement d’une culture des sources et l’entraînement à l’authentification des contenus circulant sur Internet\n(2) imaginer collectivement les outils nécessaires au développement d’une résistance informationnelle en partant de l’intuition fondamentale des automédias : « média toi-même ! » \nEntrée libre\nMardi 30 juin 2026\, de 18h30 à 21h\nHyperlien\, Halles 1&2\, 5 allée Frida Kahlo\, 44 200 Nantes
URL:https://hyperlien.net/event/ecole-404-la-propagande-a-lepoque-de-sa-reproductibilite-technique-seance-2/
LOCATION:Hyperlien\, 5 allée Frida Kahlo\, Nantes\, 44 200
ATTACH;FMTTYPE=image/jpeg:https://hyperlien.net/wp-content/uploads/2026/03/photo_2026-03-09_11-47-09.jpg
END:VEVENT
END:VCALENDAR