BEGIN:VCALENDAR
VERSION:2.0
PRODID:-//Hyperlien - fablab à Nantes - ECPv6.15.20//NONSGML v1.0//EN
CALSCALE:GREGORIAN
METHOD:PUBLISH
X-ORIGINAL-URL:https://hyperlien.net
X-WR-CALDESC:Évènements pour Hyperlien - fablab à Nantes
REFRESH-INTERVAL;VALUE=DURATION:PT1H
X-Robots-Tag:noindex
X-PUBLISHED-TTL:PT1H
BEGIN:VTIMEZONE
TZID:Europe/Paris
BEGIN:DAYLIGHT
TZOFFSETFROM:+0100
TZOFFSETTO:+0200
TZNAME:CEST
DTSTART:20250330T010000
END:DAYLIGHT
BEGIN:STANDARD
TZOFFSETFROM:+0200
TZOFFSETTO:+0100
TZNAME:CET
DTSTART:20251026T010000
END:STANDARD
BEGIN:DAYLIGHT
TZOFFSETFROM:+0100
TZOFFSETTO:+0200
TZNAME:CEST
DTSTART:20260329T010000
END:DAYLIGHT
BEGIN:STANDARD
TZOFFSETFROM:+0200
TZOFFSETTO:+0100
TZNAME:CET
DTSTART:20261025T010000
END:STANDARD
BEGIN:DAYLIGHT
TZOFFSETFROM:+0100
TZOFFSETTO:+0200
TZNAME:CEST
DTSTART:20270328T010000
END:DAYLIGHT
BEGIN:STANDARD
TZOFFSETFROM:+0200
TZOFFSETTO:+0100
TZNAME:CET
DTSTART:20271031T010000
END:STANDARD
END:VTIMEZONE
BEGIN:VEVENT
DTSTART;TZID=Europe/Paris:20260430T140000
DTEND;TZID=Europe/Paris:20260430T180000
DTSTAMP:20260421T065453
CREATED:20251203T124024Z
LAST-MODIFIED:20251203T124024Z
UID:4267-1777557600-1777572000@hyperlien.net
SUMMARY:Atelier du Humanlab
DESCRIPTION:Le Humanlab accueille chaque jeudi bénévoles et bénéficiaires à Hyperlien pour réfléchir et concevoir ensemble des aides techniques avec et pour les personnes en situation de handicap. Venez participer à ce temps dédié : de la conception à la fabrication de dispositifs pour améliorer le quotidien de personnes en situation de handicap. Toutes les compétences sont les bienvenues : textile\, modélisation et impression 3D\, conception mécanique\, etc. \n\nDécouvrez les créations réalisées au sein du Humanlab.\nVous êtes en situation de handicap et souhaitez proposer un projet\, remplissez le formulaire !\nVous souhaitez devenir bénévole ? Vous pouvez venir chaque jeudi à partir de 14h et/ou remplir le formulaire de bénévolat.\n\nJeudi 30 avril 2026\, de 14h à 18h\nHyperlien\, Halles 1&2\, 5 allée Frida Kahlo\, 44 200 Nantes
URL:https://hyperlien.net/event/atelier-du-humanlab-avril26-5/
LOCATION:Hyperlien\, 5 allée Frida Kahlo\, Nantes\, 44 200
CATEGORIES:Atelier
ATTACH;FMTTYPE=image/jpeg:https://hyperlien.net/wp-content/uploads/2025/09/Humanlab-reunionR.jpeg
END:VEVENT
END:VCALENDAR