BEGIN:VCALENDAR
VERSION:2.0
PRODID:-//Hyperlien - fablab à Nantes - ECPv6.15.20//NONSGML v1.0//EN
CALSCALE:GREGORIAN
METHOD:PUBLISH
X-ORIGINAL-URL:https://hyperlien.net
X-WR-CALDESC:Évènements pour Hyperlien - fablab à Nantes
REFRESH-INTERVAL;VALUE=DURATION:PT1H
X-Robots-Tag:noindex
X-PUBLISHED-TTL:PT1H
BEGIN:VTIMEZONE
TZID:Europe/Paris
BEGIN:DAYLIGHT
TZOFFSETFROM:+0100
TZOFFSETTO:+0200
TZNAME:CEST
DTSTART:20250330T010000
END:DAYLIGHT
BEGIN:STANDARD
TZOFFSETFROM:+0200
TZOFFSETTO:+0100
TZNAME:CET
DTSTART:20251026T010000
END:STANDARD
BEGIN:DAYLIGHT
TZOFFSETFROM:+0100
TZOFFSETTO:+0200
TZNAME:CEST
DTSTART:20260329T010000
END:DAYLIGHT
BEGIN:STANDARD
TZOFFSETFROM:+0200
TZOFFSETTO:+0100
TZNAME:CET
DTSTART:20261025T010000
END:STANDARD
BEGIN:DAYLIGHT
TZOFFSETFROM:+0100
TZOFFSETTO:+0200
TZNAME:CEST
DTSTART:20270328T010000
END:DAYLIGHT
BEGIN:STANDARD
TZOFFSETFROM:+0200
TZOFFSETTO:+0100
TZNAME:CET
DTSTART:20271031T010000
END:STANDARD
END:VTIMEZONE
BEGIN:VEVENT
DTSTART;TZID=Europe/Paris:20260319T100000
DTEND;TZID=Europe/Paris:20260319T130000
DTSTAMP:20260421T035406
CREATED:20251202T152734Z
LAST-MODIFIED:20251202T152734Z
UID:4141-1773914400-1773925200@hyperlien.net
SUMMARY:L'Atelier des Hypernautes
DESCRIPTION:L’Atelier des Hypernautes\, qu’est-ce que c’est ? \nUn temps d’ouverture en autonomie du fablab ! L’atelier est encadré par un duo d’Hypernautes\, adhérent⋅es bénévoles de PiNG\, responsables du créneau\, formé⋅es à l’accueil et à la sécurité par PiNG. Le créneau est ouvert aux adhérent⋅es confirmé⋅es\, fréquentant déjà le fablab durant les OPENAteliers. On y vient pour travailler sur des machines dont on connaît a minima l’utilisation. \nLe créneau est ouvert uniquement si deux Hypernautes sont présent⋅es. Si vous ne voyez aucune date disponible dans le formulaire\, c’est que les responsables de créneau ne se sont pas encore inscrit⋅es ou que le créneau est complet. Revenez consulter prochainement ! \nInscription obligatoire via le formulaire\, jusqu’à midi la veille du créneau.\nJauge maximum de 10 personnes\nJeudi 19 mars 2026\, de 10h à 13h\, à Hyperlien
URL:https://hyperlien.net/event/latelier-des-hypernautes-mars26-6/
LOCATION:Hyperlien\, 5 allée Frida Kahlo\, Nantes\, 44 200
CATEGORIES:Atelier
ATTACH;FMTTYPE=image/png:https://hyperlien.net/wp-content/uploads/2025/07/image1-6.png
END:VEVENT
BEGIN:VEVENT
DTSTART;TZID=Europe/Paris:20260316T140000
DTEND;TZID=Europe/Paris:20260316T160000
DTSTAMP:20260421T035406
CREATED:20251202T140244Z
LAST-MODIFIED:20251202T140244Z
UID:4053-1773669600-1773676800@hyperlien.net
SUMMARY:Atelier conception 3D & programmation - niveau intermédiaire-avancé
DESCRIPTION:En groupe\, venez partager et créer des projets mettant en oeuvre des cartes programmables (Arduino\, ESP32…) et/ou de la conception 3D. Vous pouvez rejoindre un groupe autour d’un projet commun ou faire votre propre projet tout en échangeant avec les autres participant⋅es afin d’acquérir de nouvelles compétences mais aussi partager les vôtres. \nCe temps est géré collectivement par les participant⋅es et l’animation est bénévole. \nLundi 16 mars\, de 14h à 16h\nHyperlien\, Halles 1&2\, 5 allée Frida Kahlo\, 44 200 Nantes\nInscription gratuite via ce formulaire\nAccessible sur adhésion à PiNG \n 
URL:https://hyperlien.net/event/atelier-conception-3d-programmation-niveau-intermediaire-avance-mars26-3/
LOCATION:Hyperlien\, 5 allée Frida Kahlo\, Nantes\, 44 200
CATEGORIES:Atelier
ATTACH;FMTTYPE=image/jpeg:https://hyperlien.net/wp-content/uploads/2025/09/IMG_2624R-scaled.jpg
END:VEVENT
BEGIN:VEVENT
DTSTART;TZID=Europe/Paris:20260312T100000
DTEND;TZID=Europe/Paris:20260312T130000
DTSTAMP:20260421T035406
CREATED:20251202T152711Z
LAST-MODIFIED:20251202T152711Z
UID:4142-1773309600-1773320400@hyperlien.net
SUMMARY:L'Atelier des Hypernautes
DESCRIPTION:L’Atelier des Hypernautes\, qu’est-ce que c’est ? \nUn temps d’ouverture en autonomie du fablab ! L’atelier est encadré par un duo d’Hypernautes\, adhérent⋅es bénévoles de PiNG\, responsables du créneau\, formé⋅es à l’accueil et à la sécurité par PiNG. Le créneau est ouvert aux adhérent⋅es confirmé⋅es\, fréquentant déjà le fablab durant les OPENAteliers. On y vient pour travailler sur des machines dont on connaît a minima l’utilisation. \nLe créneau est ouvert uniquement si deux Hypernautes sont présent⋅es. Si vous ne voyez aucune date disponible dans le formulaire\, c’est que les responsables de créneau ne se sont pas encore inscrit⋅es ou que le créneau est complet. Revenez consulter prochainement ! \nInscription obligatoire via le formulaire\, jusqu’à midi la veille du créneau.\nJauge maximum de 10 personnes\nJeudi 12 mars 2026\, de 10h à 13h\, à Hyperlien
URL:https://hyperlien.net/event/latelier-des-hypernautes-mars26-4/
LOCATION:Hyperlien\, 5 allée Frida Kahlo\, Nantes\, 44 200
CATEGORIES:Atelier
ATTACH;FMTTYPE=image/png:https://hyperlien.net/wp-content/uploads/2025/07/image1-6.png
END:VEVENT
BEGIN:VEVENT
DTSTART;TZID=Europe/Paris:20260310T140000
DTEND;TZID=Europe/Paris:20260310T180000
DTSTAMP:20260421T035406
CREATED:20260306T143854Z
LAST-MODIFIED:20260306T143854Z
UID:4520-1773151200-1773165600@hyperlien.net
SUMMARY:L'Atelier des Hypernautes
DESCRIPTION:L’Atelier des Hypernautes\, qu’est-ce que c’est ? \nUn temps d’ouverture en autonomie du fablab ! L’atelier est encadré par un duo d’Hypernautes\, adhérent⋅es bénévoles de PiNG\, responsables du créneau\, formé⋅es à l’accueil et à la sécurité par PiNG. Le créneau est ouvert aux adhérent⋅es confirmé⋅es\, fréquentant déjà le fablab durant les OPENAteliers. On y vient pour travailler sur des machines dont on connaît a minima l’utilisation. \nLe créneau est ouvert uniquement si deux Hypernautes sont présent⋅es. Si vous ne voyez aucune date disponible dans le formulaire\, c’est que les responsables de créneau ne se sont pas encore inscrit⋅es ou que le créneau est complet. Revenez consulter prochainement ! \nInscription obligatoire via le formulaire\, jusqu’à midi la veille du créneau.\nMardi 10 mars 2026\, de 14h à 18h\, à Hyperlien
URL:https://hyperlien.net/event/latelier-des-hypernautes-mars26-2-2/
LOCATION:Hyperlien\, 5 allée Frida Kahlo\, Nantes\, 44 200
CATEGORIES:Atelier
ATTACH;FMTTYPE=image/png:https://hyperlien.net/wp-content/uploads/2025/07/image1-6.png
END:VEVENT
BEGIN:VEVENT
DTSTART;TZID=Europe/Paris:20260309T140000
DTEND;TZID=Europe/Paris:20260309T160000
DTSTAMP:20260421T035406
CREATED:20251202T140216Z
LAST-MODIFIED:20251202T140216Z
UID:4054-1773064800-1773072000@hyperlien.net
SUMMARY:Atelier conception 3D & programmation - niveau intermédiaire-avancé
DESCRIPTION:En groupe\, venez partager et créer des projets mettant en oeuvre des cartes programmables (Arduino\, ESP32…) et/ou de la conception 3D. Vous pouvez rejoindre un groupe autour d’un projet commun ou faire votre propre projet tout en échangeant avec les autres participant⋅es afin d’acquérir de nouvelles compétences mais aussi partager les vôtres. \nCe temps est géré collectivement par les participant⋅es et l’animation est bénévole. \nLundi 9 mars\, de 14h à 16h\nHyperlien\, Halles 1&2\, 5 allée Frida Kahlo\, 44 200 Nantes\nInscription gratuite via ce formulaire\nAccessible sur adhésion à PiNG \n 
URL:https://hyperlien.net/event/atelier-conception-3d-programmation-niveau-intermediaire-avance-mars26-2/
LOCATION:Hyperlien\, 5 allée Frida Kahlo\, Nantes\, 44 200
CATEGORIES:Atelier
ATTACH;FMTTYPE=image/jpeg:https://hyperlien.net/wp-content/uploads/2025/09/IMG_2624R-scaled.jpg
END:VEVENT
BEGIN:VEVENT
DTSTART;TZID=Europe/Paris:20260305T100000
DTEND;TZID=Europe/Paris:20260305T130000
DTSTAMP:20260421T035406
CREATED:20251202T152648Z
LAST-MODIFIED:20251202T152648Z
UID:4143-1772704800-1772715600@hyperlien.net
SUMMARY:L'Atelier des Hypernautes
DESCRIPTION:L’Atelier des Hypernautes\, qu’est-ce que c’est ? \nUn temps d’ouverture en autonomie du fablab ! L’atelier est encadré par un duo d’Hypernautes\, adhérent⋅es bénévoles de PiNG\, responsables du créneau\, formé⋅es à l’accueil et à la sécurité par PiNG. Le créneau est ouvert aux adhérent⋅es confirmé⋅es\, fréquentant déjà le fablab durant les OPENAteliers. On y vient pour travailler sur des machines dont on connaît a minima l’utilisation. \nLe créneau est ouvert uniquement si deux Hypernautes sont présent⋅es. Si vous ne voyez aucune date disponible dans le formulaire\, c’est que les responsables de créneau ne se sont pas encore inscrit⋅es ou que le créneau est complet. Revenez consulter prochainement ! \nInscription obligatoire via le formulaire\, jusqu’à midi la veille du créneau.\nJauge maximum de 10 personnes\nJeudi 5 mars\, de 10h à 13h\, à Hyperlien
URL:https://hyperlien.net/event/latelier-des-hypernautes-mars26-2/
LOCATION:Hyperlien\, 5 allée Frida Kahlo\, Nantes\, 44 200
CATEGORIES:Atelier
ATTACH;FMTTYPE=image/png:https://hyperlien.net/wp-content/uploads/2025/07/image1-6.png
END:VEVENT
BEGIN:VEVENT
DTSTART;TZID=Europe/Paris:20260302T140000
DTEND;TZID=Europe/Paris:20260302T160000
DTSTAMP:20260421T035406
CREATED:20251202T140151Z
LAST-MODIFIED:20251202T140151Z
UID:4055-1772460000-1772467200@hyperlien.net
SUMMARY:Atelier conception 3D & programmation - niveau intermédiaire-avancé
DESCRIPTION:En groupe\, venez partager et créer des projets mettant en oeuvre des cartes programmables (Arduino\, ESP32…) et/ou de la conception 3D. Vous pouvez rejoindre un groupe autour d’un projet commun ou faire votre propre projet tout en échangeant avec les autres participant⋅es afin d’acquérir de nouvelles compétences mais aussi partager les vôtres. \nCe temps est géré collectivement par les participant⋅es et l’animation est bénévole. \nLundi 2 mars\, de 14h à 16h\nHyperlien\, Halles 1&2\, 5 allée Frida Kahlo\, 44 200 Nantes\nInscription gratuite via ce formulaire\nAccessible sur adhésion à PiNG \n 
URL:https://hyperlien.net/event/atelier-conception-3d-programmation-niveau-intermediaire-avance-mars26-1/
LOCATION:Hyperlien\, 5 allée Frida Kahlo\, Nantes\, 44 200
CATEGORIES:Atelier
ATTACH;FMTTYPE=image/jpeg:https://hyperlien.net/wp-content/uploads/2025/09/IMG_2624R-scaled.jpg
END:VEVENT
BEGIN:VEVENT
DTSTART;TZID=Europe/Paris:20260226T180000
DTEND;TZID=Europe/Paris:20260226T190000
DTSTAMP:20260421T035406
CREATED:20251210T105111Z
LAST-MODIFIED:20251210T105111Z
UID:4388-1772128800-1772132400@hyperlien.net
SUMMARY:Visite d'Hyperlien
DESCRIPTION:Partez à la découverte d’Hyperlien\, la maison commune des cultures numériques\, gérée par PiNG et co-animée avec le Humanlab de l’APAJH 44 et la Maison du Libre\, sur l’île de Nantes ! \nSuivez le guide ! Durant une heure\, un·e membre de l’équipe vous emmène à la découverte de tous les recoins d’un lieu foisonnant et ouvert à toutes et à tous : à la fois atelier de fabrication\, espace de formation et de transmission et lieu ressource. Vous découvrirez les espaces\, les outils et les machines. Hyperlien et sa communauté n’auront plus de secrets pour vous ! \nLe jeudi 26 février 2026\, de 18h à 19h\, \nà Hyperlien\, Halles 1 & 2\, 5 allée Frida Kahlo\, Nantes\nEntrée libre \n 
URL:https://hyperlien.net/event/visite-dhyperlien/
LOCATION:Hyperlien\, 5 allée Frida Kahlo\, Nantes\, 44 200
CATEGORIES:Visite
ATTACH;FMTTYPE=image/jpeg:https://hyperlien.net/wp-content/uploads/2023/07/IMG_20230705_153025-1-scaled.jpg
END:VEVENT
BEGIN:VEVENT
DTSTART;TZID=Europe/Paris:20260226T100000
DTEND;TZID=Europe/Paris:20260226T130000
DTSTAMP:20260421T035406
CREATED:20251202T152613Z
LAST-MODIFIED:20251202T152613Z
UID:4144-1772100000-1772110800@hyperlien.net
SUMMARY:L'Atelier des Hypernautes
DESCRIPTION:L’Atelier des Hypernautes\, qu’est-ce que c’est ? \nUn temps d’ouverture en autonomie du fablab ! L’atelier est encadré par un duo d’Hypernautes\, adhérent⋅es bénévoles de PiNG\, responsables du créneau\, formé⋅es à l’accueil et à la sécurité par PiNG. Le créneau est ouvert aux adhérent⋅es confirmé⋅es\, fréquentant déjà le fablab durant les OPENAteliers. On y vient pour travailler sur des machines dont on connaît a minima l’utilisation. \nLe créneau est ouvert uniquement si deux Hypernautes sont présent⋅es. Si vous ne voyez aucune date disponible dans le formulaire\, c’est que les responsables de créneau ne se sont pas encore inscrit⋅es ou que le créneau est complet. Revenez consulter prochainement ! \nInscription obligatoire via le formulaire\, jusqu’à midi la veille du créneau.\nJauge maximum de 10 personnes\nJeudi 26 février 2026\, de 10h à 13h\, à Hyperlien
URL:https://hyperlien.net/event/latelier-des-hypernautes-fev26-8/
LOCATION:Hyperlien\, 5 allée Frida Kahlo\, Nantes\, 44 200
CATEGORIES:Atelier
ATTACH;FMTTYPE=image/png:https://hyperlien.net/wp-content/uploads/2025/07/image1-6.png
END:VEVENT
BEGIN:VEVENT
DTSTART;TZID=Europe/Paris:20260224T140000
DTEND;TZID=Europe/Paris:20260224T180000
DTSTAMP:20260421T035406
CREATED:20251202T154202Z
LAST-MODIFIED:20251202T154202Z
UID:4200-1771941600-1771956000@hyperlien.net
SUMMARY:L'Atelier des Hypernautes
DESCRIPTION:L’Atelier des Hypernautes\, qu’est-ce que c’est ? \nUn temps d’ouverture en autonomie du fablab ! L’atelier est encadré par un duo d’Hypernautes\, adhérent⋅es bénévoles de PiNG\, responsables du créneau\, formé⋅es à l’accueil et à la sécurité par PiNG. Le créneau est ouvert aux adhérent⋅es confirmé⋅es\, fréquentant déjà le fablab durant les OPENAteliers. On y vient pour travailler sur des machines dont on connaît a minima l’utilisation. \nLe créneau est ouvert uniquement si deux Hypernautes sont présent⋅es. Si vous ne voyez aucune date disponible dans le formulaire\, c’est que les responsables de créneau ne se sont pas encore inscrit⋅es ou que le créneau est complet. Revenez consulter prochainement ! \nInscription obligatoire via le formulaire\, jusqu’à midi la veille du créneau.\nMardi 24 février 2026\, de 14h à 18h\, à Hyperlien
URL:https://hyperlien.net/event/latelier-des-hypernautes-fev26-6-2/
LOCATION:Hyperlien\, 5 allée Frida Kahlo\, Nantes\, 44 200
CATEGORIES:Atelier
ATTACH;FMTTYPE=image/png:https://hyperlien.net/wp-content/uploads/2025/07/image1-6.png
END:VEVENT
BEGIN:VEVENT
DTSTART;TZID=Europe/Paris:20260223T140000
DTEND;TZID=Europe/Paris:20260223T160000
DTSTAMP:20260421T035406
CREATED:20251202T140117Z
LAST-MODIFIED:20251202T140117Z
UID:4056-1771855200-1771862400@hyperlien.net
SUMMARY:Atelier conception 3D & programmation - niveau intermédiaire-avancé
DESCRIPTION:En groupe\, venez partager et créer des projets mettant en oeuvre des cartes programmables (Arduino\, ESP32…) et/ou de la conception 3D. Vous pouvez rejoindre un groupe autour d’un projet commun ou faire votre propre projet tout en échangeant avec les autres participant⋅es afin d’acquérir de nouvelles compétences mais aussi partager les vôtres. \nCe temps est géré collectivement par les participant⋅es et l’animation est bénévole. \nLundi 23 février\, de 14h à 16h\nHyperlien\, Halles 1&2\, 5 allée Frida Kahlo\, 44 200 Nantes\nInscription gratuite via ce formulaire\nAccessible sur adhésion à PiNG \n 
URL:https://hyperlien.net/event/atelier-conception-3d-programmation-niveau-intermediaire-avance-fev26-4/
LOCATION:Hyperlien\, 5 allée Frida Kahlo\, Nantes\, 44 200
CATEGORIES:Atelier
ATTACH;FMTTYPE=image/jpeg:https://hyperlien.net/wp-content/uploads/2025/09/IMG_2624R-scaled.jpg
END:VEVENT
BEGIN:VEVENT
DTSTART;TZID=Europe/Paris:20260219T100000
DTEND;TZID=Europe/Paris:20260219T130000
DTSTAMP:20260421T035406
CREATED:20251202T152420Z
LAST-MODIFIED:20251202T152420Z
UID:4145-1771495200-1771506000@hyperlien.net
SUMMARY:L'Atelier des Hypernautes
DESCRIPTION:L’Atelier des Hypernautes\, qu’est-ce que c’est ? \nUn temps d’ouverture en autonomie du fablab ! L’atelier est encadré par un duo d’Hypernautes\, adhérent⋅es bénévoles de PiNG\, responsables du créneau\, formé⋅es à l’accueil et à la sécurité par PiNG. Le créneau est ouvert aux adhérent⋅es confirmé⋅es\, fréquentant déjà le fablab durant les OPENAteliers. On y vient pour travailler sur des machines dont on connaît a minima l’utilisation. \nLe créneau est ouvert uniquement si deux Hypernautes sont présent⋅es. Si vous ne voyez aucune date disponible dans le formulaire\, c’est que les responsables de créneau ne se sont pas encore inscrit⋅es ou que le créneau est complet. Revenez consulter prochainement ! \nInscription obligatoire via le formulaire\, jusqu’à midi la veille du créneau.\nJauge maximum de 10 personnes\nJeudi 19 février\, de 10h à 13h\, à Hyperlien
URL:https://hyperlien.net/event/latelier-des-hypernautes-fev26-6/
LOCATION:Hyperlien\, 5 allée Frida Kahlo\, Nantes\, 44 200
CATEGORIES:Atelier
ATTACH;FMTTYPE=image/png:https://hyperlien.net/wp-content/uploads/2025/07/image1-6.png
END:VEVENT
BEGIN:VEVENT
DTSTART;TZID=Europe/Paris:20260217T140000
DTEND;TZID=Europe/Paris:20260217T180000
DTSTAMP:20260421T035406
CREATED:20251202T161616Z
LAST-MODIFIED:20251202T161616Z
UID:4219-1771336800-1771351200@hyperlien.net
SUMMARY:L'Atelier des Hypernautes
DESCRIPTION:L’Atelier des Hypernautes\, qu’est-ce que c’est ? \nUn temps d’ouverture en autonomie du fablab ! L’atelier est encadré par un duo d’Hypernautes\, adhérent⋅es bénévoles de PiNG\, responsables du créneau\, formé⋅es à l’accueil et à la sécurité par PiNG. Le créneau est ouvert aux adhérent⋅es confirmé⋅es\, fréquentant déjà le fablab durant les OPENAteliers. On y vient pour travailler sur des machines dont on connaît a minima l’utilisation. \nLe créneau est ouvert uniquement si deux Hypernautes sont présent⋅es. Si vous ne voyez aucune date disponible dans le formulaire\, c’est que les responsables de créneau ne se sont pas encore inscrit⋅es ou que le créneau est complet. Revenez consulter prochainement ! \nInscription obligatoire via le formulaire\, jusqu’à midi la veille du créneau.\nMardi 17 février 2026\, de 14h à 18h\, à Hyperlien
URL:https://hyperlien.net/event/latelier-des-hypernautes-fev26-4-2/
LOCATION:Hyperlien\, 5 allée Frida Kahlo\, Nantes\, 44 200
CATEGORIES:Atelier
ATTACH;FMTTYPE=image/png:https://hyperlien.net/wp-content/uploads/2025/07/image1-6.png
END:VEVENT
BEGIN:VEVENT
DTSTART;TZID=Europe/Paris:20260216T140000
DTEND;TZID=Europe/Paris:20260216T160000
DTSTAMP:20260421T035406
CREATED:20251202T140053Z
LAST-MODIFIED:20251202T140053Z
UID:4057-1771250400-1771257600@hyperlien.net
SUMMARY:Atelier conception 3D & programmation - niveau intermédiaire-avancé
DESCRIPTION:En groupe\, venez partager et créer des projets mettant en oeuvre des cartes programmables (Arduino\, ESP32…) et/ou de la conception 3D. Vous pouvez rejoindre un groupe autour d’un projet commun ou faire votre propre projet tout en échangeant avec les autres participant⋅es afin d’acquérir de nouvelles compétences mais aussi partager les vôtres. \nCe temps est géré collectivement par les participant⋅es et l’animation est bénévole. \nLundi 16 février\, de 14h à 16h\nHyperlien\, Halles 1&2\, 5 allée Frida Kahlo\, 44 200 Nantes\nInscription gratuite via ce formulaire\nAccessible sur adhésion à PiNG \n 
URL:https://hyperlien.net/event/atelier-conception-3d-programmation-niveau-intermediaire-avance-fev26-3/
LOCATION:Hyperlien\, 5 allée Frida Kahlo\, Nantes\, 44 200
CATEGORIES:Atelier
ATTACH;FMTTYPE=image/jpeg:https://hyperlien.net/wp-content/uploads/2025/09/IMG_2624R-scaled.jpg
END:VEVENT
BEGIN:VEVENT
DTSTART;TZID=Europe/Paris:20260212T100000
DTEND;TZID=Europe/Paris:20260212T130000
DTSTAMP:20260421T035406
CREATED:20251202T152359Z
LAST-MODIFIED:20251202T152359Z
UID:4146-1770890400-1770901200@hyperlien.net
SUMMARY:L'Atelier des Hypernautes
DESCRIPTION:L’Atelier des Hypernautes\, qu’est-ce que c’est ? \nUn temps d’ouverture en autonomie du fablab ! L’atelier est encadré par un duo d’Hypernautes\, adhérent⋅es bénévoles de PiNG\, responsables du créneau\, formé⋅es à l’accueil et à la sécurité par PiNG. Le créneau est ouvert aux adhérent⋅es confirmé⋅es\, fréquentant déjà le fablab durant les OPENAteliers. On y vient pour travailler sur des machines dont on connaît a minima l’utilisation. \nLe créneau est ouvert uniquement si deux Hypernautes sont présent⋅es. Si vous ne voyez aucune date disponible dans le formulaire\, c’est que les responsables de créneau ne se sont pas encore inscrit⋅es ou que le créneau est complet. Revenez consulter prochainement ! \nInscription obligatoire via le formulaire\, jusqu’à midi la veille du créneau.\nJauge maximum de 10 personnes\nJeudi 12 février\, de 10h à 13h\, à Hyperlien
URL:https://hyperlien.net/event/latelier-des-hypernautes-fev26-4/
LOCATION:Hyperlien\, 5 allée Frida Kahlo\, Nantes\, 44 200
CATEGORIES:Atelier
ATTACH;FMTTYPE=image/png:https://hyperlien.net/wp-content/uploads/2025/07/image1-6.png
END:VEVENT
BEGIN:VEVENT
DTSTART;TZID=Europe/Paris:20260209T140000
DTEND;TZID=Europe/Paris:20260209T160000
DTSTAMP:20260421T035406
CREATED:20251202T135955Z
LAST-MODIFIED:20251202T135955Z
UID:4058-1770645600-1770652800@hyperlien.net
SUMMARY:Atelier conception 3D & programmation - niveau intermédiaire-avancé
DESCRIPTION:En groupe\, venez partager et créer des projets mettant en oeuvre des cartes programmables (Arduino\, ESP32…) et/ou de la conception 3D. Vous pouvez rejoindre un groupe autour d’un projet commun ou faire votre propre projet tout en échangeant avec les autres participant⋅es afin d’acquérir de nouvelles compétences mais aussi partager les vôtres. \nCe temps est géré collectivement par les participant⋅es et l’animation est bénévole. \nLundi 9 février\, de 14h à 16h\nHyperlien\, Halles 1&2\, 5 allée Frida Kahlo\, 44 200 Nantes\nInscription gratuite via ce formulaire\nAccessible sur adhésion à PiNG \n 
URL:https://hyperlien.net/event/atelier-conception-3d-programmation-niveau-intermediaire-avance-fev26-2/
LOCATION:Hyperlien\, 5 allée Frida Kahlo\, Nantes\, 44 200
CATEGORIES:Atelier
ATTACH;FMTTYPE=image/jpeg:https://hyperlien.net/wp-content/uploads/2025/09/IMG_2624R-scaled.jpg
END:VEVENT
END:VCALENDAR