BEGIN:VCALENDAR
VERSION:2.0
PRODID:-//Hyperlien - fablab à Nantes - ECPv6.15.20//NONSGML v1.0//EN
CALSCALE:GREGORIAN
METHOD:PUBLISH
X-ORIGINAL-URL:https://hyperlien.net
X-WR-CALDESC:Évènements pour Hyperlien - fablab à Nantes
REFRESH-INTERVAL;VALUE=DURATION:PT1H
X-Robots-Tag:noindex
X-PUBLISHED-TTL:PT1H
BEGIN:VTIMEZONE
TZID:Europe/Paris
BEGIN:DAYLIGHT
TZOFFSETFROM:+0100
TZOFFSETTO:+0200
TZNAME:CEST
DTSTART:20250330T010000
END:DAYLIGHT
BEGIN:STANDARD
TZOFFSETFROM:+0200
TZOFFSETTO:+0100
TZNAME:CET
DTSTART:20251026T010000
END:STANDARD
BEGIN:DAYLIGHT
TZOFFSETFROM:+0100
TZOFFSETTO:+0200
TZNAME:CEST
DTSTART:20260329T010000
END:DAYLIGHT
BEGIN:STANDARD
TZOFFSETFROM:+0200
TZOFFSETTO:+0100
TZNAME:CET
DTSTART:20261025T010000
END:STANDARD
BEGIN:DAYLIGHT
TZOFFSETFROM:+0100
TZOFFSETTO:+0200
TZNAME:CEST
DTSTART:20270328T010000
END:DAYLIGHT
BEGIN:STANDARD
TZOFFSETFROM:+0200
TZOFFSETTO:+0100
TZNAME:CET
DTSTART:20271031T010000
END:STANDARD
END:VTIMEZONE
BEGIN:VEVENT
DTSTART;TZID=Europe/Paris:20260622T140000
DTEND;TZID=Europe/Paris:20260622T160000
DTSTAMP:20260421T065437
CREATED:20251202T141324Z
LAST-MODIFIED:20251202T141324Z
UID:4040-1782136800-1782144000@hyperlien.net
SUMMARY:Atelier conception 3D & programmation - niveau intermédiaire-avancé
DESCRIPTION:En groupe\, venez partager et créer des projets mettant en oeuvre des cartes programmables (Arduino\, ESP32…) et/ou de la conception 3D. Vous pouvez rejoindre un groupe autour d’un projet commun ou faire votre propre projet tout en échangeant avec les autres participant⋅es afin d’acquérir de nouvelles compétences mais aussi partager les vôtres. \nCe temps est géré collectivement par les participant⋅es et l’animation est bénévole. \nLundi 22 juin\, de 14h à 16h\nHyperlien\, Halles 1&2\, 5 allée Frida Kahlo\, 44 200 Nantes\nInscription gratuite via ce formulaire\nAccessible sur adhésion à PiNG \n 
URL:https://hyperlien.net/event/atelier-conception-3d-programmation-niveau-intermediaire-avance-juin26-4/
LOCATION:Hyperlien\, 5 allée Frida Kahlo\, Nantes\, 44 200
CATEGORIES:Atelier
ATTACH;FMTTYPE=image/jpeg:https://hyperlien.net/wp-content/uploads/2025/09/IMG_2624R-scaled.jpg
END:VEVENT
BEGIN:VEVENT
DTSTART;TZID=Europe/Paris:20260623T140000
DTEND;TZID=Europe/Paris:20260623T180000
DTSTAMP:20260421T065437
CREATED:20251202T155720Z
LAST-MODIFIED:20251202T155720Z
UID:4192-1782223200-1782237600@hyperlien.net
SUMMARY:L'Atelier des Hypernautes
DESCRIPTION:L’Atelier des Hypernautes\, qu’est-ce que c’est ? \nUn temps d’ouverture en autonomie du fablab ! L’atelier est encadré par un duo d’Hypernautes\, adhérent⋅es bénévoles de PiNG\, responsables du créneau\, formé⋅es à l’accueil et à la sécurité par PiNG. Le créneau est ouvert aux adhérent⋅es confirmé⋅es\, fréquentant déjà le fablab durant les OPENAteliers. On y vient pour travailler sur des machines dont on connaît a minima l’utilisation. \nLe créneau est ouvert uniquement si deux Hypernautes sont présent⋅es. Si vous ne voyez aucune date disponible dans le formulaire\, c’est que les responsables de créneau ne se sont pas encore inscrit⋅es ou que le créneau est complet. Revenez consulter prochainement ! \nInscription obligatoire via le formulaire\, jusqu’à midi la veille du créneau.\nMardi 23 juin 2026\, de 14h à 18h\, à Hyperlien
URL:https://hyperlien.net/event/latelier-des-hypernautes-juin26-6/
LOCATION:Hyperlien\, 5 allée Frida Kahlo\, Nantes\, 44 200
CATEGORIES:Atelier
ATTACH;FMTTYPE=image/png:https://hyperlien.net/wp-content/uploads/2025/07/image1-6.png
END:VEVENT
BEGIN:VEVENT
DTSTART;TZID=Europe/Paris:20260625T100000
DTEND;TZID=Europe/Paris:20260625T130000
DTSTAMP:20260421T065437
CREATED:20251202T162831Z
LAST-MODIFIED:20260306T144356Z
UID:4228-1782381600-1782392400@hyperlien.net
SUMMARY:L'Atelier des Hypernautes
DESCRIPTION:L’Atelier des Hypernautes\, qu’est-ce que c’est ? \nUn temps d’ouverture en autonomie du fablab ! L’atelier est encadré par un duo d’Hypernautes\, adhérent⋅es bénévoles de PiNG\, responsables du créneau\, formé⋅es à l’accueil et à la sécurité par PiNG. Le créneau est ouvert aux adhérent⋅es confirmé⋅es\, fréquentant déjà le fablab durant les OPENAteliers. On y vient pour travailler sur des machines dont on connaît a minima l’utilisation. \nLe créneau est ouvert uniquement si deux Hypernautes sont présent⋅es. Si vous ne voyez aucune date disponible dans le formulaire\, c’est que les responsables de créneau ne se sont pas encore inscrit⋅es ou que le créneau est complet. Revenez consulter prochainement ! \nInscription obligatoire via le formulaire\, jusqu’à midi la veille du créneau.\nJeudi 25 juin 2026\, de 10h à 13h\, à Hyperlien
URL:https://hyperlien.net/event/latelier-des-hypernautes-juin26-7-2/
LOCATION:Hyperlien\, 5 allée Frida Kahlo\, Nantes\, 44 200
CATEGORIES:Atelier
ATTACH;FMTTYPE=image/png:https://hyperlien.net/wp-content/uploads/2025/07/image1-6.png
END:VEVENT
BEGIN:VEVENT
DTSTART;TZID=Europe/Paris:20260702T093000
DTEND;TZID=Europe/Paris:20260703T173000
DTSTAMP:20260421T065437
CREATED:20260309T104340Z
LAST-MODIFIED:20260309T143708Z
UID:4565-1782984600-1783099800@hyperlien.net
SUMMARY:Formation pro : Réaliser des projets avec une imprimante 3D\, 1er niveau
DESCRIPTION:L’impression 3D est une technique de fabrication numérique qui permet de réaliser des objets usuels\, des pièces détachées ou encore des prototypes destinés aux essais. La réalisation de projets avec une imprimante 3D permet une approche ludique pour apprendre à maîtriser les étapes de fabrication\, pour prototyper ou produire des objets usuels\, techniques\, artistiques\, ludiques. Son utilisation peut également revêtir de nombreux intérêts pédagogiques ou de médiation en lien avec la fabrication numérique. \nCe module vous permettra d’acquérir les bases techniques de l’utilisation d’une imprimante 3D et d’appréhender des outils open source / libres en lien avec cette technique. Vous explorerez également des ressources inspirantes pour nourrir votre pratique artistique\, votre pratique de design\, votre pratique pédagogique ou de médiation en lien avec la fabrication numérique et l’impression 3D. \nSur inscription\, aux tarifs suivants :\nProfessionnel·les (prise en charge OPCO/employeur) : 420 €/jour\nAuto-financement personnel : 190€/jour\nTarif solidaire possible\, nous contacter formation@pingbase.net \n\nJeudi 2 et vendredi 3 juillet 2026\, de 9h30 à 17h30\nHyperlien\, Halles 1&2\, 5 allée Frida Kahlo\, 44 200 Nantes
URL:https://hyperlien.net/event/formation-pro-realiser-des-projets-avec-une-imprimante-3d-1er-niveau/
LOCATION:Hyperlien\, 5 allée Frida Kahlo\, Nantes\, 44 200
CATEGORIES:Formation
ATTACH;FMTTYPE=image/webp:https://hyperlien.net/wp-content/uploads/2026/03/impression-3D.webp
END:VEVENT
BEGIN:VEVENT
DTSTART;TZID=Europe/Paris:20260824T093000
DTEND;TZID=Europe/Paris:20260826T173000
DTSTAMP:20260421T065437
CREATED:20250328T141432Z
LAST-MODIFIED:20260309T104852Z
UID:3314-1787563800-1787765400@hyperlien.net
SUMMARY:Formation pro : Utiliser la découpe laser au service de maquettes d’architecture et d’urbanisme
DESCRIPTION:Sur une base de dessin vectoriel\, la découpeuse laser permet de travailler à la fois des techniques (assemblages\, volumes\, détails)\, des effets (gravures\, superpositions\, motifs)\, des matières (papier\, carton\, bois\, plexi\, textile)\, et des types de productions différentes (plan topographique en relief\, gravure d’éléments ﬁns de décor et de mobilier tels que garde-corps\, ajourage\, fenêtre\, et le volume général de bâtiments). \nLa maquette\, par sa matérialité\, apporte une plus-value concrète et immersive par rapport aux simples rendus 3D\, et permet plus facilement à des interlocuteurs comme des clients\, commanditaires ou usagers de se projeter sur des usages. \nCe module vous permettra d’acquérir les bases techniques de l’utilisation d’une découpeuse laser\, d’appréhender des outils open source / libre. Elle alterne des temps pratiques\, temps théorique\, pour vous permettre d’acquérir les bases de la découpe et la gravure laser au service de votre projet. \nPour en savoir plus\, retrouvez la fiche détaillée de formation \nSur inscription par mail\, aux tarifs suivants :\nProfessionnel⋅les (prise en charge OPCO/employeur) : 420 €/jour\nAuto-financement personnel : 190€/jour\nTarif solidaire possible\, nous contacter formation@pingbase.net \nLundi 24 au Mercredi 26 août 2026\, de 9h30 à 17h30\nHyperlien\, Halles 1&2\, 5 allée Frida Kahlo\, 44 200 Nantes
URL:https://hyperlien.net/event/formation-pro-utiliser-la-decoupe-laser-au-service-de-maquettes-darchitecture-et-durbanisme-2026/
LOCATION:Hyperlien\, 5 allée Frida Kahlo\, Nantes\, 44 200
CATEGORIES:Formation
ATTACH;FMTTYPE=image/webp:https://hyperlien.net/wp-content/uploads/2025/03/maquettes-laser.webp
END:VEVENT
BEGIN:VEVENT
DTSTART;TZID=Europe/Paris:20261123T093000
DTEND;TZID=Europe/Paris:20261124T173000
DTSTAMP:20260421T065437
CREATED:20251202T162402Z
LAST-MODIFIED:20260302T171505Z
UID:4222-1795426200-1795541400@hyperlien.net
SUMMARY:Formation pro : Utiliser la découpe et la gravure laser au service de projets artistiques
DESCRIPTION:La découpe laser est une technique de fabrication numérique qui consiste à découper et graver de la matière grâce à un laser. Au-delà des aspects techniques\, son utilisation revêt de nombreux intérêts créatifs et artistiques. Sur une base de dessin vectoriel elle permet de travailler à la fois des techniques (assemblages\, volumes\, détails…)\, des effets (gravures\, superpositions…)\, des matières (papier\, carton\, bois\, plexi\, tissu…)\, des types de productions (marqueterie\, lettrages\, cartes topographiques\, personnalisation de meubles\, lampes/effets de lumière\, joaillerie…). \nCe module vous permettra d’acquérir les bases techniques de l’utilisation d’une découpeuse laser C02\, d’appréhender des outils open source / libre. Elle alterne des temps pratiques\, temps théorique\, temps de recherche créative accompagnée\, pour vous permettre d’acquérir les bases de la découpe et la gravure laser au service de votre projet. \nSur inscription\, aux tarifs suivants :\nProfessionnel⋅les (prise en charge OPCO/employeur) : 420€/jour\nAuto-financement personnel : 190€/jour\nTarif solidaire possible\, nous contacter formation@pingbase.net \nSession de 4 jours\nLundi 23 et mardi 24 novembre ET Lundi 30 novembre et mardi 1er décembre 2026\, de 9h30 à 17h30\nHyperlien\, Halles 1&2\, 5 allée Frida Kahlo\, 44 200 Nantes
URL:https://hyperlien.net/event/formation-pro-utiliser-la-decoupe-et-la-gravure-laser-au-service-de-projets-artistiques-2/
LOCATION:Hyperlien\, 5 allée Frida Kahlo\, Nantes\, 44 200
CATEGORIES:Formation
ATTACH;FMTTYPE=image/jpeg:https://hyperlien.net/wp-content/uploads/2025/03/laser-arty.jpg
END:VEVENT
BEGIN:VEVENT
DTSTART;TZID=Europe/Paris:20261130T093000
DTEND;TZID=Europe/Paris:20261201T173000
DTSTAMP:20260421T065437
CREATED:20250328T145026Z
LAST-MODIFIED:20260302T171530Z
UID:3328-1796031000-1796146200@hyperlien.net
SUMMARY:Formation pro : Utiliser la découpe et la gravure laser au service de projets artistiques
DESCRIPTION:La découpe laser est une technique de fabrication numérique qui consiste à découper et graver de la matière grâce à un laser. Au-delà des aspects techniques\, son utilisation revêt de nombreux intérêts créatifs et artistiques. Sur une base de dessin vectoriel elle permet de travailler à la fois des techniques (assemblages\, volumes\, détails…)\, des effets (gravures\, superpositions…)\, des matières (papier\, carton\, bois\, plexi\, tissu…)\, des types de productions (marqueterie\, lettrages\, cartes topographiques\, personnalisation de meubles\, lampes/effets de lumière\, joaillerie…). \nCe module vous permettra d’acquérir les bases techniques de l’utilisation d’une découpeuse laser C02\, d’appréhender des outils open source / libre. Elle alterne des temps pratiques\, temps théorique\, temps de recherche créative accompagnée\, pour vous permettre d’acquérir les bases de la découpe et la gravure laser au service de votre projet. \nSur inscription\, aux tarifs suivants :\nProfessionnel⋅les (prise en charge OPCO/employeur) : 420€/jour\nAuto-financement personnel : 190€/jour\nTarif solidaire possible\, nous contacter formation@pingbase.net \nSession de 4 jours\nLundi 23 et mardi 24 novembre ET Lundi 30 novembre et mardi 1er décembre 2026\, de 9h30 à 17h30\nHyperlien\, Halles 1&2\, 5 allée Frida Kahlo\, 44 200 Nantes
URL:https://hyperlien.net/event/formation-pro-utiliser-la-decoupe-et-la-gravure-laser-au-service-de-projets-artistiques-2026/
LOCATION:Hyperlien\, 5 allée Frida Kahlo\, Nantes\, 44 200
CATEGORIES:Formation
ATTACH;FMTTYPE=image/jpeg:https://hyperlien.net/wp-content/uploads/2025/03/laser-arty.jpg
END:VEVENT
END:VCALENDAR