BEGIN:VCALENDAR
VERSION:2.0
PRODID:-//Hyperlien - fablab à Nantes - ECPv6.15.20//NONSGML v1.0//EN
CALSCALE:GREGORIAN
METHOD:PUBLISH
X-WR-CALNAME:Hyperlien - fablab à Nantes
X-ORIGINAL-URL:https://hyperlien.net
X-WR-CALDESC:Évènements pour Hyperlien - fablab à Nantes
REFRESH-INTERVAL;VALUE=DURATION:PT1H
X-Robots-Tag:noindex
X-PUBLISHED-TTL:PT1H
BEGIN:VTIMEZONE
TZID:Europe/Paris
BEGIN:DAYLIGHT
TZOFFSETFROM:+0100
TZOFFSETTO:+0200
TZNAME:CEST
DTSTART:20250330T010000
END:DAYLIGHT
BEGIN:STANDARD
TZOFFSETFROM:+0200
TZOFFSETTO:+0100
TZNAME:CET
DTSTART:20251026T010000
END:STANDARD
BEGIN:DAYLIGHT
TZOFFSETFROM:+0100
TZOFFSETTO:+0200
TZNAME:CEST
DTSTART:20260329T010000
END:DAYLIGHT
BEGIN:STANDARD
TZOFFSETFROM:+0200
TZOFFSETTO:+0100
TZNAME:CET
DTSTART:20261025T010000
END:STANDARD
BEGIN:DAYLIGHT
TZOFFSETFROM:+0100
TZOFFSETTO:+0200
TZNAME:CEST
DTSTART:20270328T010000
END:DAYLIGHT
BEGIN:STANDARD
TZOFFSETFROM:+0200
TZOFFSETTO:+0100
TZNAME:CET
DTSTART:20271031T010000
END:STANDARD
END:VTIMEZONE
BEGIN:VEVENT
DTSTART;TZID=Europe/Paris:20260305T140000
DTEND;TZID=Europe/Paris:20260305T180000
DTSTAMP:20260421T065943
CREATED:20251203T123447Z
LAST-MODIFIED:20251203T123447Z
UID:4236-1772719200-1772733600@hyperlien.net
SUMMARY:Atelier du Humanlab
DESCRIPTION:Le Humanlab accueille chaque jeudi bénévoles et bénéficiaires à Hyperlien pour réfléchir et concevoir ensemble des aides techniques avec et pour les personnes en situation de handicap. Venez participer à ce temps dédié : de la conception à la fabrication de dispositifs pour améliorer le quotidien de personnes en situation de handicap. Toutes les compétences sont les bienvenues : textile\, modélisation et impression 3D\, conception mécanique\, etc. \n\nDécouvrez les créations réalisées au sein du Humanlab.\nVous êtes en situation de handicap et souhaitez proposer un projet\, remplissez le formulaire !\nVous souhaitez devenir bénévole ? Vous pouvez venir chaque jeudi à partir de 14h et/ou remplir le formulaire de bénévolat.\n\nJeudi 5 mars 2026\, de 14h à 18h\nHyperlien\, Halles 1&2\, 5 allée Frida Kahlo\, 44 200 Nantes
URL:https://hyperlien.net/event/atelier-du-humanlab-mars26-1/
LOCATION:Hyperlien\, 5 allée Frida Kahlo\, Nantes\, 44 200
CATEGORIES:Atelier
ATTACH;FMTTYPE=image/jpeg:https://hyperlien.net/wp-content/uploads/2025/09/Humanlab-reunionR.jpeg
END:VEVENT
BEGIN:VEVENT
DTSTART;TZID=Europe/Paris:20260305T140000
DTEND;TZID=Europe/Paris:20260305T190000
DTSTAMP:20260421T065943
CREATED:20251202T142158Z
LAST-MODIFIED:20260106T100601Z
UID:4091-1772719200-1772737200@hyperlien.net
SUMMARY:OPENAtelier de PiNG
DESCRIPTION:Cœur de l’activité de PiNG\, les OPENateliers sont des temps d’échange et de pratique où les adhérent·es\, encadré·es et conseillé·es par les animateurs·rices\, sont les bienvenu·es pour travailler\, créer\, réparer\, créer ou bricoler avec les équipements mis à disposition. \nAvec ou sans inspiration\, libre à vous de vous installer dans le fablab d’Hyperlien\, de vous familiariser avec les machines à commande numérique et de rencontrer les adhérent⋅es ! \nPour découvrir les machines et équipements disponibles\, cliquez ici. \nJeudi 5 mars 2026\, de 14h à 19h à Hyperlien\nAccessible sur adhésion à PiNG
URL:https://hyperlien.net/event/openatelier-de-ping-mars26-1/
LOCATION:Hyperlien\, 5 allée Frida Kahlo\, Nantes\, 44 200
CATEGORIES:Atelier
ATTACH;FMTTYPE=image/jpeg:https://hyperlien.net/wp-content/uploads/2025/09/IMG_3738low.jpg
END:VEVENT
BEGIN:VEVENT
DTSTART;TZID=Europe/Paris:20260312T140000
DTEND;TZID=Europe/Paris:20260312T180000
DTSTAMP:20260421T065943
CREATED:20251203T123508Z
LAST-MODIFIED:20251203T123508Z
UID:4235-1773324000-1773338400@hyperlien.net
SUMMARY:Atelier du Humanlab
DESCRIPTION:Le Humanlab accueille chaque jeudi bénévoles et bénéficiaires à Hyperlien pour réfléchir et concevoir ensemble des aides techniques avec et pour les personnes en situation de handicap. Venez participer à ce temps dédié : de la conception à la fabrication de dispositifs pour améliorer le quotidien de personnes en situation de handicap. Toutes les compétences sont les bienvenues : textile\, modélisation et impression 3D\, conception mécanique\, etc. \n\nDécouvrez les créations réalisées au sein du Humanlab.\nVous êtes en situation de handicap et souhaitez proposer un projet\, remplissez le formulaire !\nVous souhaitez devenir bénévole ? Vous pouvez venir chaque jeudi à partir de 14h et/ou remplir le formulaire de bénévolat.\n\nJeudi 12 mars 2026\, de 14h à 18h\nHyperlien\, Halles 1&2\, 5 allée Frida Kahlo\, 44 200 Nantes
URL:https://hyperlien.net/event/atelier-du-humanlab-mars26-2/
LOCATION:Hyperlien\, 5 allée Frida Kahlo\, Nantes\, 44 200
CATEGORIES:Atelier
ATTACH;FMTTYPE=image/jpeg:https://hyperlien.net/wp-content/uploads/2025/09/Humanlab-reunionR.jpeg
END:VEVENT
BEGIN:VEVENT
DTSTART;TZID=Europe/Paris:20260312T140000
DTEND;TZID=Europe/Paris:20260312T190000
DTSTAMP:20260421T065943
CREATED:20251202T142243Z
LAST-MODIFIED:20260106T100557Z
UID:4109-1773324000-1773342000@hyperlien.net
SUMMARY:OPENAtelier de PiNG
DESCRIPTION:Cœur de l’activité de PiNG\, les OPENateliers sont des temps d’échange et de pratique où les adhérent·es\, encadré·es et conseillé·es par les animateurs·rices\, sont les bienvenu·es pour travailler\, créer\, réparer\, créer ou bricoler avec les équipements mis à disposition. \nAvec ou sans inspiration\, libre à vous de vous installer dans le fablab d’Hyperlien\, de vous familiariser avec les machines à commande numérique et de rencontrer les adhérent⋅es ! \nPour découvrir les machines et équipements disponibles\, cliquez ici. \nJeudi 12 mars 2026\, de 14h à 19h à Hyperlien\nAccessible sur adhésion à PiNG
URL:https://hyperlien.net/event/openatelier-de-ping-mars26-2/
LOCATION:Hyperlien\, 5 allée Frida Kahlo\, Nantes\, 44 200
CATEGORIES:Atelier
ATTACH;FMTTYPE=image/jpeg:https://hyperlien.net/wp-content/uploads/2025/09/IMG_3738low.jpg
END:VEVENT
BEGIN:VEVENT
DTSTART;TZID=Europe/Paris:20260319T140000
DTEND;TZID=Europe/Paris:20260319T180000
DTSTAMP:20260421T065943
CREATED:20251203T123541Z
LAST-MODIFIED:20251203T123541Z
UID:4234-1773928800-1773943200@hyperlien.net
SUMMARY:Atelier du Humanlab
DESCRIPTION:Le Humanlab accueille chaque jeudi bénévoles et bénéficiaires à Hyperlien pour réfléchir et concevoir ensemble des aides techniques avec et pour les personnes en situation de handicap. Venez participer à ce temps dédié : de la conception à la fabrication de dispositifs pour améliorer le quotidien de personnes en situation de handicap. Toutes les compétences sont les bienvenues : textile\, modélisation et impression 3D\, conception mécanique\, etc. \n\nDécouvrez les créations réalisées au sein du Humanlab.\nVous êtes en situation de handicap et souhaitez proposer un projet\, remplissez le formulaire !\nVous souhaitez devenir bénévole ? Vous pouvez venir chaque jeudi à partir de 14h et/ou remplir le formulaire de bénévolat.\n\nJeudi 19 mars 2026\, de 14h à 18h\nHyperlien\, Halles 1&2\, 5 allée Frida Kahlo\, 44 200 Nantes
URL:https://hyperlien.net/event/atelier-du-humanlab-mars26-3/
LOCATION:Hyperlien\, 5 allée Frida Kahlo\, Nantes\, 44 200
CATEGORIES:Atelier
ATTACH;FMTTYPE=image/jpeg:https://hyperlien.net/wp-content/uploads/2025/09/Humanlab-reunionR.jpeg
END:VEVENT
BEGIN:VEVENT
DTSTART;TZID=Europe/Paris:20260319T140000
DTEND;TZID=Europe/Paris:20260319T190000
DTSTAMP:20260421T065943
CREATED:20251202T142313Z
LAST-MODIFIED:20260106T100553Z
UID:4089-1773928800-1773946800@hyperlien.net
SUMMARY:OPENAtelier de PiNG
DESCRIPTION:Cœur de l’activité de PiNG\, les OPENateliers sont des temps d’échange et de pratique où les adhérent·es\, encadré·es et conseillé·es par les animateurs·rices\, sont les bienvenu·es pour travailler\, créer\, réparer\, créer ou bricoler avec les équipements mis à disposition. \nAvec ou sans inspiration\, libre à vous de vous installer dans le fablab d’Hyperlien\, de vous familiariser avec les machines à commande numérique et de rencontrer les adhérent⋅es ! \nPour découvrir les machines et équipements disponibles\, cliquez ici. \nJeudi 19 mars 2026\, de 14h à 19h à Hyperlien\nAccessible sur adhésion à PiNG
URL:https://hyperlien.net/event/openatelier-de-ping-mars26-3/
LOCATION:Hyperlien\, 5 allée Frida Kahlo\, Nantes\, 44 200
CATEGORIES:Atelier
ATTACH;FMTTYPE=image/jpeg:https://hyperlien.net/wp-content/uploads/2025/09/IMG_3738low.jpg
END:VEVENT
BEGIN:VEVENT
DTSTART;TZID=Europe/Paris:20260326T140000
DTEND;TZID=Europe/Paris:20260326T180000
DTSTAMP:20260421T065943
CREATED:20251203T123608Z
LAST-MODIFIED:20251203T123608Z
UID:4233-1774533600-1774548000@hyperlien.net
SUMMARY:Atelier du Humanlab
DESCRIPTION:Le Humanlab accueille chaque jeudi bénévoles et bénéficiaires à Hyperlien pour réfléchir et concevoir ensemble des aides techniques avec et pour les personnes en situation de handicap. Venez participer à ce temps dédié : de la conception à la fabrication de dispositifs pour améliorer le quotidien de personnes en situation de handicap. Toutes les compétences sont les bienvenues : textile\, modélisation et impression 3D\, conception mécanique\, etc. \n\nDécouvrez les créations réalisées au sein du Humanlab.\nVous êtes en situation de handicap et souhaitez proposer un projet\, remplissez le formulaire !\nVous souhaitez devenir bénévole ? Vous pouvez venir chaque jeudi à partir de 14h et/ou remplir le formulaire de bénévolat.\n\nJeudi 26 mars 2026\, de 14h à 18h\nHyperlien\, Halles 1&2\, 5 allée Frida Kahlo\, 44 200 Nantes
URL:https://hyperlien.net/event/atelier-du-humanlab-mars26-4/
LOCATION:Hyperlien\, 5 allée Frida Kahlo\, Nantes\, 44 200
CATEGORIES:Atelier
ATTACH;FMTTYPE=image/jpeg:https://hyperlien.net/wp-content/uploads/2025/09/Humanlab-reunionR.jpeg
END:VEVENT
BEGIN:VEVENT
DTSTART;TZID=Europe/Paris:20260326T140000
DTEND;TZID=Europe/Paris:20260326T220000
DTSTAMP:20260421T065943
CREATED:20260106T100431Z
LAST-MODIFIED:20260106T100431Z
UID:4448-1774533600-1774562400@hyperlien.net
SUMMARY:OPENAtelier de PiNG - nocturne!
DESCRIPTION:Cœur de l’activité de PiNG\, les OPENateliers sont des temps d’échange et de pratique où les adhérent·es\, encadré·es et conseillé·es par les animateurs·rices\, sont les bienvenu·es pour travailler\, créer\, réparer\, créer ou bricoler avec les équipements mis à disposition. \nAvec ou sans inspiration\, libre à vous de vous installer dans le fablab d’Hyperlien\, de vous familiariser avec les machines à commande numérique et de rencontrer les adhérent⋅es ! \nPour découvrir les machines et équipements disponibles\, cliquez ici. \nPour fêter l’arrivée du printemps\, l’atelier sera exceptionnellement ouvert jusqu’à 22h ! \nJeudi 26 mars 2026\, de 14h à 22h à Hyperlien\nAccessible sur adhésion à PiNG
URL:https://hyperlien.net/event/openatelier-de-ping-nocturne/
LOCATION:Hyperlien\, 5 allée Frida Kahlo\, Nantes\, 44 200
CATEGORIES:Atelier
ATTACH;FMTTYPE=image/jpeg:https://hyperlien.net/wp-content/uploads/2026/01/IMG_4701r.jpg
END:VEVENT
BEGIN:VEVENT
DTSTART;TZID=Europe/Paris:20260327T093000
DTEND;TZID=Europe/Paris:20260327T173000
DTSTAMP:20260421T065943
CREATED:20251205T085742Z
LAST-MODIFIED:20251205T085742Z
UID:4357-1774603800-1774632600@hyperlien.net
SUMMARY:Formation pro : Réaliser des projets avec une brodeuse numérique
DESCRIPTION:La broderie numérique\, aussi appelée broderie machine ou broderie assistée par ordinateur (BAO)\, est une technique de design et de fabrication numérique. Utilisée en fablab\, elle fait appel aux mêmes processus de fabrication d’un objet que la découpe laser ou l’impression 3D : création d’un design\, d’un fichier numérique puis réalisation. La broderie numérique est utilisée le plus souvent sur textile\, mêlant l’art et la technologie. Très ludique\, elle est aussi un support de médiation numérique auprès des personnes éloignées du numérique\, et un bon vecteur pour apprendre le dessin 2D\, avec un résultat rapidement visible. Son utilisation revêt donc de nombreux intérêts créatifs\, pédagogiques\, de médiation\, en lien avec la fabrication numérique. \nCe module vous permettra d’acquérir les bases techniques de l’utilisation d’une brodeuse numérique\, de prendre en main les outils en lien avec cette technique et d’explorer des ressources inspirantes. \nSur inscription\, aux tarifs suivants :\nProfessionnel·les (prise en charge OPCO/employeur) : 420 €/jour\nAuto-financement personnel : 190€/jour\nTarif solidaire possible\, nous contacter formation@pingbase.net \nVendredi 27 mars 2026\, de 9h30 à 17h30\nHyperlien\, Halles 1 & 2\, 5 allée Frida Kahlo\, 44 200 Nantes
URL:https://hyperlien.net/event/formation-pro-realiser-des-projets-avec-une-brodeuse-numerique/
LOCATION:Hyperlien\, 5 allée Frida Kahlo\, Nantes\, 44 200
CATEGORIES:Formation
ATTACH;FMTTYPE=image/jpeg:https://hyperlien.net/wp-content/uploads/2025/12/broderie-formation_lowdef.jpg
END:VEVENT
END:VCALENDAR