BEGIN:VCALENDAR
VERSION:2.0
PRODID:-//Hyperlien - fablab à Nantes - ECPv6.15.20//NONSGML v1.0//EN
CALSCALE:GREGORIAN
METHOD:PUBLISH
X-WR-CALNAME:Hyperlien - fablab à Nantes
X-ORIGINAL-URL:https://hyperlien.net
X-WR-CALDESC:Évènements pour Hyperlien - fablab à Nantes
REFRESH-INTERVAL;VALUE=DURATION:PT1H
X-Robots-Tag:noindex
X-PUBLISHED-TTL:PT1H
BEGIN:VTIMEZONE
TZID:Europe/Paris
BEGIN:DAYLIGHT
TZOFFSETFROM:+0100
TZOFFSETTO:+0200
TZNAME:CEST
DTSTART:20250330T010000
END:DAYLIGHT
BEGIN:STANDARD
TZOFFSETFROM:+0200
TZOFFSETTO:+0100
TZNAME:CET
DTSTART:20251026T010000
END:STANDARD
BEGIN:DAYLIGHT
TZOFFSETFROM:+0100
TZOFFSETTO:+0200
TZNAME:CEST
DTSTART:20260329T010000
END:DAYLIGHT
BEGIN:STANDARD
TZOFFSETFROM:+0200
TZOFFSETTO:+0100
TZNAME:CET
DTSTART:20261025T010000
END:STANDARD
BEGIN:DAYLIGHT
TZOFFSETFROM:+0100
TZOFFSETTO:+0200
TZNAME:CEST
DTSTART:20270328T010000
END:DAYLIGHT
BEGIN:STANDARD
TZOFFSETFROM:+0200
TZOFFSETTO:+0100
TZNAME:CET
DTSTART:20271031T010000
END:STANDARD
END:VTIMEZONE
BEGIN:VEVENT
DTSTART;TZID=Europe/Paris:20260828T093000
DTEND;TZID=Europe/Paris:20260828T173000
DTSTAMP:20260422T060327
CREATED:20260309T105711Z
LAST-MODIFIED:20260309T105711Z
UID:4570-1787909400-1787938200@hyperlien.net
SUMMARY:Formation Pro : Organiser une veille avec des logiciels libres
DESCRIPTION:Organiser et outiller sa veille personnelle et professionnelle avec des outils libres et respectueux de nos données permet de garder la maîtrise des ﬂux d’information\, regagner en efﬁcacité et en attention\, tout en portant un regard critique sur le choix de ses sources. Planiﬁer et gérer ses temps de veille\, c’est sortir du ﬂux\, reprendre prise sur le temps et se redonner droit à la déconnexion.  \nEn partant de vos usages du numérique\, cette formation vous permettra ainsi d’outiller et concilier l’organisation d’une veille (individuelle et collective) avec votre pratique professionnelle. \nPour en savoir plus\, retrouvez la fiche détaillée de la formation. \n\nSur inscription\, aux tarifs suivants :\nProfessionnel·les (prise en charge OPCO/employeur) : 420 €/jour\nAuto-financement personnel : 190€/jour\nTarif solidaire possible\, nous contacter formation@pingbase.net \n\nVendredi 28 août 2026\, de 9h30 à 17h30\nHyperlien\, Halles 1&2\, 5 allée Frida Kahlo\, 44 200 Nantes
URL:https://hyperlien.net/event/formation-pro-organiser-une-veille-avec-des-logiciels-libres/
LOCATION:Hyperlien\, 5 allée Frida Kahlo\, Nantes\, 44 200
CATEGORIES:Formation
ATTACH;FMTTYPE=image/webp:https://hyperlien.net/wp-content/uploads/2026/03/image-veille.webp
END:VEVENT
END:VCALENDAR