BEGIN:VCALENDAR
VERSION:2.0
PRODID:-//Hyperlien - fablab à Nantes - ECPv6.15.20//NONSGML v1.0//EN
CALSCALE:GREGORIAN
METHOD:PUBLISH
X-WR-CALNAME:Hyperlien - fablab à Nantes
X-ORIGINAL-URL:https://hyperlien.net
X-WR-CALDESC:Évènements pour Hyperlien - fablab à Nantes
REFRESH-INTERVAL;VALUE=DURATION:PT1H
X-Robots-Tag:noindex
X-PUBLISHED-TTL:PT1H
BEGIN:VTIMEZONE
TZID:Europe/Paris
BEGIN:DAYLIGHT
TZOFFSETFROM:+0100
TZOFFSETTO:+0200
TZNAME:CEST
DTSTART:20250330T010000
END:DAYLIGHT
BEGIN:STANDARD
TZOFFSETFROM:+0200
TZOFFSETTO:+0100
TZNAME:CET
DTSTART:20251026T010000
END:STANDARD
BEGIN:DAYLIGHT
TZOFFSETFROM:+0100
TZOFFSETTO:+0200
TZNAME:CEST
DTSTART:20260329T010000
END:DAYLIGHT
BEGIN:STANDARD
TZOFFSETFROM:+0200
TZOFFSETTO:+0100
TZNAME:CET
DTSTART:20261025T010000
END:STANDARD
BEGIN:DAYLIGHT
TZOFFSETFROM:+0100
TZOFFSETTO:+0200
TZNAME:CEST
DTSTART:20270328T010000
END:DAYLIGHT
BEGIN:STANDARD
TZOFFSETFROM:+0200
TZOFFSETTO:+0100
TZNAME:CET
DTSTART:20271031T010000
END:STANDARD
END:VTIMEZONE
BEGIN:VEVENT
DTSTART;TZID=Europe/Paris:20260224T183000
DTEND;TZID=Europe/Paris:20260224T210000
DTSTAMP:20260420T082720
CREATED:20251203T145644Z
LAST-MODIFIED:20251203T145644Z
UID:4312-1771957800-1771966800@hyperlien.net
SUMMARY:École 404 : Atelier de fabrication de PiGuards
DESCRIPTION:Dans le cadre de cette nouvelle saison d’École 404 sur le thème des « Résistances Électroniques »\, nous vous proposons d’apprendre à fabriquer un PiGuard\, un outil de contournement de la censure plug & play\, développé par Nothing to Hide. \nPiGuard « prend la forme d’un boitier physique qui une fois allumé et connecté à Internet\, crée un réseau wifi permettant aux utilisateurs qui s’y connectent de bénéficier d’une connexion protégée\, via un tunnel VPN ou via le réseau Tor ». Au travers de cet atelier\, nous découvrirons cette technologie en fabriquant plusieurs PiGards. Ceux-ci seront ensuite envoyés à plusieurs associations sœurs en Géorgie qui font actuellement face à la répression suite aux lois contre les « agents de l’étranger ». \nMardi 24 février\, de 18h30 à 21h\, à Hyperlien\nEntrée libre
URL:https://hyperlien.net/event/ecole-404-atelier-fabrication-piguards/
LOCATION:Hyperlien\, 5 allée Frida Kahlo\, Nantes\, 44 200
ATTACH;FMTTYPE=image/jpeg:https://hyperlien.net/wp-content/uploads/2025/12/Pi-Guards.jpg
END:VEVENT
END:VCALENDAR