BEGIN:VCALENDAR
VERSION:2.0
PRODID:-//Hyperlien - fablab à Nantes - ECPv6.15.20//NONSGML v1.0//EN
CALSCALE:GREGORIAN
METHOD:PUBLISH
X-WR-CALNAME:Hyperlien - fablab à Nantes
X-ORIGINAL-URL:https://hyperlien.net
X-WR-CALDESC:Évènements pour Hyperlien - fablab à Nantes
REFRESH-INTERVAL;VALUE=DURATION:PT1H
X-Robots-Tag:noindex
X-PUBLISHED-TTL:PT1H
BEGIN:VTIMEZONE
TZID:Europe/Paris
BEGIN:DAYLIGHT
TZOFFSETFROM:+0100
TZOFFSETTO:+0200
TZNAME:CEST
DTSTART:20250330T010000
END:DAYLIGHT
BEGIN:STANDARD
TZOFFSETFROM:+0200
TZOFFSETTO:+0100
TZNAME:CET
DTSTART:20251026T010000
END:STANDARD
BEGIN:DAYLIGHT
TZOFFSETFROM:+0100
TZOFFSETTO:+0200
TZNAME:CEST
DTSTART:20260329T010000
END:DAYLIGHT
BEGIN:STANDARD
TZOFFSETFROM:+0200
TZOFFSETTO:+0100
TZNAME:CET
DTSTART:20261025T010000
END:STANDARD
BEGIN:DAYLIGHT
TZOFFSETFROM:+0100
TZOFFSETTO:+0200
TZNAME:CEST
DTSTART:20270328T010000
END:DAYLIGHT
BEGIN:STANDARD
TZOFFSETFROM:+0200
TZOFFSETTO:+0100
TZNAME:CET
DTSTART:20271031T010000
END:STANDARD
END:VTIMEZONE
BEGIN:VEVENT
DTSTART;TZID=Europe/Paris:20260421T140000
DTEND;TZID=Europe/Paris:20260421T180000
DTSTAMP:20260421T003448
CREATED:20251202T154427Z
LAST-MODIFIED:20251202T155103Z
UID:4199-1776780000-1776794400@hyperlien.net
SUMMARY:L'Atelier des Hypernautes
DESCRIPTION:L’Atelier des Hypernautes\, qu’est-ce que c’est ? \nUn temps d’ouverture en autonomie du fablab ! L’atelier est encadré par un duo d’Hypernautes\, adhérent⋅es bénévoles de PiNG\, responsables du créneau\, formé⋅es à l’accueil et à la sécurité par PiNG. Le créneau est ouvert aux adhérent⋅es confirmé⋅es\, fréquentant déjà le fablab durant les OPENAteliers. On y vient pour travailler sur des machines dont on connaît a minima l’utilisation. \nLe créneau est ouvert uniquement si deux Hypernautes sont présent⋅es. Si vous ne voyez aucune date disponible dans le formulaire\, c’est que les responsables de créneau ne se sont pas encore inscrit⋅es ou que le créneau est complet. Revenez consulter prochainement ! \nInscription obligatoire via le formulaire\, jusqu’à midi la veille du créneau.\nMardi 21 avril 2026\, de 14h à 18h\, à Hyperlien
URL:https://hyperlien.net/event/latelier-des-hypernautes-avril26-6/
LOCATION:Hyperlien\, 5 allée Frida Kahlo\, Nantes\, 44 200
CATEGORIES:Atelier
ATTACH;FMTTYPE=image/png:https://hyperlien.net/wp-content/uploads/2025/07/image1-6.png
END:VEVENT
BEGIN:VEVENT
DTSTART;TZID=Europe/Paris:20260423T100000
DTEND;TZID=Europe/Paris:20260423T130000
DTSTAMP:20260421T003448
CREATED:20251202T153003Z
LAST-MODIFIED:20251202T155056Z
UID:4137-1776938400-1776949200@hyperlien.net
SUMMARY:L'Atelier des Hypernautes
DESCRIPTION:L’Atelier des Hypernautes\, qu’est-ce que c’est ? \nUn temps d’ouverture en autonomie du fablab ! L’atelier est encadré par un duo d’Hypernautes\, adhérent⋅es bénévoles de PiNG\, responsables du créneau\, formé⋅es à l’accueil et à la sécurité par PiNG. Le créneau est ouvert aux adhérent⋅es confirmé⋅es\, fréquentant déjà le fablab durant les OPENAteliers. On y vient pour travailler sur des machines dont on connaît a minima l’utilisation. \nLe créneau est ouvert uniquement si deux Hypernautes sont présent⋅es. Si vous ne voyez aucune date disponible dans le formulaire\, c’est que les responsables de créneau ne se sont pas encore inscrit⋅es ou que le créneau est complet. Revenez consulter prochainement ! \nInscription obligatoire via le formulaire\, jusqu’à midi la veille du créneau.\nJauge maximum de 10 personnes\nJeudi 23 avril\, de 10h à 13h\, à Hyperlien
URL:https://hyperlien.net/event/latelier-des-hypernautes-avril26-7/
LOCATION:Hyperlien\, 5 allée Frida Kahlo\, Nantes\, 44 200
CATEGORIES:Atelier
ATTACH;FMTTYPE=image/png:https://hyperlien.net/wp-content/uploads/2025/07/image1-6.png
END:VEVENT
BEGIN:VEVENT
DTSTART;TZID=Europe/Paris:20260428T140000
DTEND;TZID=Europe/Paris:20260428T180000
DTSTAMP:20260421T003448
CREATED:20251202T162700Z
LAST-MODIFIED:20251202T162700Z
UID:4224-1777384800-1777399200@hyperlien.net
SUMMARY:L'Atelier des Hypernautes
DESCRIPTION:L’Atelier des Hypernautes\, qu’est-ce que c’est ? \nUn temps d’ouverture en autonomie du fablab ! L’atelier est encadré par un duo d’Hypernautes\, adhérent⋅es bénévoles de PiNG\, responsables du créneau\, formé⋅es à l’accueil et à la sécurité par PiNG. Le créneau est ouvert aux adhérent⋅es confirmé⋅es\, fréquentant déjà le fablab durant les OPENAteliers. On y vient pour travailler sur des machines dont on connaît a minima l’utilisation. \nLe créneau est ouvert uniquement si deux Hypernautes sont présent⋅es. Si vous ne voyez aucune date disponible dans le formulaire\, c’est que les responsables de créneau ne se sont pas encore inscrit⋅es ou que le créneau est complet. Revenez consulter prochainement ! \nInscription obligatoire via le formulaire\, jusqu’à midi la veille du créneau.\nMardi 28 avril 2026\, de 14h à 18h\, à Hyperlien
URL:https://hyperlien.net/event/latelier-des-hypernautes-avril26-8/
LOCATION:Hyperlien\, 5 allée Frida Kahlo\, Nantes\, 44 200
CATEGORIES:Atelier
ATTACH;FMTTYPE=image/png:https://hyperlien.net/wp-content/uploads/2025/07/image1-6.png
END:VEVENT
BEGIN:VEVENT
DTSTART;TZID=Europe/Paris:20260430T100000
DTEND;TZID=Europe/Paris:20260430T130000
DTSTAMP:20260421T003448
CREATED:20251202T153026Z
LAST-MODIFIED:20251202T155038Z
UID:4136-1777543200-1777554000@hyperlien.net
SUMMARY:L'Atelier des Hypernautes
DESCRIPTION:L’Atelier des Hypernautes\, qu’est-ce que c’est ? \nUn temps d’ouverture en autonomie du fablab ! L’atelier est encadré par un duo d’Hypernautes\, adhérent⋅es bénévoles de PiNG\, responsables du créneau\, formé⋅es à l’accueil et à la sécurité par PiNG. Le créneau est ouvert aux adhérent⋅es confirmé⋅es\, fréquentant déjà le fablab durant les OPENAteliers. On y vient pour travailler sur des machines dont on connaît a minima l’utilisation. \nLe créneau est ouvert uniquement si deux Hypernautes sont présent⋅es. Si vous ne voyez aucune date disponible dans le formulaire\, c’est que les responsables de créneau ne se sont pas encore inscrit⋅es ou que le créneau est complet. Revenez consulter prochainement ! \nInscription obligatoire via le formulaire\, jusqu’à midi la veille du créneau.\nJauge maximum de 10 personnes\nJeudi 30 avril 2026\, de 10h à 13h\, à Hyperlien
URL:https://hyperlien.net/event/latelier-des-hypernautes-avril26-9/
LOCATION:Hyperlien\, 5 allée Frida Kahlo\, Nantes\, 44 200
CATEGORIES:Atelier
ATTACH;FMTTYPE=image/png:https://hyperlien.net/wp-content/uploads/2025/07/image1-6.png
END:VEVENT
BEGIN:VEVENT
DTSTART;TZID=Europe/Paris:20260505T140000
DTEND;TZID=Europe/Paris:20260505T180000
DTSTAMP:20260421T003448
CREATED:20251202T155146Z
LAST-MODIFIED:20251202T155146Z
UID:4198-1777989600-1778004000@hyperlien.net
SUMMARY:L'Atelier des Hypernautes
DESCRIPTION:L’Atelier des Hypernautes\, qu’est-ce que c’est ? \nUn temps d’ouverture en autonomie du fablab ! L’atelier est encadré par un duo d’Hypernautes\, adhérent⋅es bénévoles de PiNG\, responsables du créneau\, formé⋅es à l’accueil et à la sécurité par PiNG. Le créneau est ouvert aux adhérent⋅es confirmé⋅es\, fréquentant déjà le fablab durant les OPENAteliers. On y vient pour travailler sur des machines dont on connaît a minima l’utilisation. \nLe créneau est ouvert uniquement si deux Hypernautes sont présent⋅es. Si vous ne voyez aucune date disponible dans le formulaire\, c’est que les responsables de créneau ne se sont pas encore inscrit⋅es ou que le créneau est complet. Revenez consulter prochainement ! \nInscription obligatoire via le formulaire\, jusqu’à midi la veille du créneau.\nMardi 5 mai 2026\, de 14h à 18h\, à Hyperlien
URL:https://hyperlien.net/event/latelier-des-hypernautes-mai26-1/
LOCATION:Hyperlien\, 5 allée Frida Kahlo\, Nantes\, 44 200
CATEGORIES:Atelier
ATTACH;FMTTYPE=image/png:https://hyperlien.net/wp-content/uploads/2025/07/image1-6.png
END:VEVENT
BEGIN:VEVENT
DTSTART;TZID=Europe/Paris:20260507T100000
DTEND;TZID=Europe/Paris:20260507T130000
DTSTAMP:20260421T003448
CREATED:20251202T153114Z
LAST-MODIFIED:20251202T153210Z
UID:4135-1778148000-1778158800@hyperlien.net
SUMMARY:L'Atelier des Hypernautes
DESCRIPTION:L’Atelier des Hypernautes\, qu’est-ce que c’est ? \nUn temps d’ouverture en autonomie du fablab ! L’atelier est encadré par un duo d’Hypernautes\, adhérent⋅es bénévoles de PiNG\, responsables du créneau\, formé⋅es à l’accueil et à la sécurité par PiNG. Le créneau est ouvert aux adhérent⋅es confirmé⋅es\, fréquentant déjà le fablab durant les OPENAteliers. On y vient pour travailler sur des machines dont on connaît a minima l’utilisation. \nLe créneau est ouvert uniquement si deux Hypernautes sont présent⋅es. Si vous ne voyez aucune date disponible dans le formulaire\, c’est que les responsables de créneau ne se sont pas encore inscrit⋅es ou que le créneau est complet. Revenez consulter prochainement ! \nInscription obligatoire via le formulaire\, jusqu’à midi la veille du créneau.\nJauge maximum de 10 personnes\nJeudi 7 mai 2026\, de 10h à 13h\, à Hyperlien
URL:https://hyperlien.net/event/latelier-des-hypernautes-mai26-2/
LOCATION:Hyperlien\, 5 allée Frida Kahlo\, Nantes\, 44 200
CATEGORIES:Atelier
ATTACH;FMTTYPE=image/png:https://hyperlien.net/wp-content/uploads/2025/07/image1-6.png
END:VEVENT
BEGIN:VEVENT
DTSTART;TZID=Europe/Paris:20260519T140000
DTEND;TZID=Europe/Paris:20260519T180000
DTSTAMP:20260421T003448
CREATED:20251202T155226Z
LAST-MODIFIED:20251202T155226Z
UID:4196-1779199200-1779213600@hyperlien.net
SUMMARY:L'Atelier des Hypernautes
DESCRIPTION:L’Atelier des Hypernautes\, qu’est-ce que c’est ? \nUn temps d’ouverture en autonomie du fablab ! L’atelier est encadré par un duo d’Hypernautes\, adhérent⋅es bénévoles de PiNG\, responsables du créneau\, formé⋅es à l’accueil et à la sécurité par PiNG. Le créneau est ouvert aux adhérent⋅es confirmé⋅es\, fréquentant déjà le fablab durant les OPENAteliers. On y vient pour travailler sur des machines dont on connaît a minima l’utilisation. \nLe créneau est ouvert uniquement si deux Hypernautes sont présent⋅es. Si vous ne voyez aucune date disponible dans le formulaire\, c’est que les responsables de créneau ne se sont pas encore inscrit⋅es ou que le créneau est complet. Revenez consulter prochainement ! \nInscription obligatoire via le formulaire\, jusqu’à midi la veille du créneau.\nMardi 19 mai 2026\, de 14h à 18h\, à Hyperlien
URL:https://hyperlien.net/event/latelier-des-hypernautes-mai26-5-2/
LOCATION:Hyperlien\, 5 allée Frida Kahlo\, Nantes\, 44 200
CATEGORIES:Atelier
ATTACH;FMTTYPE=image/png:https://hyperlien.net/wp-content/uploads/2025/07/image1-6.png
END:VEVENT
BEGIN:VEVENT
DTSTART;TZID=Europe/Paris:20260521T100000
DTEND;TZID=Europe/Paris:20260521T130000
DTSTAMP:20260421T003448
CREATED:20251202T153202Z
LAST-MODIFIED:20251202T153202Z
UID:4134-1779357600-1779368400@hyperlien.net
SUMMARY:L'Atelier des Hypernautes
DESCRIPTION:L’Atelier des Hypernautes\, qu’est-ce que c’est ? \nUn temps d’ouverture en autonomie du fablab ! L’atelier est encadré par un duo d’Hypernautes\, adhérent⋅es bénévoles de PiNG\, responsables du créneau\, formé⋅es à l’accueil et à la sécurité par PiNG. Le créneau est ouvert aux adhérent⋅es confirmé⋅es\, fréquentant déjà le fablab durant les OPENAteliers. On y vient pour travailler sur des machines dont on connaît a minima l’utilisation. \nLe créneau est ouvert uniquement si deux Hypernautes sont présent⋅es. Si vous ne voyez aucune date disponible dans le formulaire\, c’est que les responsables de créneau ne se sont pas encore inscrit⋅es ou que le créneau est complet. Revenez consulter prochainement ! \nInscription obligatoire via le formulaire\, jusqu’à midi la veille du créneau.\nJauge maximum de 10 personnes\nJeudi 21 mai 2026\, de 10h à 13h\, à Hyperlien
URL:https://hyperlien.net/event/latelier-des-hypernautes-mai26-5/
LOCATION:Hyperlien\, 5 allée Frida Kahlo\, Nantes\, 44 200
CATEGORIES:Atelier
ATTACH;FMTTYPE=image/png:https://hyperlien.net/wp-content/uploads/2025/07/image1-6.png
END:VEVENT
BEGIN:VEVENT
DTSTART;TZID=Europe/Paris:20260526T140000
DTEND;TZID=Europe/Paris:20260526T180000
DTSTAMP:20260421T003448
CREATED:20251202T155435Z
LAST-MODIFIED:20251202T155435Z
UID:4195-1779804000-1779818400@hyperlien.net
SUMMARY:L'Atelier des Hypernautes
DESCRIPTION:L’Atelier des Hypernautes\, qu’est-ce que c’est ? \nUn temps d’ouverture en autonomie du fablab ! L’atelier est encadré par un duo d’Hypernautes\, adhérent⋅es bénévoles de PiNG\, responsables du créneau\, formé⋅es à l’accueil et à la sécurité par PiNG. Le créneau est ouvert aux adhérent⋅es confirmé⋅es\, fréquentant déjà le fablab durant les OPENAteliers. On y vient pour travailler sur des machines dont on connaît a minima l’utilisation. \nLe créneau est ouvert uniquement si deux Hypernautes sont présent⋅es. Si vous ne voyez aucune date disponible dans le formulaire\, c’est que les responsables de créneau ne se sont pas encore inscrit⋅es ou que le créneau est complet. Revenez consulter prochainement ! \nInscription obligatoire via le formulaire\, jusqu’à midi la veille du créneau.\nMardi 26 mai 2026\, de 14h à 18h\, à Hyperlien
URL:https://hyperlien.net/event/latelier-des-hypernautes-mai26-6/
LOCATION:Hyperlien\, 5 allée Frida Kahlo\, Nantes\, 44 200
CATEGORIES:Atelier
ATTACH;FMTTYPE=image/png:https://hyperlien.net/wp-content/uploads/2025/07/image1-6.png
END:VEVENT
BEGIN:VEVENT
DTSTART;TZID=Europe/Paris:20260528T100000
DTEND;TZID=Europe/Paris:20260528T130000
DTSTAMP:20260421T003448
CREATED:20251202T153245Z
LAST-MODIFIED:20251202T153245Z
UID:4133-1779962400-1779973200@hyperlien.net
SUMMARY:L'Atelier des Hypernautes
DESCRIPTION:L’Atelier des Hypernautes\, qu’est-ce que c’est ? \nUn temps d’ouverture en autonomie du fablab ! L’atelier est encadré par un duo d’Hypernautes\, adhérent⋅es bénévoles de PiNG\, responsables du créneau\, formé⋅es à l’accueil et à la sécurité par PiNG. Le créneau est ouvert aux adhérent⋅es confirmé⋅es\, fréquentant déjà le fablab durant les OPENAteliers. On y vient pour travailler sur des machines dont on connaît a minima l’utilisation. \nLe créneau est ouvert uniquement si deux Hypernautes sont présent⋅es. Si vous ne voyez aucune date disponible dans le formulaire\, c’est que les responsables de créneau ne se sont pas encore inscrit⋅es ou que le créneau est complet. Revenez consulter prochainement ! \nInscription obligatoire via le formulaire\, jusqu’à midi la veille du créneau.\nJauge maximum de 10 personnes\nJeudi 28 mai 2026\, de 10h à 13h\, à Hyperlien
URL:https://hyperlien.net/event/latelier-des-hypernautes-mai26-7/
LOCATION:Hyperlien\, 5 allée Frida Kahlo\, Nantes\, 44 200
CATEGORIES:Atelier
ATTACH;FMTTYPE=image/png:https://hyperlien.net/wp-content/uploads/2025/07/image1-6.png
END:VEVENT
BEGIN:VEVENT
DTSTART;TZID=Europe/Paris:20260604T100000
DTEND;TZID=Europe/Paris:20260604T130000
DTSTAMP:20260421T003448
CREATED:20251202T153329Z
LAST-MODIFIED:20251202T153329Z
UID:4132-1780567200-1780578000@hyperlien.net
SUMMARY:L'Atelier des Hypernautes
DESCRIPTION:L’Atelier des Hypernautes\, qu’est-ce que c’est ? \nUn temps d’ouverture en autonomie du fablab ! L’atelier est encadré par un duo d’Hypernautes\, adhérent⋅es bénévoles de PiNG\, responsables du créneau\, formé⋅es à l’accueil et à la sécurité par PiNG. Le créneau est ouvert aux adhérent⋅es confirmé⋅es\, fréquentant déjà le fablab durant les OPENAteliers. On y vient pour travailler sur des machines dont on connaît a minima l’utilisation. \nLe créneau est ouvert uniquement si deux Hypernautes sont présent⋅es. Si vous ne voyez aucune date disponible dans le formulaire\, c’est que les responsables de créneau ne se sont pas encore inscrit⋅es ou que le créneau est complet. Revenez consulter prochainement ! \nInscription obligatoire via le formulaire\, jusqu’à midi la veille du créneau.\nJauge maximum de 10 personnes\nJeudi 4 juin 2026\, de 10h à 13h\, à Hyperlien
URL:https://hyperlien.net/event/latelier-des-hypernautes-juin26-1/
LOCATION:Hyperlien\, 5 allée Frida Kahlo\, Nantes\, 44 200
CATEGORIES:Atelier
ATTACH;FMTTYPE=image/png:https://hyperlien.net/wp-content/uploads/2025/07/image1-6.png
END:VEVENT
BEGIN:VEVENT
DTSTART;TZID=Europe/Paris:20260609T140000
DTEND;TZID=Europe/Paris:20260609T180000
DTSTAMP:20260421T003448
CREATED:20251202T155521Z
LAST-MODIFIED:20251202T155521Z
UID:4194-1781013600-1781028000@hyperlien.net
SUMMARY:L'Atelier des Hypernautes
DESCRIPTION:L’Atelier des Hypernautes\, qu’est-ce que c’est ? \nUn temps d’ouverture en autonomie du fablab ! L’atelier est encadré par un duo d’Hypernautes\, adhérent⋅es bénévoles de PiNG\, responsables du créneau\, formé⋅es à l’accueil et à la sécurité par PiNG. Le créneau est ouvert aux adhérent⋅es confirmé⋅es\, fréquentant déjà le fablab durant les OPENAteliers. On y vient pour travailler sur des machines dont on connaît a minima l’utilisation. \nLe créneau est ouvert uniquement si deux Hypernautes sont présent⋅es. Si vous ne voyez aucune date disponible dans le formulaire\, c’est que les responsables de créneau ne se sont pas encore inscrit⋅es ou que le créneau est complet. Revenez consulter prochainement ! \nInscription obligatoire via le formulaire\, jusqu’à midi la veille du créneau.\nMardi 9 juin 2026\, de 14h à 18h\, à Hyperlien
URL:https://hyperlien.net/event/latelier-des-hypernautes-juin26-2/
LOCATION:Hyperlien\, 5 allée Frida Kahlo\, Nantes\, 44 200
CATEGORIES:Atelier
ATTACH;FMTTYPE=image/png:https://hyperlien.net/wp-content/uploads/2025/07/image1-6.png
END:VEVENT
BEGIN:VEVENT
DTSTART;TZID=Europe/Paris:20260611T100000
DTEND;TZID=Europe/Paris:20260611T130000
DTSTAMP:20260421T003448
CREATED:20251202T153459Z
LAST-MODIFIED:20251202T153459Z
UID:4131-1781172000-1781182800@hyperlien.net
SUMMARY:L'Atelier des Hypernautes
DESCRIPTION:L’Atelier des Hypernautes\, qu’est-ce que c’est ? \nUn temps d’ouverture en autonomie du fablab ! L’atelier est encadré par un duo d’Hypernautes\, adhérent⋅es bénévoles de PiNG\, responsables du créneau\, formé⋅es à l’accueil et à la sécurité par PiNG. Le créneau est ouvert aux adhérent⋅es confirmé⋅es\, fréquentant déjà le fablab durant les OPENAteliers. On y vient pour travailler sur des machines dont on connaît a minima l’utilisation. \nLe créneau est ouvert uniquement si deux Hypernautes sont présent⋅es. Si vous ne voyez aucune date disponible dans le formulaire\, c’est que les responsables de créneau ne se sont pas encore inscrit⋅es ou que le créneau est complet. Revenez consulter prochainement ! \nInscription obligatoire via le formulaire\, jusqu’à midi la veille du créneau.\nJauge maximum de 10 personnes\nJeudi 11 juin 2026\, de 10h à 13h\, à Hyperlien
URL:https://hyperlien.net/event/latelier-des-hypernautes-juin26-3/
LOCATION:Hyperlien\, 5 allée Frida Kahlo\, Nantes\, 44 200
CATEGORIES:Atelier
ATTACH;FMTTYPE=image/png:https://hyperlien.net/wp-content/uploads/2025/07/image1-6.png
END:VEVENT
BEGIN:VEVENT
DTSTART;TZID=Europe/Paris:20260618T100000
DTEND;TZID=Europe/Paris:20260618T130000
DTSTAMP:20260421T003448
CREATED:20251202T153532Z
LAST-MODIFIED:20251202T153553Z
UID:4130-1781776800-1781787600@hyperlien.net
SUMMARY:L'Atelier des Hypernautes
DESCRIPTION:L’Atelier des Hypernautes\, qu’est-ce que c’est ? \nUn temps d’ouverture en autonomie du fablab ! L’atelier est encadré par un duo d’Hypernautes\, adhérent⋅es bénévoles de PiNG\, responsables du créneau\, formé⋅es à l’accueil et à la sécurité par PiNG. Le créneau est ouvert aux adhérent⋅es confirmé⋅es\, fréquentant déjà le fablab durant les OPENAteliers. On y vient pour travailler sur des machines dont on connaît a minima l’utilisation. \nLe créneau est ouvert uniquement si deux Hypernautes sont présent⋅es. Si vous ne voyez aucune date disponible dans le formulaire\, c’est que les responsables de créneau ne se sont pas encore inscrit⋅es ou que le créneau est complet. Revenez consulter prochainement ! \nInscription obligatoire via le formulaire\, jusqu’à midi la veille du créneau.\nJauge maximum de 10 personnes\nJeudi 18 juin 2026\, de 10h à 13h\, à Hyperlien
URL:https://hyperlien.net/event/latelier-des-hypernautes-juin26-5/
LOCATION:Hyperlien\, 5 allée Frida Kahlo\, Nantes\, 44 200
CATEGORIES:Atelier
ATTACH;FMTTYPE=image/png:https://hyperlien.net/wp-content/uploads/2025/07/image1-6.png
END:VEVENT
BEGIN:VEVENT
DTSTART;TZID=Europe/Paris:20260623T140000
DTEND;TZID=Europe/Paris:20260623T180000
DTSTAMP:20260421T003448
CREATED:20251202T155720Z
LAST-MODIFIED:20251202T155720Z
UID:4192-1782223200-1782237600@hyperlien.net
SUMMARY:L'Atelier des Hypernautes
DESCRIPTION:L’Atelier des Hypernautes\, qu’est-ce que c’est ? \nUn temps d’ouverture en autonomie du fablab ! L’atelier est encadré par un duo d’Hypernautes\, adhérent⋅es bénévoles de PiNG\, responsables du créneau\, formé⋅es à l’accueil et à la sécurité par PiNG. Le créneau est ouvert aux adhérent⋅es confirmé⋅es\, fréquentant déjà le fablab durant les OPENAteliers. On y vient pour travailler sur des machines dont on connaît a minima l’utilisation. \nLe créneau est ouvert uniquement si deux Hypernautes sont présent⋅es. Si vous ne voyez aucune date disponible dans le formulaire\, c’est que les responsables de créneau ne se sont pas encore inscrit⋅es ou que le créneau est complet. Revenez consulter prochainement ! \nInscription obligatoire via le formulaire\, jusqu’à midi la veille du créneau.\nMardi 23 juin 2026\, de 14h à 18h\, à Hyperlien
URL:https://hyperlien.net/event/latelier-des-hypernautes-juin26-6/
LOCATION:Hyperlien\, 5 allée Frida Kahlo\, Nantes\, 44 200
CATEGORIES:Atelier
ATTACH;FMTTYPE=image/png:https://hyperlien.net/wp-content/uploads/2025/07/image1-6.png
END:VEVENT
BEGIN:VEVENT
DTSTART;TZID=Europe/Paris:20260625T100000
DTEND;TZID=Europe/Paris:20260625T130000
DTSTAMP:20260421T003448
CREATED:20251202T162831Z
LAST-MODIFIED:20260306T144356Z
UID:4228-1782381600-1782392400@hyperlien.net
SUMMARY:L'Atelier des Hypernautes
DESCRIPTION:L’Atelier des Hypernautes\, qu’est-ce que c’est ? \nUn temps d’ouverture en autonomie du fablab ! L’atelier est encadré par un duo d’Hypernautes\, adhérent⋅es bénévoles de PiNG\, responsables du créneau\, formé⋅es à l’accueil et à la sécurité par PiNG. Le créneau est ouvert aux adhérent⋅es confirmé⋅es\, fréquentant déjà le fablab durant les OPENAteliers. On y vient pour travailler sur des machines dont on connaît a minima l’utilisation. \nLe créneau est ouvert uniquement si deux Hypernautes sont présent⋅es. Si vous ne voyez aucune date disponible dans le formulaire\, c’est que les responsables de créneau ne se sont pas encore inscrit⋅es ou que le créneau est complet. Revenez consulter prochainement ! \nInscription obligatoire via le formulaire\, jusqu’à midi la veille du créneau.\nJeudi 25 juin 2026\, de 10h à 13h\, à Hyperlien
URL:https://hyperlien.net/event/latelier-des-hypernautes-juin26-7-2/
LOCATION:Hyperlien\, 5 allée Frida Kahlo\, Nantes\, 44 200
CATEGORIES:Atelier
ATTACH;FMTTYPE=image/png:https://hyperlien.net/wp-content/uploads/2025/07/image1-6.png
END:VEVENT
END:VCALENDAR