BEGIN:VCALENDAR
VERSION:2.0
PRODID:-//Hyperlien - fablab à Nantes - ECPv6.15.20//NONSGML v1.0//EN
CALSCALE:GREGORIAN
METHOD:PUBLISH
X-ORIGINAL-URL:https://hyperlien.net
X-WR-CALDESC:Évènements pour Hyperlien - fablab à Nantes
REFRESH-INTERVAL;VALUE=DURATION:PT1H
X-Robots-Tag:noindex
X-PUBLISHED-TTL:PT1H
BEGIN:VTIMEZONE
TZID:Europe/Paris
BEGIN:DAYLIGHT
TZOFFSETFROM:+0100
TZOFFSETTO:+0200
TZNAME:CEST
DTSTART:20250330T010000
END:DAYLIGHT
BEGIN:STANDARD
TZOFFSETFROM:+0200
TZOFFSETTO:+0100
TZNAME:CET
DTSTART:20251026T010000
END:STANDARD
BEGIN:DAYLIGHT
TZOFFSETFROM:+0100
TZOFFSETTO:+0200
TZNAME:CEST
DTSTART:20260329T010000
END:DAYLIGHT
BEGIN:STANDARD
TZOFFSETFROM:+0200
TZOFFSETTO:+0100
TZNAME:CET
DTSTART:20261025T010000
END:STANDARD
BEGIN:DAYLIGHT
TZOFFSETFROM:+0100
TZOFFSETTO:+0200
TZNAME:CEST
DTSTART:20270328T010000
END:DAYLIGHT
BEGIN:STANDARD
TZOFFSETFROM:+0200
TZOFFSETTO:+0100
TZNAME:CET
DTSTART:20271031T010000
END:STANDARD
END:VTIMEZONE
BEGIN:VEVENT
DTSTART;TZID=Europe/Paris:20260421T170000
DTEND;TZID=Europe/Paris:20260421T200000
DTSTAMP:20260420T013052
CREATED:20251205T102315Z
LAST-MODIFIED:20251205T102315Z
UID:4369-1776790800-1776801600@hyperlien.net
SUMMARY:Initiation à la découpe laser
DESCRIPTION:Pour être autorisé⋅e à utiliser la découpeuse laser lors des OPENateliers\, il est nécessaire d’avoir quelques connaissances en matière de technique\, d’usages et de sécurité. En 3h\, initiez-vous à la machine et aux bases de préparation des fichiers ! \nAu programme : découverte d’Inkscape\, logiciel libre utilisé à Hyperlien pour les machines à commande numérique puis appréhension de la découpeuse laser (matériaux\, possibilités créatives\, etc.) avec exercice pratique. \n30€ par personne\, sur réservation en cliquant ici\nOuvert aux adhérent⋅es de PiNG : cliquez ici pour ré-adhérer en ligne pour 2026\nMardi 21 avril 2026\, de 17h à 20h\, à Hyperlien
URL:https://hyperlien.net/event/initiation-a-la-decoupe-laser-avril26/
LOCATION:Hyperlien\, 5 allée Frida Kahlo\, Nantes\, 44 200
CATEGORIES:Initiation
ATTACH;FMTTYPE=image/jpeg:https://hyperlien.net/wp-content/uploads/2025/01/IMG_2695R-scaled.jpg
END:VEVENT
END:VCALENDAR