BEGIN:VCALENDAR
VERSION:2.0
PRODID:-//Hyperlien - fablab à Nantes - ECPv6.15.20//NONSGML v1.0//EN
CALSCALE:GREGORIAN
METHOD:PUBLISH
X-ORIGINAL-URL:https://hyperlien.net
X-WR-CALDESC:Évènements pour Hyperlien - fablab à Nantes
REFRESH-INTERVAL;VALUE=DURATION:PT1H
X-Robots-Tag:noindex
X-PUBLISHED-TTL:PT1H
BEGIN:VTIMEZONE
TZID:Europe/Paris
BEGIN:DAYLIGHT
TZOFFSETFROM:+0100
TZOFFSETTO:+0200
TZNAME:CEST
DTSTART:20250330T010000
END:DAYLIGHT
BEGIN:STANDARD
TZOFFSETFROM:+0200
TZOFFSETTO:+0100
TZNAME:CET
DTSTART:20251026T010000
END:STANDARD
BEGIN:DAYLIGHT
TZOFFSETFROM:+0100
TZOFFSETTO:+0200
TZNAME:CEST
DTSTART:20260329T010000
END:DAYLIGHT
BEGIN:STANDARD
TZOFFSETFROM:+0200
TZOFFSETTO:+0100
TZNAME:CET
DTSTART:20261025T010000
END:STANDARD
BEGIN:DAYLIGHT
TZOFFSETFROM:+0100
TZOFFSETTO:+0200
TZNAME:CEST
DTSTART:20270328T010000
END:DAYLIGHT
BEGIN:STANDARD
TZOFFSETFROM:+0200
TZOFFSETTO:+0100
TZNAME:CET
DTSTART:20271031T010000
END:STANDARD
END:VTIMEZONE
BEGIN:VEVENT
DTSTART;TZID=Europe/Paris:20260528T190000
DTEND;TZID=Europe/Paris:20260528T210000
DTSTAMP:20260419T232934
CREATED:20260309T094945Z
LAST-MODIFIED:20260407T153548Z
UID:4552-1779994800-1780002000@hyperlien.net
SUMMARY:Présentation du Festival Nantes Maker Campus
DESCRIPTION:Le festival Nantes Maker Campus fête ses 10 ans\, du 5 au 7 juin 2026. Vous souhaitez en savoir un peu plus ? Nous vous invitons à la soirée de présentation du festival à Hyperlien.\nVenez découvrir les makers et projets présentés pour cette 10e édition ! \nEntrée libre\nJeudi 28 mai 2026\, de 19h à 21h\nHyperlien\, Halles 1&2\, 5 allée Frida Kahlo\, 44 200 Nantes
URL:https://hyperlien.net/event/presentation-du-festival-nantes-maker-campus/
LOCATION:Hyperlien\, 5 allée Frida Kahlo\, Nantes\, 44 200
ATTACH;FMTTYPE=image/png:https://hyperlien.net/wp-content/uploads/2026/03/Visuel-NMC.png
END:VEVENT
BEGIN:VEVENT
DTSTART;TZID=Europe/Paris:20260605T140000
DTEND;TZID=Europe/Paris:20260607T190000
DTSTAMP:20260419T232934
CREATED:20260407T153426Z
LAST-MODIFIED:20260407T153426Z
UID:4556-1780668000-1780858800@hyperlien.net
SUMMARY:OPENateliers spécial Nantes Maker Campus
DESCRIPTION:Cœur de l’activité de PiNG\, les OPENateliers sont des temps d’échange et de pratique où les adhérent·es\, encadré·es et conseillé·es par les animateurs·rices\, sont les bienvenu·es pour travailler\, créer\, réparer\, créer ou bricoler avec les équipements mis à disposition.\n\nExceptionnellement à l’occasion de la 10e édition de Nantes Maker Campus\, venez créer\, bricoler\, réparer pendant 3 jours d’affilée à Hyperlien ! \nAvec ou sans inspiration\, libre à vous de vous installer dans le fablab d’Hyperlien\, de vous familiariser avec les machines à commande numérique et de rencontrer les adhérent⋅es !\nPour découvrir les machines et équipements disponibles\, cliquez ici. \nEn parallèle\, retrouvez le stand d’Hyperlien sous les nefs au festival ! Nous vous attendons nombreux⋅euses dans ces deux lieux ! \nEntrée libre\nAccès aux machines sur adhésion à l’association\nVendredi 5\, Samedi 6 et Dimanche 7 juin\, de 14h à 19h\nHyperlien\, Halles 1&2\, 5 allée Frida Kahlo\, 44 200 Nantes
URL:https://hyperlien.net/event/openateliers-special-nantes-maker-campus/
LOCATION:Hyperlien\, 5 allée Frida Kahlo\, Nantes\, 44 200
CATEGORIES:Atelier
ATTACH;FMTTYPE=image/png:https://hyperlien.net/wp-content/uploads/2026/03/OA-special-NMC-photoweb.png
END:VEVENT
END:VCALENDAR