BEGIN:VCALENDAR
VERSION:2.0
PRODID:-//Hyperlien - fablab à Nantes - ECPv6.15.20//NONSGML v1.0//EN
CALSCALE:GREGORIAN
METHOD:PUBLISH
X-ORIGINAL-URL:https://hyperlien.net
X-WR-CALDESC:Évènements pour Hyperlien - fablab à Nantes
REFRESH-INTERVAL;VALUE=DURATION:PT1H
X-Robots-Tag:noindex
X-PUBLISHED-TTL:PT1H
BEGIN:VTIMEZONE
TZID:Europe/Paris
BEGIN:DAYLIGHT
TZOFFSETFROM:+0100
TZOFFSETTO:+0200
TZNAME:CEST
DTSTART:20250330T010000
END:DAYLIGHT
BEGIN:STANDARD
TZOFFSETFROM:+0200
TZOFFSETTO:+0100
TZNAME:CET
DTSTART:20251026T010000
END:STANDARD
BEGIN:DAYLIGHT
TZOFFSETFROM:+0100
TZOFFSETTO:+0200
TZNAME:CEST
DTSTART:20260329T010000
END:DAYLIGHT
BEGIN:STANDARD
TZOFFSETFROM:+0200
TZOFFSETTO:+0100
TZNAME:CET
DTSTART:20261025T010000
END:STANDARD
BEGIN:DAYLIGHT
TZOFFSETFROM:+0100
TZOFFSETTO:+0200
TZNAME:CEST
DTSTART:20270328T010000
END:DAYLIGHT
BEGIN:STANDARD
TZOFFSETFROM:+0200
TZOFFSETTO:+0100
TZNAME:CET
DTSTART:20271031T010000
END:STANDARD
END:VTIMEZONE
BEGIN:VEVENT
DTSTART;TZID=Europe/Paris:20260210T093000
DTEND;TZID=Europe/Paris:20260210T170000
DTSTAMP:20260421T174925
CREATED:20251205T090647Z
LAST-MODIFIED:20260109T164306Z
UID:4343-1770715800-1770742800@hyperlien.net
SUMMARY:Forum de la médiation numérique
DESCRIPTION:Vous êtes médiateur·ice numérique\, conseiller·ère numérique\, bénévole\, aidant·e\, animateur·ices ou militant·e ? Vous accompagnez des personnes qui se sentent éloignées du numérique ? Vous êtes désigné·e de différentes façons mais vous faites le même métier ? Vous souhaitez échanger\, apprendre et créer des propositions pour la médiation numérique ? \nRejoignez-nous au Forum Ouvert des acteurs de la la médiation numérique des Pays de la Loire ! \nDans le cadre de l’animation des réseaux proposés aux professionnel⋅les de la médiation numérique\, le Hub CONUMM\, l’association PING et Nantes Métropole\, organisent un Forum Ouvert où chacun·e sera libre de proposer ses sujets pour construire ensemble la programmation sous forme d’ateliers. L’occasion de vivre une journée pleine de réflexions\, de rencontres et de pratiques inspirantes. \nProgramme à venir prochainement ! \nVous avez soif d’idées nouvelles ou peut-être vous souhaitez simplement échanger avec vos pairs et faire émerger des idées et de projet communs ? L’événement est ouvert à tous·tes : médiateur·ice numérique\, conseiller·ère numérique\, bénévole\, aidant·e\, animateur·ices\, militant·e\, curieux·euse. \nAccessible sur inscription\nMardi 10 février\, de 9h30 à 17h
URL:https://hyperlien.net/event/forum-de-la-mediation-numerique/
LOCATION:Hyperlien\, 5 allée Frida Kahlo\, Nantes\, 44 200
ATTACH;FMTTYPE=image/jpeg:https://hyperlien.net/wp-content/uploads/2025/12/forum-med-num.jpg
END:VEVENT
END:VCALENDAR