BEGIN:VCALENDAR
VERSION:2.0
PRODID:-//Hyperlien - fablab à Nantes - ECPv6.15.20//NONSGML v1.0//EN
CALSCALE:GREGORIAN
METHOD:PUBLISH
X-ORIGINAL-URL:https://hyperlien.net
X-WR-CALDESC:Évènements pour Hyperlien - fablab à Nantes
REFRESH-INTERVAL;VALUE=DURATION:PT1H
X-Robots-Tag:noindex
X-PUBLISHED-TTL:PT1H
BEGIN:VTIMEZONE
TZID:Europe/Paris
BEGIN:DAYLIGHT
TZOFFSETFROM:+0100
TZOFFSETTO:+0200
TZNAME:CEST
DTSTART:20250330T010000
END:DAYLIGHT
BEGIN:STANDARD
TZOFFSETFROM:+0200
TZOFFSETTO:+0100
TZNAME:CET
DTSTART:20251026T010000
END:STANDARD
BEGIN:DAYLIGHT
TZOFFSETFROM:+0100
TZOFFSETTO:+0200
TZNAME:CEST
DTSTART:20260329T010000
END:DAYLIGHT
BEGIN:STANDARD
TZOFFSETFROM:+0200
TZOFFSETTO:+0100
TZNAME:CET
DTSTART:20261025T010000
END:STANDARD
BEGIN:DAYLIGHT
TZOFFSETFROM:+0100
TZOFFSETTO:+0200
TZNAME:CEST
DTSTART:20270328T010000
END:DAYLIGHT
BEGIN:STANDARD
TZOFFSETFROM:+0200
TZOFFSETTO:+0100
TZNAME:CET
DTSTART:20271031T010000
END:STANDARD
END:VTIMEZONE
BEGIN:VEVENT
DTSTART;TZID=Europe/Paris:20260423T140000
DTEND;TZID=Europe/Paris:20260423T200000
DTSTAMP:20260421T071113
CREATED:20260306T141956Z
LAST-MODIFIED:20260306T142322Z
UID:4504-1776952800-1776974400@hyperlien.net
SUMMARY:OPENAtelier de PiNG
DESCRIPTION:Cœur de l’activité de PiNG\, les OPENateliers sont des temps d’échange et de pratique où les adhérent·es\, encadré·es et conseillé·es par les animateurs·rices\, sont les bienvenu·es pour travailler\, créer\, réparer\, créer ou bricoler avec les équipements mis à disposition. \nAvec ou sans inspiration\, libre à vous de vous installer dans le fablab d’Hyperlien\, de vous familiariser avec les machines à commande numérique et de rencontrer les adhérent⋅es ! \nPour découvrir les machines et équipements disponibles\, cliquez ici. \nJeudi 23 avril 2026\, de 14h à 20h à Hyperlien\nAccessible sur adhésion à PiNG
URL:https://hyperlien.net/event/openatelier-de-ping-avril26-4/
LOCATION:Hyperlien\, 5 allée Frida Kahlo\, Nantes\, 44 200
CATEGORIES:Atelier
ATTACH;FMTTYPE=image/jpeg:https://hyperlien.net/wp-content/uploads/2025/09/IMG_3738low.jpg
END:VEVENT
BEGIN:VEVENT
DTSTART;TZID=Europe/Paris:20260430T140000
DTEND;TZID=Europe/Paris:20260430T200000
DTSTAMP:20260421T071113
CREATED:20260306T142009Z
LAST-MODIFIED:20260306T142315Z
UID:4503-1777557600-1777579200@hyperlien.net
SUMMARY:OPENAtelier de PiNG
DESCRIPTION:Cœur de l’activité de PiNG\, les OPENateliers sont des temps d’échange et de pratique où les adhérent·es\, encadré·es et conseillé·es par les animateurs·rices\, sont les bienvenu·es pour travailler\, créer\, réparer\, créer ou bricoler avec les équipements mis à disposition. \nAvec ou sans inspiration\, libre à vous de vous installer dans le fablab d’Hyperlien\, de vous familiariser avec les machines à commande numérique et de rencontrer les adhérent⋅es ! \nPour découvrir les machines et équipements disponibles\, cliquez ici. \nJeudi 30 avril 2026\, de 14h à 20h à Hyperlien\nAccessible sur adhésion à PiNG
URL:https://hyperlien.net/event/openatelier-de-ping-avril26-5/
LOCATION:Hyperlien\, 5 allée Frida Kahlo\, Nantes\, 44 200
CATEGORIES:Atelier
ATTACH;FMTTYPE=image/jpeg:https://hyperlien.net/wp-content/uploads/2025/09/IMG_3738low.jpg
END:VEVENT
END:VCALENDAR