BEGIN:VCALENDAR
VERSION:2.0
PRODID:-//Hyperlien - fablab à Nantes - ECPv6.15.20//NONSGML v1.0//EN
CALSCALE:GREGORIAN
METHOD:PUBLISH
X-ORIGINAL-URL:https://hyperlien.net
X-WR-CALDESC:Évènements pour Hyperlien - fablab à Nantes
REFRESH-INTERVAL;VALUE=DURATION:PT1H
X-Robots-Tag:noindex
X-PUBLISHED-TTL:PT1H
BEGIN:VTIMEZONE
TZID:Europe/Paris
BEGIN:DAYLIGHT
TZOFFSETFROM:+0100
TZOFFSETTO:+0200
TZNAME:CEST
DTSTART:20250330T010000
END:DAYLIGHT
BEGIN:STANDARD
TZOFFSETFROM:+0200
TZOFFSETTO:+0100
TZNAME:CET
DTSTART:20251026T010000
END:STANDARD
BEGIN:DAYLIGHT
TZOFFSETFROM:+0100
TZOFFSETTO:+0200
TZNAME:CEST
DTSTART:20260329T010000
END:DAYLIGHT
BEGIN:STANDARD
TZOFFSETFROM:+0200
TZOFFSETTO:+0100
TZNAME:CET
DTSTART:20261025T010000
END:STANDARD
BEGIN:DAYLIGHT
TZOFFSETFROM:+0100
TZOFFSETTO:+0200
TZNAME:CEST
DTSTART:20270328T010000
END:DAYLIGHT
BEGIN:STANDARD
TZOFFSETFROM:+0200
TZOFFSETTO:+0100
TZNAME:CET
DTSTART:20271031T010000
END:STANDARD
END:VTIMEZONE
BEGIN:VEVENT
DTSTART;TZID=Europe/Paris:20260611T183000
DTEND;TZID=Europe/Paris:20260611T193000
DTSTAMP:20260421T052327
CREATED:20260413T142903Z
LAST-MODIFIED:20260413T142903Z
UID:4624-1781202600-1781206200@hyperlien.net
SUMMARY:Visite d'Hyperlien
DESCRIPTION:Partez à la découverte d’Hyperlien\, la maison commune des cultures numériques\, gérée par PiNG et co-animée avec le Humanlab de l’APAJH 44 et la Maison du Libre\, sur l’île de Nantes ! \nSuivez le guide ! Durant une heure\, un·e membre de l’équipe vous emmène à la découverte de tous les recoins d’un lieu foisonnant et ouvert à toutes et à tous : à la fois atelier de fabrication\, espace de formation et de transmission et lieu ressource. Vous découvrirez les espaces\, les outils et les machines. Hyperlien et sa communauté n’auront plus de secrets pour vous ! \nLe jeudi 11 juin 2026\, de 18h30 à 19h30\, \nà Hyperlien\, Halles 1 & 2\, 5 allée Frida Kahlo\, Nantes\nEntrée libre \n 
URL:https://hyperlien.net/event/visite-dhyperlien-2/
LOCATION:Hyperlien\, 5 allée Frida Kahlo\, Nantes\, 44 200
CATEGORIES:Visite
ATTACH;FMTTYPE=image/jpeg:https://hyperlien.net/wp-content/uploads/2023/07/IMG_20230705_153025-1-scaled.jpg
END:VEVENT
END:VCALENDAR